BEGIN:VCALENDAR
VERSION:2.0
PRODID:-//Ross-Chillicothe Convention &amp; Visitors Bureau - ECPv6.15.20//NONSGML v1.0//EN
CALSCALE:GREGORIAN
METHOD:PUBLISH
X-ORIGINAL-URL:https://visitchillicotheohio.com
X-WR-CALDESC:Events for Ross-Chillicothe Convention &amp; Visitors Bureau
REFRESH-INTERVAL;VALUE=DURATION:PT1H
X-Robots-Tag:noindex
X-PUBLISHED-TTL:PT1H
BEGIN:VTIMEZONE
TZID:America/New_York
BEGIN:DAYLIGHT
TZOFFSETFROM:-0500
TZOFFSETTO:-0400
TZNAME:EDT
DTSTART:20230312T070000
END:DAYLIGHT
BEGIN:STANDARD
TZOFFSETFROM:-0400
TZOFFSETTO:-0500
TZNAME:EST
DTSTART:20231105T060000
END:STANDARD
BEGIN:DAYLIGHT
TZOFFSETFROM:-0500
TZOFFSETTO:-0400
TZNAME:EDT
DTSTART:20240310T070000
END:DAYLIGHT
BEGIN:STANDARD
TZOFFSETFROM:-0400
TZOFFSETTO:-0500
TZNAME:EST
DTSTART:20241103T060000
END:STANDARD
BEGIN:DAYLIGHT
TZOFFSETFROM:-0500
TZOFFSETTO:-0400
TZNAME:EDT
DTSTART:20250309T070000
END:DAYLIGHT
BEGIN:STANDARD
TZOFFSETFROM:-0400
TZOFFSETTO:-0500
TZNAME:EST
DTSTART:20251102T060000
END:STANDARD
END:VTIMEZONE
BEGIN:VEVENT
DTSTART;TZID=America/New_York:20240922T120000
DTEND;TZID=America/New_York:20240922T160000
DTSTAMP:20260423T081609
CREATED:20240910T192734Z
LAST-MODIFIED:20240910T192734Z
UID:10045227-1727006400-1727020800@visitchillicotheohio.com
SUMMARY:Kiwanis Kid's Day
DESCRIPTION:The Chillicothe Kiwanis Club is presenting their Kiwanis Kid’s Day on September 22\, 2024 from 12 noon until 4pm at the Kiwanis Shelter in Yoctangee Park.  The Kiwanis Shelter is located across the bridge in the park on the backside of the YMCA. So many fun things to do \n\n* Bounce House\n* Petland Petting Zoo\n* Adena Mobile unit\n* Pot a plant\n* Sand Art\n* Ross Co. Sheriff’s Dept. child identification\n* Paw Patrol\n* DJ Hazel\n* Children’s Karaoke contest\n* much more
URL:https://visitchillicotheohio.com/event/kiwanis-kids-day-2/
LOCATION:Yoctangee Park – Kiwanis Shelter\, Chillicothe\, 45601\, United States
CATEGORIES:App Event,Event,Featured Event
ATTACH;FMTTYPE=image/png:https://visitchillicotheohio.com/wp-content/uploads/2024/09/Kiwanis-4.png
GEO:39.3331197;-82.9824019
END:VEVENT
BEGIN:VEVENT
DTSTART;TZID=America/New_York:20240817T110000
DTEND;TZID=America/New_York:20240817T150000
DTSTAMP:20260423T081609
CREATED:20240814T175738Z
LAST-MODIFIED:20240814T175738Z
UID:10045198-1723892400-1723906800@visitchillicotheohio.com
SUMMARY:Kiwanis Kid's Day
DESCRIPTION:The Kiwanis Club of Chillicothe is excited to announce a fun-filled Kid’s Day event on Saturday\, August 17th\, 2024\, from 11:00 AM to 3:00 PM. The event will be held at the Kiwanis Shelter in Yoctangee Park and promises a day packed with activities and entertainment for children of all ages.The day’s lineup includes a variety of engaging and creative activities:• Bounce House: Kids can jump and play to their heart’s content.• Rock Painting: Let your creativity shine with colorful rock painting.• Sand Art: Create beautiful and unique sand art masterpieces.• Pot a Plant: Learn about gardening and take home a potted plant.• Mobile Library: Explore books and enjoy storytelling sessions.• Petting Zoo: Interact with friendly animals at the petting zoo.• Children’s Fingerprint Identification: Courtesy of the Ross County Sheriff’s Department\, this important service will help ensure the safety of your children.• Special Appearance by the Paw Patrol: Meet and greet your favorite characters from Paw Patrol.The event is designed to provide a safe\, enjoyable\, and educational environment for children while fostering a sense of community. In addition to the scheduled activities\, there will be many other surprises and fun opportunities throughout the day.
URL:https://visitchillicotheohio.com/event/kiwanis-kids-day/
LOCATION:Yoctangee Park – Kiwanis Shelter\, Chillicothe\, 45601\, United States
CATEGORIES:App Event,Event,Featured Event
ATTACH;FMTTYPE=image/png:https://visitchillicotheohio.com/wp-content/uploads/2024/08/Kiwanis-1.png
GEO:39.3331197;-82.9824019
END:VEVENT
END:VCALENDAR