BEGIN:VCALENDAR
VERSION:2.0
PRODID:-//Ross-Chillicothe Convention &amp; Visitors Bureau - ECPv6.15.20//NONSGML v1.0//EN
CALSCALE:GREGORIAN
METHOD:PUBLISH
X-ORIGINAL-URL:https://visitchillicotheohio.com
X-WR-CALDESC:Events for Ross-Chillicothe Convention &amp; Visitors Bureau
REFRESH-INTERVAL;VALUE=DURATION:PT1H
X-Robots-Tag:noindex
X-PUBLISHED-TTL:PT1H
BEGIN:VTIMEZONE
TZID:America/New_York
BEGIN:DAYLIGHT
TZOFFSETFROM:-0500
TZOFFSETTO:-0400
TZNAME:EDT
DTSTART:20250309T070000
END:DAYLIGHT
BEGIN:STANDARD
TZOFFSETFROM:-0400
TZOFFSETTO:-0500
TZNAME:EST
DTSTART:20251102T060000
END:STANDARD
BEGIN:DAYLIGHT
TZOFFSETFROM:-0500
TZOFFSETTO:-0400
TZNAME:EDT
DTSTART:20260308T070000
END:DAYLIGHT
BEGIN:STANDARD
TZOFFSETFROM:-0400
TZOFFSETTO:-0500
TZNAME:EST
DTSTART:20261101T060000
END:STANDARD
BEGIN:DAYLIGHT
TZOFFSETFROM:-0500
TZOFFSETTO:-0400
TZNAME:EDT
DTSTART:20270314T070000
END:DAYLIGHT
BEGIN:STANDARD
TZOFFSETFROM:-0400
TZOFFSETTO:-0500
TZNAME:EST
DTSTART:20271107T060000
END:STANDARD
END:VTIMEZONE
BEGIN:VEVENT
DTSTART;TZID=America/New_York:20260825T200000
DTEND;TZID=America/New_York:20260825T223000
DTSTAMP:20260421T172213
CREATED:20260209T210717Z
LAST-MODIFIED:20260209T210824Z
UID:10047471-1787688000-1787697000@visitchillicotheohio.com
SUMMARY:"Tecumseh!" Outdoor Drama
DESCRIPTION:Witness the epic life story of the legendary Shawnee leader as he struggles to defend his sacred homelands in the Ohio country during the late 1700’s. TECUMSEH! has been labeled as one of the most mesmerizing dramas in the nation. \nThe huge\, outdoor stages of the Sugarloaf Mountain Amphitheatre afford the audience a unique viewing experience. Sit beneath the stars as sheer spectacle surrounds you with a herd of galloping horses\, live military cannon in action\, and the most dazzling battle sequences offered on the American stage. \nOften emulated within the outdoor drama industry\, TECUMSEH! continues to set the standard for innovative production techniques. Over 100 people are involved each summer in bringing this exciting drama to life. The sights and sounds of natural elements serve to heighten this one-of-a-kind theatrical experience.
URL:https://visitchillicotheohio.com/event/tecumseh-outdoor-drama/2026-08-25/
LOCATION:Sugarloaf Mountain Amphitheatre\, 5968 Marietta Road\, Chillicothe\, OH\, 45601\, United States
CATEGORIES:Event,Featured Event
ATTACH;FMTTYPE=image/jpeg:https://visitchillicotheohio.com/wp-content/uploads/2022/06/tecumseh.jpg
GEO:39.4058633;-82.9336402
X-APPLE-STRUCTURED-LOCATION;VALUE=URI;X-ADDRESS=Sugarloaf Mountain Amphitheatre 5968 Marietta Road Chillicothe OH 45601 United States;X-APPLE-RADIUS=500;X-TITLE=5968 Marietta Road:geo:-82.9336402,39.4058633
END:VEVENT
BEGIN:VEVENT
DTSTART;TZID=America/New_York:20260826T200000
DTEND;TZID=America/New_York:20260826T223000
DTSTAMP:20260421T172213
CREATED:20260209T210717Z
LAST-MODIFIED:20260209T210824Z
UID:10047472-1787774400-1787783400@visitchillicotheohio.com
SUMMARY:"Tecumseh!" Outdoor Drama
DESCRIPTION:Witness the epic life story of the legendary Shawnee leader as he struggles to defend his sacred homelands in the Ohio country during the late 1700’s. TECUMSEH! has been labeled as one of the most mesmerizing dramas in the nation. \nThe huge\, outdoor stages of the Sugarloaf Mountain Amphitheatre afford the audience a unique viewing experience. Sit beneath the stars as sheer spectacle surrounds you with a herd of galloping horses\, live military cannon in action\, and the most dazzling battle sequences offered on the American stage. \nOften emulated within the outdoor drama industry\, TECUMSEH! continues to set the standard for innovative production techniques. Over 100 people are involved each summer in bringing this exciting drama to life. The sights and sounds of natural elements serve to heighten this one-of-a-kind theatrical experience.
URL:https://visitchillicotheohio.com/event/tecumseh-outdoor-drama/2026-08-26/
LOCATION:Sugarloaf Mountain Amphitheatre\, 5968 Marietta Road\, Chillicothe\, OH\, 45601\, United States
CATEGORIES:Event,Featured Event
ATTACH;FMTTYPE=image/jpeg:https://visitchillicotheohio.com/wp-content/uploads/2022/06/tecumseh.jpg
GEO:39.4058633;-82.9336402
X-APPLE-STRUCTURED-LOCATION;VALUE=URI;X-ADDRESS=Sugarloaf Mountain Amphitheatre 5968 Marietta Road Chillicothe OH 45601 United States;X-APPLE-RADIUS=500;X-TITLE=5968 Marietta Road:geo:-82.9336402,39.4058633
END:VEVENT
BEGIN:VEVENT
DTSTART;TZID=America/New_York:20260827T200000
DTEND;TZID=America/New_York:20260827T223000
DTSTAMP:20260421T172213
CREATED:20260209T210717Z
LAST-MODIFIED:20260209T210824Z
UID:10047473-1787860800-1787869800@visitchillicotheohio.com
SUMMARY:"Tecumseh!" Outdoor Drama
DESCRIPTION:Witness the epic life story of the legendary Shawnee leader as he struggles to defend his sacred homelands in the Ohio country during the late 1700’s. TECUMSEH! has been labeled as one of the most mesmerizing dramas in the nation. \nThe huge\, outdoor stages of the Sugarloaf Mountain Amphitheatre afford the audience a unique viewing experience. Sit beneath the stars as sheer spectacle surrounds you with a herd of galloping horses\, live military cannon in action\, and the most dazzling battle sequences offered on the American stage. \nOften emulated within the outdoor drama industry\, TECUMSEH! continues to set the standard for innovative production techniques. Over 100 people are involved each summer in bringing this exciting drama to life. The sights and sounds of natural elements serve to heighten this one-of-a-kind theatrical experience.
URL:https://visitchillicotheohio.com/event/tecumseh-outdoor-drama/2026-08-27/
LOCATION:Sugarloaf Mountain Amphitheatre\, 5968 Marietta Road\, Chillicothe\, OH\, 45601\, United States
CATEGORIES:Event,Featured Event
ATTACH;FMTTYPE=image/jpeg:https://visitchillicotheohio.com/wp-content/uploads/2022/06/tecumseh.jpg
GEO:39.4058633;-82.9336402
X-APPLE-STRUCTURED-LOCATION;VALUE=URI;X-ADDRESS=Sugarloaf Mountain Amphitheatre 5968 Marietta Road Chillicothe OH 45601 United States;X-APPLE-RADIUS=500;X-TITLE=5968 Marietta Road:geo:-82.9336402,39.4058633
END:VEVENT
BEGIN:VEVENT
DTSTART;TZID=America/New_York:20260828T200000
DTEND;TZID=America/New_York:20260828T223000
DTSTAMP:20260421T172213
CREATED:20260209T210717Z
LAST-MODIFIED:20260209T210824Z
UID:10047474-1787947200-1787956200@visitchillicotheohio.com
SUMMARY:"Tecumseh!" Outdoor Drama
DESCRIPTION:Witness the epic life story of the legendary Shawnee leader as he struggles to defend his sacred homelands in the Ohio country during the late 1700’s. TECUMSEH! has been labeled as one of the most mesmerizing dramas in the nation. \nThe huge\, outdoor stages of the Sugarloaf Mountain Amphitheatre afford the audience a unique viewing experience. Sit beneath the stars as sheer spectacle surrounds you with a herd of galloping horses\, live military cannon in action\, and the most dazzling battle sequences offered on the American stage. \nOften emulated within the outdoor drama industry\, TECUMSEH! continues to set the standard for innovative production techniques. Over 100 people are involved each summer in bringing this exciting drama to life. The sights and sounds of natural elements serve to heighten this one-of-a-kind theatrical experience.
URL:https://visitchillicotheohio.com/event/tecumseh-outdoor-drama/2026-08-28/
LOCATION:Sugarloaf Mountain Amphitheatre\, 5968 Marietta Road\, Chillicothe\, OH\, 45601\, United States
CATEGORIES:Event,Featured Event
ATTACH;FMTTYPE=image/jpeg:https://visitchillicotheohio.com/wp-content/uploads/2022/06/tecumseh.jpg
GEO:39.4058633;-82.9336402
X-APPLE-STRUCTURED-LOCATION;VALUE=URI;X-ADDRESS=Sugarloaf Mountain Amphitheatre 5968 Marietta Road Chillicothe OH 45601 United States;X-APPLE-RADIUS=500;X-TITLE=5968 Marietta Road:geo:-82.9336402,39.4058633
END:VEVENT
BEGIN:VEVENT
DTSTART;TZID=America/New_York:20260829T200000
DTEND;TZID=America/New_York:20260829T223000
DTSTAMP:20260421T172213
CREATED:20260209T210717Z
LAST-MODIFIED:20260209T210824Z
UID:10047475-1788033600-1788042600@visitchillicotheohio.com
SUMMARY:"Tecumseh!" Outdoor Drama
DESCRIPTION:Witness the epic life story of the legendary Shawnee leader as he struggles to defend his sacred homelands in the Ohio country during the late 1700’s. TECUMSEH! has been labeled as one of the most mesmerizing dramas in the nation. \nThe huge\, outdoor stages of the Sugarloaf Mountain Amphitheatre afford the audience a unique viewing experience. Sit beneath the stars as sheer spectacle surrounds you with a herd of galloping horses\, live military cannon in action\, and the most dazzling battle sequences offered on the American stage. \nOften emulated within the outdoor drama industry\, TECUMSEH! continues to set the standard for innovative production techniques. Over 100 people are involved each summer in bringing this exciting drama to life. The sights and sounds of natural elements serve to heighten this one-of-a-kind theatrical experience.
URL:https://visitchillicotheohio.com/event/tecumseh-outdoor-drama/2026-08-29/
LOCATION:Sugarloaf Mountain Amphitheatre\, 5968 Marietta Road\, Chillicothe\, OH\, 45601\, United States
CATEGORIES:Event,Featured Event
ATTACH;FMTTYPE=image/jpeg:https://visitchillicotheohio.com/wp-content/uploads/2022/06/tecumseh.jpg
GEO:39.4058633;-82.9336402
X-APPLE-STRUCTURED-LOCATION;VALUE=URI;X-ADDRESS=Sugarloaf Mountain Amphitheatre 5968 Marietta Road Chillicothe OH 45601 United States;X-APPLE-RADIUS=500;X-TITLE=5968 Marietta Road:geo:-82.9336402,39.4058633
END:VEVENT
BEGIN:VEVENT
DTSTART;TZID=America/New_York:20260901T200000
DTEND;TZID=America/New_York:20260901T223000
DTSTAMP:20260421T172213
CREATED:20260209T210717Z
LAST-MODIFIED:20260209T210824Z
UID:10047476-1788292800-1788301800@visitchillicotheohio.com
SUMMARY:"Tecumseh!" Outdoor Drama
DESCRIPTION:Witness the epic life story of the legendary Shawnee leader as he struggles to defend his sacred homelands in the Ohio country during the late 1700’s. TECUMSEH! has been labeled as one of the most mesmerizing dramas in the nation. \nThe huge\, outdoor stages of the Sugarloaf Mountain Amphitheatre afford the audience a unique viewing experience. Sit beneath the stars as sheer spectacle surrounds you with a herd of galloping horses\, live military cannon in action\, and the most dazzling battle sequences offered on the American stage. \nOften emulated within the outdoor drama industry\, TECUMSEH! continues to set the standard for innovative production techniques. Over 100 people are involved each summer in bringing this exciting drama to life. The sights and sounds of natural elements serve to heighten this one-of-a-kind theatrical experience.
URL:https://visitchillicotheohio.com/event/tecumseh-outdoor-drama/2026-09-01/
LOCATION:Sugarloaf Mountain Amphitheatre\, 5968 Marietta Road\, Chillicothe\, OH\, 45601\, United States
CATEGORIES:Event,Featured Event
ATTACH;FMTTYPE=image/jpeg:https://visitchillicotheohio.com/wp-content/uploads/2022/06/tecumseh.jpg
GEO:39.4058633;-82.9336402
X-APPLE-STRUCTURED-LOCATION;VALUE=URI;X-ADDRESS=Sugarloaf Mountain Amphitheatre 5968 Marietta Road Chillicothe OH 45601 United States;X-APPLE-RADIUS=500;X-TITLE=5968 Marietta Road:geo:-82.9336402,39.4058633
END:VEVENT
BEGIN:VEVENT
DTSTART;TZID=America/New_York:20260902T200000
DTEND;TZID=America/New_York:20260902T223000
DTSTAMP:20260421T172213
CREATED:20260209T210717Z
LAST-MODIFIED:20260209T210824Z
UID:10047477-1788379200-1788388200@visitchillicotheohio.com
SUMMARY:"Tecumseh!" Outdoor Drama
DESCRIPTION:Witness the epic life story of the legendary Shawnee leader as he struggles to defend his sacred homelands in the Ohio country during the late 1700’s. TECUMSEH! has been labeled as one of the most mesmerizing dramas in the nation. \nThe huge\, outdoor stages of the Sugarloaf Mountain Amphitheatre afford the audience a unique viewing experience. Sit beneath the stars as sheer spectacle surrounds you with a herd of galloping horses\, live military cannon in action\, and the most dazzling battle sequences offered on the American stage. \nOften emulated within the outdoor drama industry\, TECUMSEH! continues to set the standard for innovative production techniques. Over 100 people are involved each summer in bringing this exciting drama to life. The sights and sounds of natural elements serve to heighten this one-of-a-kind theatrical experience.
URL:https://visitchillicotheohio.com/event/tecumseh-outdoor-drama/2026-09-02/
LOCATION:Sugarloaf Mountain Amphitheatre\, 5968 Marietta Road\, Chillicothe\, OH\, 45601\, United States
CATEGORIES:Event,Featured Event
ATTACH;FMTTYPE=image/jpeg:https://visitchillicotheohio.com/wp-content/uploads/2022/06/tecumseh.jpg
GEO:39.4058633;-82.9336402
X-APPLE-STRUCTURED-LOCATION;VALUE=URI;X-ADDRESS=Sugarloaf Mountain Amphitheatre 5968 Marietta Road Chillicothe OH 45601 United States;X-APPLE-RADIUS=500;X-TITLE=5968 Marietta Road:geo:-82.9336402,39.4058633
END:VEVENT
BEGIN:VEVENT
DTSTART;TZID=America/New_York:20260903T200000
DTEND;TZID=America/New_York:20260903T223000
DTSTAMP:20260421T172213
CREATED:20260209T210717Z
LAST-MODIFIED:20260209T210824Z
UID:10047478-1788465600-1788474600@visitchillicotheohio.com
SUMMARY:"Tecumseh!" Outdoor Drama
DESCRIPTION:Witness the epic life story of the legendary Shawnee leader as he struggles to defend his sacred homelands in the Ohio country during the late 1700’s. TECUMSEH! has been labeled as one of the most mesmerizing dramas in the nation. \nThe huge\, outdoor stages of the Sugarloaf Mountain Amphitheatre afford the audience a unique viewing experience. Sit beneath the stars as sheer spectacle surrounds you with a herd of galloping horses\, live military cannon in action\, and the most dazzling battle sequences offered on the American stage. \nOften emulated within the outdoor drama industry\, TECUMSEH! continues to set the standard for innovative production techniques. Over 100 people are involved each summer in bringing this exciting drama to life. The sights and sounds of natural elements serve to heighten this one-of-a-kind theatrical experience.
URL:https://visitchillicotheohio.com/event/tecumseh-outdoor-drama/2026-09-03/
LOCATION:Sugarloaf Mountain Amphitheatre\, 5968 Marietta Road\, Chillicothe\, OH\, 45601\, United States
CATEGORIES:Event,Featured Event
ATTACH;FMTTYPE=image/jpeg:https://visitchillicotheohio.com/wp-content/uploads/2022/06/tecumseh.jpg
GEO:39.4058633;-82.9336402
X-APPLE-STRUCTURED-LOCATION;VALUE=URI;X-ADDRESS=Sugarloaf Mountain Amphitheatre 5968 Marietta Road Chillicothe OH 45601 United States;X-APPLE-RADIUS=500;X-TITLE=5968 Marietta Road:geo:-82.9336402,39.4058633
END:VEVENT
BEGIN:VEVENT
DTSTART;TZID=America/New_York:20260904T200000
DTEND;TZID=America/New_York:20260904T223000
DTSTAMP:20260421T172213
CREATED:20260209T210717Z
LAST-MODIFIED:20260209T210824Z
UID:10047479-1788552000-1788561000@visitchillicotheohio.com
SUMMARY:"Tecumseh!" Outdoor Drama
DESCRIPTION:Witness the epic life story of the legendary Shawnee leader as he struggles to defend his sacred homelands in the Ohio country during the late 1700’s. TECUMSEH! has been labeled as one of the most mesmerizing dramas in the nation. \nThe huge\, outdoor stages of the Sugarloaf Mountain Amphitheatre afford the audience a unique viewing experience. Sit beneath the stars as sheer spectacle surrounds you with a herd of galloping horses\, live military cannon in action\, and the most dazzling battle sequences offered on the American stage. \nOften emulated within the outdoor drama industry\, TECUMSEH! continues to set the standard for innovative production techniques. Over 100 people are involved each summer in bringing this exciting drama to life. The sights and sounds of natural elements serve to heighten this one-of-a-kind theatrical experience.
URL:https://visitchillicotheohio.com/event/tecumseh-outdoor-drama/2026-09-04/
LOCATION:Sugarloaf Mountain Amphitheatre\, 5968 Marietta Road\, Chillicothe\, OH\, 45601\, United States
CATEGORIES:Event,Featured Event
ATTACH;FMTTYPE=image/jpeg:https://visitchillicotheohio.com/wp-content/uploads/2022/06/tecumseh.jpg
GEO:39.4058633;-82.9336402
X-APPLE-STRUCTURED-LOCATION;VALUE=URI;X-ADDRESS=Sugarloaf Mountain Amphitheatre 5968 Marietta Road Chillicothe OH 45601 United States;X-APPLE-RADIUS=500;X-TITLE=5968 Marietta Road:geo:-82.9336402,39.4058633
END:VEVENT
BEGIN:VEVENT
DTSTART;TZID=America/New_York:20260905T200000
DTEND;TZID=America/New_York:20260905T223000
DTSTAMP:20260421T172213
CREATED:20260209T210717Z
LAST-MODIFIED:20260209T210824Z
UID:10047480-1788638400-1788647400@visitchillicotheohio.com
SUMMARY:"Tecumseh!" Outdoor Drama
DESCRIPTION:Witness the epic life story of the legendary Shawnee leader as he struggles to defend his sacred homelands in the Ohio country during the late 1700’s. TECUMSEH! has been labeled as one of the most mesmerizing dramas in the nation. \nThe huge\, outdoor stages of the Sugarloaf Mountain Amphitheatre afford the audience a unique viewing experience. Sit beneath the stars as sheer spectacle surrounds you with a herd of galloping horses\, live military cannon in action\, and the most dazzling battle sequences offered on the American stage. \nOften emulated within the outdoor drama industry\, TECUMSEH! continues to set the standard for innovative production techniques. Over 100 people are involved each summer in bringing this exciting drama to life. The sights and sounds of natural elements serve to heighten this one-of-a-kind theatrical experience.
URL:https://visitchillicotheohio.com/event/tecumseh-outdoor-drama/2026-09-05/
LOCATION:Sugarloaf Mountain Amphitheatre\, 5968 Marietta Road\, Chillicothe\, OH\, 45601\, United States
CATEGORIES:Event,Featured Event
ATTACH;FMTTYPE=image/jpeg:https://visitchillicotheohio.com/wp-content/uploads/2022/06/tecumseh.jpg
GEO:39.4058633;-82.9336402
X-APPLE-STRUCTURED-LOCATION;VALUE=URI;X-ADDRESS=Sugarloaf Mountain Amphitheatre 5968 Marietta Road Chillicothe OH 45601 United States;X-APPLE-RADIUS=500;X-TITLE=5968 Marietta Road:geo:-82.9336402,39.4058633
END:VEVENT
BEGIN:VEVENT
DTSTART;TZID=America/New_York:20260906T200000
DTEND;TZID=America/New_York:20260906T223000
DTSTAMP:20260421T172213
CREATED:20260209T210717Z
LAST-MODIFIED:20260209T210824Z
UID:10047481-1788724800-1788733800@visitchillicotheohio.com
SUMMARY:"Tecumseh!" Outdoor Drama
DESCRIPTION:Witness the epic life story of the legendary Shawnee leader as he struggles to defend his sacred homelands in the Ohio country during the late 1700’s. TECUMSEH! has been labeled as one of the most mesmerizing dramas in the nation. \nThe huge\, outdoor stages of the Sugarloaf Mountain Amphitheatre afford the audience a unique viewing experience. Sit beneath the stars as sheer spectacle surrounds you with a herd of galloping horses\, live military cannon in action\, and the most dazzling battle sequences offered on the American stage. \nOften emulated within the outdoor drama industry\, TECUMSEH! continues to set the standard for innovative production techniques. Over 100 people are involved each summer in bringing this exciting drama to life. The sights and sounds of natural elements serve to heighten this one-of-a-kind theatrical experience.
URL:https://visitchillicotheohio.com/event/tecumseh-outdoor-drama/2026-09-06/
LOCATION:Sugarloaf Mountain Amphitheatre\, 5968 Marietta Road\, Chillicothe\, OH\, 45601\, United States
CATEGORIES:Event,Featured Event
ATTACH;FMTTYPE=image/jpeg:https://visitchillicotheohio.com/wp-content/uploads/2022/06/tecumseh.jpg
GEO:39.4058633;-82.9336402
X-APPLE-STRUCTURED-LOCATION;VALUE=URI;X-ADDRESS=Sugarloaf Mountain Amphitheatre 5968 Marietta Road Chillicothe OH 45601 United States;X-APPLE-RADIUS=500;X-TITLE=5968 Marietta Road:geo:-82.9336402,39.4058633
END:VEVENT
BEGIN:VEVENT
DTSTART;TZID=America/New_York:20260911T173000
DTEND;TZID=America/New_York:20260911T210000
DTSTAMP:20260421T172213
CREATED:20251212T184143Z
LAST-MODIFIED:20251212T184345Z
UID:10046858-1789147800-1789160400@visitchillicotheohio.com
SUMMARY:Murder on the Mountain
DESCRIPTION:Join us for an evening of food\, fun and mystery!\nFollowing the closing night performance of Tecumseh\, a body was found in the parking lot.  The clues are few and far between\, but there are 6 highly suspicious suspects.  It’s your job to figure out who did it!\n-VIP tickets include an open bar\, as well as a ticket to the 2027 season of Tecumseh!\n-Facility opens at 5:30\n-Cocktails and walking tour begins at 6\n-Dinner at 7
URL:https://visitchillicotheohio.com/event/murder-on-the-mountain/2026-09-11/
LOCATION:Sugarloaf Mountain Amphitheatre\, 5968 Marietta Road\, Chillicothe\, OH\, 45601\, United States
CATEGORIES:App Event,Event,Featured Event
ATTACH;FMTTYPE=image/jpeg:https://visitchillicotheohio.com/wp-content/uploads/2025/12/murder-on-the-mountain.jpg
GEO:39.4058633;-82.9336402
X-APPLE-STRUCTURED-LOCATION;VALUE=URI;X-ADDRESS=Sugarloaf Mountain Amphitheatre 5968 Marietta Road Chillicothe OH 45601 United States;X-APPLE-RADIUS=500;X-TITLE=5968 Marietta Road:geo:-82.9336402,39.4058633
END:VEVENT
BEGIN:VEVENT
DTSTART;TZID=America/New_York:20260912T173000
DTEND;TZID=America/New_York:20260912T210000
DTSTAMP:20260421T172213
CREATED:20251212T184143Z
LAST-MODIFIED:20251212T184345Z
UID:10046859-1789234200-1789246800@visitchillicotheohio.com
SUMMARY:Murder on the Mountain
DESCRIPTION:Join us for an evening of food\, fun and mystery!\nFollowing the closing night performance of Tecumseh\, a body was found in the parking lot.  The clues are few and far between\, but there are 6 highly suspicious suspects.  It’s your job to figure out who did it!\n-VIP tickets include an open bar\, as well as a ticket to the 2027 season of Tecumseh!\n-Facility opens at 5:30\n-Cocktails and walking tour begins at 6\n-Dinner at 7
URL:https://visitchillicotheohio.com/event/murder-on-the-mountain/2026-09-12/
LOCATION:Sugarloaf Mountain Amphitheatre\, 5968 Marietta Road\, Chillicothe\, OH\, 45601\, United States
CATEGORIES:App Event,Event,Featured Event
ATTACH;FMTTYPE=image/jpeg:https://visitchillicotheohio.com/wp-content/uploads/2025/12/murder-on-the-mountain.jpg
GEO:39.4058633;-82.9336402
X-APPLE-STRUCTURED-LOCATION;VALUE=URI;X-ADDRESS=Sugarloaf Mountain Amphitheatre 5968 Marietta Road Chillicothe OH 45601 United States;X-APPLE-RADIUS=500;X-TITLE=5968 Marietta Road:geo:-82.9336402,39.4058633
END:VEVENT
END:VCALENDAR