BEGIN:VCALENDAR
VERSION:2.0
PRODID:-//Ross-Chillicothe Convention &amp; Visitors Bureau - ECPv6.15.20//NONSGML v1.0//EN
CALSCALE:GREGORIAN
METHOD:PUBLISH
X-ORIGINAL-URL:https://visitchillicotheohio.com
X-WR-CALDESC:Events for Ross-Chillicothe Convention &amp; Visitors Bureau
REFRESH-INTERVAL;VALUE=DURATION:PT1H
X-Robots-Tag:noindex
X-PUBLISHED-TTL:PT1H
BEGIN:VTIMEZONE
TZID:America/New_York
BEGIN:DAYLIGHT
TZOFFSETFROM:-0500
TZOFFSETTO:-0400
TZNAME:EDT
DTSTART:20220313T070000
END:DAYLIGHT
BEGIN:STANDARD
TZOFFSETFROM:-0400
TZOFFSETTO:-0500
TZNAME:EST
DTSTART:20221106T060000
END:STANDARD
BEGIN:DAYLIGHT
TZOFFSETFROM:-0500
TZOFFSETTO:-0400
TZNAME:EDT
DTSTART:20230312T070000
END:DAYLIGHT
BEGIN:STANDARD
TZOFFSETFROM:-0400
TZOFFSETTO:-0500
TZNAME:EST
DTSTART:20231105T060000
END:STANDARD
BEGIN:DAYLIGHT
TZOFFSETFROM:-0500
TZOFFSETTO:-0400
TZNAME:EDT
DTSTART:20240310T070000
END:DAYLIGHT
BEGIN:STANDARD
TZOFFSETFROM:-0400
TZOFFSETTO:-0500
TZNAME:EST
DTSTART:20241103T060000
END:STANDARD
END:VTIMEZONE
BEGIN:VEVENT
DTSTART;TZID=America/New_York:20231013T173000
DTEND;TZID=America/New_York:20231013T233000
DTSTAMP:20260422T112041
CREATED:20230628T192600Z
LAST-MODIFIED:20230628T192600Z
UID:10044177-1697218200-1697239800@visitchillicotheohio.com
SUMMARY:The Frankenstein Experience at Haunted Mountain
DESCRIPTION:The largest Halloween theatre production in Ohio\, the largest movie screen in Ross County\, the Mad Lab Escape Room\, and Dr. Franks Haunted Trail come together for Haunted Mountain 2023 from the producers of “Tecumseh!” Outdoor Drama. \nEvening Schedule: 5:30- Facility opens (parking\, restrooms\, concessions\, gift shop\, box office\, tomahawk throwing\, scavenger hunt\, and bar all open). 6:00- Escape Room opens. 6:30- House opens for seating (all tickets are general admission). 7:30- Frankenstein performance on main stage (approx 65 mins\, no intermission). 9:00- Haunted Trail opens and evenings film on the big screen begins. 11:00 Last call. 11:30- Facility closes.\nVIP TICKETS INCLUDE SHOW TICKET WITH RESERVED VIP SEATING IN CENTER OF THE HOUSE\, HOT CHOCOLATE OR COFFEE IN SOUVENIR MUG\, SPECIAL VIP ENTRANCE FOR TOMAHAWK THROWING\, TIMED ENTRANCE TO HAUNTED TRAIL\, AND VIP GOODIE BAG. ONLY 200 VIP TICKETS AVAILABLE EACH EVENING.\nEscape room experience lasts approx 30 minutes\, trail experience lasts approx 25 minutes. You should arrive at trail and escape room at least 10 minutes prior to your chosen time slot.\nNightly movie on the big screen\, tomahawk throwing and scavenger hunt are included with all ticket purchases at no additional charge.\n\nGET TICKETS
URL:https://visitchillicotheohio.com/event/the-frankenstein-experience-at-haunted-mountain/2023-10-13/
LOCATION:Sugarloaf Mountain Amphitheatre\, 5968 Marietta Road\, Chillicothe\, OH\, 45601\, United States
CATEGORIES:Event,Featured Event
ATTACH;FMTTYPE=image/jpeg:https://visitchillicotheohio.com/wp-content/uploads/2023/06/frankenstein-e1687980344701.jpg
GEO:39.4058633;-82.9336402
X-APPLE-STRUCTURED-LOCATION;VALUE=URI;X-ADDRESS=Sugarloaf Mountain Amphitheatre 5968 Marietta Road Chillicothe OH 45601 United States;X-APPLE-RADIUS=500;X-TITLE=5968 Marietta Road:geo:-82.9336402,39.4058633
END:VEVENT
BEGIN:VEVENT
DTSTART;TZID=America/New_York:20231012T173000
DTEND;TZID=America/New_York:20231012T233000
DTSTAMP:20260422T112041
CREATED:20230628T192600Z
LAST-MODIFIED:20230628T192600Z
UID:10044176-1697131800-1697153400@visitchillicotheohio.com
SUMMARY:The Frankenstein Experience at Haunted Mountain
DESCRIPTION:The largest Halloween theatre production in Ohio\, the largest movie screen in Ross County\, the Mad Lab Escape Room\, and Dr. Franks Haunted Trail come together for Haunted Mountain 2023 from the producers of “Tecumseh!” Outdoor Drama. \nEvening Schedule: 5:30- Facility opens (parking\, restrooms\, concessions\, gift shop\, box office\, tomahawk throwing\, scavenger hunt\, and bar all open). 6:00- Escape Room opens. 6:30- House opens for seating (all tickets are general admission). 7:30- Frankenstein performance on main stage (approx 65 mins\, no intermission). 9:00- Haunted Trail opens and evenings film on the big screen begins. 11:00 Last call. 11:30- Facility closes.\nVIP TICKETS INCLUDE SHOW TICKET WITH RESERVED VIP SEATING IN CENTER OF THE HOUSE\, HOT CHOCOLATE OR COFFEE IN SOUVENIR MUG\, SPECIAL VIP ENTRANCE FOR TOMAHAWK THROWING\, TIMED ENTRANCE TO HAUNTED TRAIL\, AND VIP GOODIE BAG. ONLY 200 VIP TICKETS AVAILABLE EACH EVENING.\nEscape room experience lasts approx 30 minutes\, trail experience lasts approx 25 minutes. You should arrive at trail and escape room at least 10 minutes prior to your chosen time slot.\nNightly movie on the big screen\, tomahawk throwing and scavenger hunt are included with all ticket purchases at no additional charge.\n\nGET TICKETS
URL:https://visitchillicotheohio.com/event/the-frankenstein-experience-at-haunted-mountain/2023-10-12/
LOCATION:Sugarloaf Mountain Amphitheatre\, 5968 Marietta Road\, Chillicothe\, OH\, 45601\, United States
CATEGORIES:Event,Featured Event
ATTACH;FMTTYPE=image/jpeg:https://visitchillicotheohio.com/wp-content/uploads/2023/06/frankenstein-e1687980344701.jpg
GEO:39.4058633;-82.9336402
X-APPLE-STRUCTURED-LOCATION;VALUE=URI;X-ADDRESS=Sugarloaf Mountain Amphitheatre 5968 Marietta Road Chillicothe OH 45601 United States;X-APPLE-RADIUS=500;X-TITLE=5968 Marietta Road:geo:-82.9336402,39.4058633
END:VEVENT
BEGIN:VEVENT
DTSTART;TZID=America/New_York:20231007T173000
DTEND;TZID=America/New_York:20231007T233000
DTSTAMP:20260422T112041
CREATED:20230628T192600Z
LAST-MODIFIED:20230628T192600Z
UID:10044175-1696699800-1696721400@visitchillicotheohio.com
SUMMARY:The Frankenstein Experience at Haunted Mountain
DESCRIPTION:The largest Halloween theatre production in Ohio\, the largest movie screen in Ross County\, the Mad Lab Escape Room\, and Dr. Franks Haunted Trail come together for Haunted Mountain 2023 from the producers of “Tecumseh!” Outdoor Drama. \nEvening Schedule: 5:30- Facility opens (parking\, restrooms\, concessions\, gift shop\, box office\, tomahawk throwing\, scavenger hunt\, and bar all open). 6:00- Escape Room opens. 6:30- House opens for seating (all tickets are general admission). 7:30- Frankenstein performance on main stage (approx 65 mins\, no intermission). 9:00- Haunted Trail opens and evenings film on the big screen begins. 11:00 Last call. 11:30- Facility closes.\nVIP TICKETS INCLUDE SHOW TICKET WITH RESERVED VIP SEATING IN CENTER OF THE HOUSE\, HOT CHOCOLATE OR COFFEE IN SOUVENIR MUG\, SPECIAL VIP ENTRANCE FOR TOMAHAWK THROWING\, TIMED ENTRANCE TO HAUNTED TRAIL\, AND VIP GOODIE BAG. ONLY 200 VIP TICKETS AVAILABLE EACH EVENING.\nEscape room experience lasts approx 30 minutes\, trail experience lasts approx 25 minutes. You should arrive at trail and escape room at least 10 minutes prior to your chosen time slot.\nNightly movie on the big screen\, tomahawk throwing and scavenger hunt are included with all ticket purchases at no additional charge.\n\nGET TICKETS
URL:https://visitchillicotheohio.com/event/the-frankenstein-experience-at-haunted-mountain/2023-10-07/
LOCATION:Sugarloaf Mountain Amphitheatre\, 5968 Marietta Road\, Chillicothe\, OH\, 45601\, United States
CATEGORIES:Event,Featured Event
ATTACH;FMTTYPE=image/jpeg:https://visitchillicotheohio.com/wp-content/uploads/2023/06/frankenstein-e1687980344701.jpg
GEO:39.4058633;-82.9336402
X-APPLE-STRUCTURED-LOCATION;VALUE=URI;X-ADDRESS=Sugarloaf Mountain Amphitheatre 5968 Marietta Road Chillicothe OH 45601 United States;X-APPLE-RADIUS=500;X-TITLE=5968 Marietta Road:geo:-82.9336402,39.4058633
END:VEVENT
BEGIN:VEVENT
DTSTART;TZID=America/New_York:20231006T173000
DTEND;TZID=America/New_York:20231006T233000
DTSTAMP:20260422T112041
CREATED:20230628T192600Z
LAST-MODIFIED:20230628T192600Z
UID:10044174-1696613400-1696635000@visitchillicotheohio.com
SUMMARY:The Frankenstein Experience at Haunted Mountain
DESCRIPTION:The largest Halloween theatre production in Ohio\, the largest movie screen in Ross County\, the Mad Lab Escape Room\, and Dr. Franks Haunted Trail come together for Haunted Mountain 2023 from the producers of “Tecumseh!” Outdoor Drama. \nEvening Schedule: 5:30- Facility opens (parking\, restrooms\, concessions\, gift shop\, box office\, tomahawk throwing\, scavenger hunt\, and bar all open). 6:00- Escape Room opens. 6:30- House opens for seating (all tickets are general admission). 7:30- Frankenstein performance on main stage (approx 65 mins\, no intermission). 9:00- Haunted Trail opens and evenings film on the big screen begins. 11:00 Last call. 11:30- Facility closes.\nVIP TICKETS INCLUDE SHOW TICKET WITH RESERVED VIP SEATING IN CENTER OF THE HOUSE\, HOT CHOCOLATE OR COFFEE IN SOUVENIR MUG\, SPECIAL VIP ENTRANCE FOR TOMAHAWK THROWING\, TIMED ENTRANCE TO HAUNTED TRAIL\, AND VIP GOODIE BAG. ONLY 200 VIP TICKETS AVAILABLE EACH EVENING.\nEscape room experience lasts approx 30 minutes\, trail experience lasts approx 25 minutes. You should arrive at trail and escape room at least 10 minutes prior to your chosen time slot.\nNightly movie on the big screen\, tomahawk throwing and scavenger hunt are included with all ticket purchases at no additional charge.\n\nGET TICKETS
URL:https://visitchillicotheohio.com/event/the-frankenstein-experience-at-haunted-mountain/2023-10-06/
LOCATION:Sugarloaf Mountain Amphitheatre\, 5968 Marietta Road\, Chillicothe\, OH\, 45601\, United States
CATEGORIES:Event,Featured Event
ATTACH;FMTTYPE=image/jpeg:https://visitchillicotheohio.com/wp-content/uploads/2023/06/frankenstein-e1687980344701.jpg
GEO:39.4058633;-82.9336402
X-APPLE-STRUCTURED-LOCATION;VALUE=URI;X-ADDRESS=Sugarloaf Mountain Amphitheatre 5968 Marietta Road Chillicothe OH 45601 United States;X-APPLE-RADIUS=500;X-TITLE=5968 Marietta Road:geo:-82.9336402,39.4058633
END:VEVENT
BEGIN:VEVENT
DTSTART;TZID=America/New_York:20231005T173000
DTEND;TZID=America/New_York:20231028T233000
DTSTAMP:20260422T112041
CREATED:20230628T192615Z
LAST-MODIFIED:20230628T192712Z
UID:10044186-1696527000-1698535800@visitchillicotheohio.com
SUMMARY:The Frankenstein Experience at Haunted Mountain
DESCRIPTION:The largest Halloween theatre production in Ohio\, the largest movie screen in Ross County\, the Mad Lab Escape Room\, and Dr. Franks Haunted Trail come together for Haunted Mountain 2023 from the producers of “Tecumseh!” Outdoor Drama. \nTHURSDAYS – SATURDAYS: Evening Schedule: 5:30- Facility opens (parking\, restrooms\, concessions\, gift shop\, box office\, tomahawk throwing\, scavenger hunt\, and bar all open). 6:00- Escape Room opens. 6:30- House opens for seating (all tickets are general admission). 7:30- Frankenstein performance on main stage (approx 65 mins\, no intermission). 9:00- Haunted Trail opens and evenings film on the big screen begins. 11:00 Last call. 11:30- Facility closes.\nVIP TICKETS INCLUDE SHOW TICKET WITH RESERVED VIP SEATING IN CENTER OF THE HOUSE\, HOT CHOCOLATE OR COFFEE IN SOUVENIR MUG\, SPECIAL VIP ENTRANCE FOR TOMAHAWK THROWING\, TIMED ENTRANCE TO HAUNTED TRAIL\, AND VIP GOODIE BAG. ONLY 200 VIP TICKETS AVAILABLE EACH EVENING.\nEscape room experience lasts approx 30 minutes\, trail experience lasts approx 25 minutes. You should arrive at trail and escape room at least 10 minutes prior to your chosen time slot.\nNightly movie on the big screen\, tomahawk throwing and scavenger hunt are included with all ticket purchases at no additional charge.\n\nGET TICKETS
URL:https://visitchillicotheohio.com/event/the-frankenstein-experience-at-haunted-mountain-copy/
LOCATION:Sugarloaf Mountain Amphitheatre\, 5968 Marietta Road\, Chillicothe\, OH\, 45601\, United States
CATEGORIES:App Event
ATTACH;FMTTYPE=image/jpeg:https://visitchillicotheohio.com/wp-content/uploads/2023/06/frankenstein-e1687980344701.jpg
GEO:39.4058633;-82.9336402
X-APPLE-STRUCTURED-LOCATION;VALUE=URI;X-ADDRESS=Sugarloaf Mountain Amphitheatre 5968 Marietta Road Chillicothe OH 45601 United States;X-APPLE-RADIUS=500;X-TITLE=5968 Marietta Road:geo:-82.9336402,39.4058633
END:VEVENT
BEGIN:VEVENT
DTSTART;TZID=America/New_York:20231005T173000
DTEND;TZID=America/New_York:20231005T233000
DTSTAMP:20260422T112041
CREATED:20230628T192600Z
LAST-MODIFIED:20230628T192600Z
UID:10044173-1696527000-1696548600@visitchillicotheohio.com
SUMMARY:The Frankenstein Experience at Haunted Mountain
DESCRIPTION:The largest Halloween theatre production in Ohio\, the largest movie screen in Ross County\, the Mad Lab Escape Room\, and Dr. Franks Haunted Trail come together for Haunted Mountain 2023 from the producers of “Tecumseh!” Outdoor Drama. \nEvening Schedule: 5:30- Facility opens (parking\, restrooms\, concessions\, gift shop\, box office\, tomahawk throwing\, scavenger hunt\, and bar all open). 6:00- Escape Room opens. 6:30- House opens for seating (all tickets are general admission). 7:30- Frankenstein performance on main stage (approx 65 mins\, no intermission). 9:00- Haunted Trail opens and evenings film on the big screen begins. 11:00 Last call. 11:30- Facility closes.\nVIP TICKETS INCLUDE SHOW TICKET WITH RESERVED VIP SEATING IN CENTER OF THE HOUSE\, HOT CHOCOLATE OR COFFEE IN SOUVENIR MUG\, SPECIAL VIP ENTRANCE FOR TOMAHAWK THROWING\, TIMED ENTRANCE TO HAUNTED TRAIL\, AND VIP GOODIE BAG. ONLY 200 VIP TICKETS AVAILABLE EACH EVENING.\nEscape room experience lasts approx 30 minutes\, trail experience lasts approx 25 minutes. You should arrive at trail and escape room at least 10 minutes prior to your chosen time slot.\nNightly movie on the big screen\, tomahawk throwing and scavenger hunt are included with all ticket purchases at no additional charge.\n\nGET TICKETS
URL:https://visitchillicotheohio.com/event/the-frankenstein-experience-at-haunted-mountain/2023-10-05/
LOCATION:Sugarloaf Mountain Amphitheatre\, 5968 Marietta Road\, Chillicothe\, OH\, 45601\, United States
CATEGORIES:Event,Featured Event
ATTACH;FMTTYPE=image/jpeg:https://visitchillicotheohio.com/wp-content/uploads/2023/06/frankenstein-e1687980344701.jpg
GEO:39.4058633;-82.9336402
X-APPLE-STRUCTURED-LOCATION;VALUE=URI;X-ADDRESS=Sugarloaf Mountain Amphitheatre 5968 Marietta Road Chillicothe OH 45601 United States;X-APPLE-RADIUS=500;X-TITLE=5968 Marietta Road:geo:-82.9336402,39.4058633
END:VEVENT
BEGIN:VEVENT
DTSTART;TZID=America/New_York:20230806T200000
DTEND;TZID=America/New_York:20230806T213000
DTSTAMP:20260422T112041
CREATED:20230728T125546Z
LAST-MODIFIED:20230728T125546Z
UID:10043712-1691352000-1691357400@visitchillicotheohio.com
SUMMARY:A Midsummer Night's Dream
DESCRIPTION:Join the cast of Tecumseh for their rehearsed reading of “A Midsummer Night’s Dream.” The show will start at 8pm\, doors open at 7pm. This is a free event and tickets are not required.
URL:https://visitchillicotheohio.com/event/a-midsummer-nights-dream/
LOCATION:Sugarloaf Mountain Amphitheatre\, 5968 Marietta Road\, Chillicothe\, OH\, 45601\, United States
CATEGORIES:App Event,Event,Featured Event
ATTACH;FMTTYPE=image/jpeg:https://visitchillicotheohio.com/wp-content/uploads/2023/07/midsummer.jpg
GEO:39.4058633;-82.9336402
X-APPLE-STRUCTURED-LOCATION;VALUE=URI;X-ADDRESS=Sugarloaf Mountain Amphitheatre 5968 Marietta Road Chillicothe OH 45601 United States;X-APPLE-RADIUS=500;X-TITLE=5968 Marietta Road:geo:-82.9336402,39.4058633
END:VEVENT
END:VCALENDAR