BEGIN:VCALENDAR
VERSION:2.0
PRODID:-//Ross-Chillicothe Convention &amp; Visitors Bureau - ECPv6.15.20//NONSGML v1.0//EN
CALSCALE:GREGORIAN
METHOD:PUBLISH
X-ORIGINAL-URL:https://visitchillicotheohio.com
X-WR-CALDESC:Events for Ross-Chillicothe Convention &amp; Visitors Bureau
REFRESH-INTERVAL;VALUE=DURATION:PT1H
X-Robots-Tag:noindex
X-PUBLISHED-TTL:PT1H
BEGIN:VTIMEZONE
TZID:America/New_York
BEGIN:DAYLIGHT
TZOFFSETFROM:-0500
TZOFFSETTO:-0400
TZNAME:EDT
DTSTART:20230312T070000
END:DAYLIGHT
BEGIN:STANDARD
TZOFFSETFROM:-0400
TZOFFSETTO:-0500
TZNAME:EST
DTSTART:20231105T060000
END:STANDARD
BEGIN:DAYLIGHT
TZOFFSETFROM:-0500
TZOFFSETTO:-0400
TZNAME:EDT
DTSTART:20240310T070000
END:DAYLIGHT
BEGIN:STANDARD
TZOFFSETFROM:-0400
TZOFFSETTO:-0500
TZNAME:EST
DTSTART:20241103T060000
END:STANDARD
BEGIN:DAYLIGHT
TZOFFSETFROM:-0500
TZOFFSETTO:-0400
TZNAME:EDT
DTSTART:20250309T070000
END:DAYLIGHT
BEGIN:STANDARD
TZOFFSETFROM:-0400
TZOFFSETTO:-0500
TZNAME:EST
DTSTART:20251102T060000
END:STANDARD
BEGIN:DAYLIGHT
TZOFFSETFROM:-0500
TZOFFSETTO:-0400
TZNAME:EDT
DTSTART:20260308T070000
END:DAYLIGHT
BEGIN:STANDARD
TZOFFSETFROM:-0400
TZOFFSETTO:-0500
TZNAME:EST
DTSTART:20261101T060000
END:STANDARD
END:VTIMEZONE
BEGIN:VEVENT
DTSTART;TZID=America/New_York:20250712T120000
DTEND;TZID=America/New_York:20250712T170000
DTSTAMP:20260422T031902
CREATED:20250530T142536Z
LAST-MODIFIED:20250530T142536Z
UID:10045717-1752321600-1752339600@visitchillicotheohio.com
SUMMARY:Street Cat Zine Fest
DESCRIPTION:**Street Cat Zine Fest 9** \nDiscover the vibrant world of DIY zines and Appalachian creativity at Street Cat Zine Fest 9! Join us on Saturday\, July 12\, 2025\, from 12 PM to 5 PM at Scioto Township Hall\, 164 S Watt St\, Chillicothe\, OH. This annual celebration showcases the radical spirit and resilient voices of Appalachia through a diverse array of zines\, art\, and community. \n**What to Expect:** \n* Engage with local zinesters and artists from across Appalachia.\n* Participate in collaborative zine-making sessions.\n* Explore unique zines covering sociopolitical issues\, art\, and personal narratives.\n* Enjoy live music and performances throughout the day.\n* Discover DIY crafts and local vendor booths. \nFree and open to all\, Street Cat Zine Fest 9 invites you to dive into the rich culture of zine-making and celebrate creativity in Southern Ohio. Don’t miss this opportunity to connect with the community and support independent artists. Mark your calendars for a day of inspiration and exploration! \nFor more information and updates\, visit [Street Cat Zine Fest](https://streetcatzinefest.org/).
URL:https://visitchillicotheohio.com/event/street-cat-zine-fest/
LOCATION:Scioto Township Hall\, 164 South Watt Street\, Chillicothe\, OH\, United States
CATEGORIES:App Event,Event
ATTACH;FMTTYPE=image/jpeg:https://visitchillicotheohio.com/wp-content/uploads/2025/05/STREET-CAT-FLYER.jpg
ORGANIZER;CN="Street Cat Zine Fest":MAILTO:stephanierenerenner@gmail.com
GEO:39.3321774;-82.962695
X-APPLE-STRUCTURED-LOCATION;VALUE=URI;X-ADDRESS=Scioto Township Hall 164 South Watt Street Chillicothe OH United States;X-APPLE-RADIUS=500;X-TITLE=164 South Watt Street:geo:-82.962695,39.3321774
END:VEVENT
BEGIN:VEVENT
DTSTART;TZID=America/New_York:20240720T120000
DTEND;TZID=America/New_York:20240720T170000
DTSTAMP:20260422T031902
CREATED:20240715T202915Z
LAST-MODIFIED:20240715T202915Z
UID:10044480-1721476800-1721494800@visitchillicotheohio.com
SUMMARY:Street Cat Zine Fest 8
DESCRIPTION:Hand-made items\, indie authors\, poetry\, live music\, tarot card reading\, and zines! \nThe Chillicothe & Ross County Public Library Bee Mobile will be present at the event.
URL:https://visitchillicotheohio.com/event/street-cat-zine-fest-8/
LOCATION:Scioto Township Hall\, 164 South Watt Street\, Chillicothe\, OH\, United States
CATEGORIES:App Event,Event
ATTACH;FMTTYPE=image/jpeg:https://visitchillicotheohio.com/wp-content/uploads/2024/07/Street-Cat-8-Flyer.jpg
GEO:39.3321774;-82.962695
X-APPLE-STRUCTURED-LOCATION;VALUE=URI;X-ADDRESS=Scioto Township Hall 164 South Watt Street Chillicothe OH United States;X-APPLE-RADIUS=500;X-TITLE=164 South Watt Street:geo:-82.962695,39.3321774
END:VEVENT
BEGIN:VEVENT
DTSTART;TZID=America/New_York:20240406T120000
DTEND;TZID=America/New_York:20240406T170000
DTSTAMP:20260422T031902
CREATED:20240327T182327Z
LAST-MODIFIED:20240327T182327Z
UID:10044967-1712404800-1712422800@visitchillicotheohio.com
SUMMARY:Spring Craft Fair
DESCRIPTION:Come down to the Spring Craft Show and check out local\, handcrafted items! \nHosted by Cassie Davis at Rose Quartz Candles! I offer metaphysical candles and wax melts\, herbal skin and hair care products\, magnesium lotion\, crystals\, jewelry\, tarot cards\, journals\, stickers\, metaphysical items \nServices:\nBree Maag- on site tarot readings\nCassie Davis- pre-ordered birth chart readings \nVendors:\nAutumn Smalley- homemade wood crafts such as: wood trays\, headphone holders\, wall hangings\, picture frames\, jewelry boxes\, hat holders & homemade goods such as breads\, rolls\, noodles\nCade’s Creations 1981- LED acrylic nightlights\nCattle Creek Mercantile- tallow products: body butter\, pain cream\, sunscreen\, diaper cream\, soap bar\, shampoo bar\, conditioner bars\, hair pomade\, beard balm\, dog shampoo & treats\, deodorant\nCountry Cutes- handmade cloth dolls\, sewn items\, wood and jewelry items\nDoodlebug Loves & Company- quilted blankets\, table runners\, zipper pouches\, keychains\, bracelets\nHalfryal Jewelry- fine & semi fine jewelry\nLotus & Luck- boutique style polymer clay earrings\nMC Squared Printing & Engraving- 3D printed art\, laser cut/engraved items\nMuttley & Mo- memory quilts and bears\, custom embroidery\, shirts\, sweatshirts\, dog bibs & scarves\nOwl Creek Boutique- jewelry\nPalomar Wedding Services & Custom Designs- wreaths\, ladders\, shirts\nScensational Scents by Sami- freshies\nStarBurn- laser engraved items\nSomething Primitive- primitive items and artwork\nThings by T- sublimation tumblers\, 3D printed items\, tshirts\nTwo Crazy Dip Mommas- dried drip mixes
URL:https://visitchillicotheohio.com/event/spring-craft-fair-2/
LOCATION:Scioto Township Hall\, 164 South Watt Street\, Chillicothe\, OH\, United States
CATEGORIES:Event
ATTACH;FMTTYPE=image/png:https://visitchillicotheohio.com/wp-content/uploads/2024/03/inbound4894007913252956869.png
GEO:39.3321774;-82.962695
X-APPLE-STRUCTURED-LOCATION;VALUE=URI;X-ADDRESS=Scioto Township Hall 164 South Watt Street Chillicothe OH United States;X-APPLE-RADIUS=500;X-TITLE=164 South Watt Street:geo:-82.962695,39.3321774
END:VEVENT
END:VCALENDAR