BEGIN:VCALENDAR
VERSION:2.0
PRODID:-//Ross-Chillicothe Convention &amp; Visitors Bureau - ECPv6.15.20//NONSGML v1.0//EN
CALSCALE:GREGORIAN
METHOD:PUBLISH
X-ORIGINAL-URL:https://visitchillicotheohio.com
X-WR-CALDESC:Events for Ross-Chillicothe Convention &amp; Visitors Bureau
REFRESH-INTERVAL;VALUE=DURATION:PT1H
X-Robots-Tag:noindex
X-PUBLISHED-TTL:PT1H
BEGIN:VTIMEZONE
TZID:America/New_York
BEGIN:DAYLIGHT
TZOFFSETFROM:-0500
TZOFFSETTO:-0400
TZNAME:EDT
DTSTART:20250309T070000
END:DAYLIGHT
BEGIN:STANDARD
TZOFFSETFROM:-0400
TZOFFSETTO:-0500
TZNAME:EST
DTSTART:20251102T060000
END:STANDARD
BEGIN:DAYLIGHT
TZOFFSETFROM:-0500
TZOFFSETTO:-0400
TZNAME:EDT
DTSTART:20260308T070000
END:DAYLIGHT
BEGIN:STANDARD
TZOFFSETFROM:-0400
TZOFFSETTO:-0500
TZNAME:EST
DTSTART:20261101T060000
END:STANDARD
BEGIN:DAYLIGHT
TZOFFSETFROM:-0500
TZOFFSETTO:-0400
TZNAME:EDT
DTSTART:20270314T070000
END:DAYLIGHT
BEGIN:STANDARD
TZOFFSETFROM:-0400
TZOFFSETTO:-0500
TZNAME:EST
DTSTART:20271107T060000
END:STANDARD
END:VTIMEZONE
BEGIN:VEVENT
DTSTART;TZID=America/New_York:20261004T160000
DTEND;TZID=America/New_York:20261004T220000
DTSTAMP:20260422T045322
CREATED:20260122T151654Z
LAST-MODIFIED:20260122T151654Z
UID:10047323-1791129600-1791151200@visitchillicotheohio.com
SUMMARY:Chillicothe Trade Days
DESCRIPTION:Chillicothe Trade Days is a wonderful\, OLD SCHOOL style “market days” event. Hundreds of vendors selling antiques\, livestock\, guns\, plants\, crafts\, etc.
URL:https://visitchillicotheohio.com/event/chillicothe-trade-days-3/2026-10-04/
LOCATION:Ross County Fairgrounds\, 344 Fairgrounds Road\, Chillicothe\, OH\, 45601\, United States
CATEGORIES:App Event,Event
ATTACH;FMTTYPE=image/jpeg:https://visitchillicotheohio.com/wp-content/uploads/2026/01/chillicothe-trade-logo-small.jpg
GEO:39.4080469;-83.0094932
X-APPLE-STRUCTURED-LOCATION;VALUE=URI;X-ADDRESS=Ross County Fairgrounds 344 Fairgrounds Road Chillicothe OH 45601 United States;X-APPLE-RADIUS=500;X-TITLE=344 Fairgrounds Road:geo:-83.0094932,39.4080469
END:VEVENT
END:VCALENDAR