BEGIN:VCALENDAR
VERSION:2.0
PRODID:-//Ross-Chillicothe Convention &amp; Visitors Bureau - ECPv6.15.20//NONSGML v1.0//EN
CALSCALE:GREGORIAN
METHOD:PUBLISH
X-ORIGINAL-URL:https://visitchillicotheohio.com
X-WR-CALDESC:Events for Ross-Chillicothe Convention &amp; Visitors Bureau
REFRESH-INTERVAL;VALUE=DURATION:PT1H
X-Robots-Tag:noindex
X-PUBLISHED-TTL:PT1H
BEGIN:VTIMEZONE
TZID:America/New_York
BEGIN:DAYLIGHT
TZOFFSETFROM:-0500
TZOFFSETTO:-0400
TZNAME:EDT
DTSTART:20220313T070000
END:DAYLIGHT
BEGIN:STANDARD
TZOFFSETFROM:-0400
TZOFFSETTO:-0500
TZNAME:EST
DTSTART:20221106T060000
END:STANDARD
BEGIN:DAYLIGHT
TZOFFSETFROM:-0500
TZOFFSETTO:-0400
TZNAME:EDT
DTSTART:20230312T070000
END:DAYLIGHT
BEGIN:STANDARD
TZOFFSETFROM:-0400
TZOFFSETTO:-0500
TZNAME:EST
DTSTART:20231105T060000
END:STANDARD
BEGIN:DAYLIGHT
TZOFFSETFROM:-0500
TZOFFSETTO:-0400
TZNAME:EDT
DTSTART:20240310T070000
END:DAYLIGHT
BEGIN:STANDARD
TZOFFSETFROM:-0400
TZOFFSETTO:-0500
TZNAME:EST
DTSTART:20241103T060000
END:STANDARD
END:VTIMEZONE
BEGIN:VEVENT
DTSTART;TZID=America/New_York:20230806T100000
DTEND;TZID=America/New_York:20230806T170000
DTSTAMP:20260419T103245
CREATED:20230518T194011Z
LAST-MODIFIED:20230518T194011Z
UID:10043609-1691316000-1691341200@visitchillicotheohio.com
SUMMARY:Traditional Competition Shoot - Ross County Bowhunters
DESCRIPTION:Family Friendly Traditional Archery Shoot ● Traditional Fun Shoot Saturday ● Traditional Competition Shoot Sunday ● Camping Encouraged – Early Arrival Welcomed ● Kids Fun Course on Saturday ● Traditional Novelty Shoots Saturday hosted by Christian Bowhunters of America\nEvening Traditional Coon Shoots Both Friday & Saturday – Hosted by Lord of the Harvest Chapter (LOTHAC) of the Christian Bowhunters of America – $2 Donation\nVarious Novelties on Saturday hosted by the LOTHAC Chapter of the Christian Bowhunters\nRegistration:\nSaturday: 9am – 1pm\, Members – $10\, Non-Members – $13. Shoot additional rounds for $3 each\nSunday: 9am – 12pm\, Members – $10\, Non-Members – $13. Shoot additional rounds for $3 each\nChurch services hosted by LOTHAC CHapter of the Christian Bowhunters on Sunday at 8:30am\nClasses/Scoring: Standard OSTA 20/10/0 scoring applies. Competitive classes are: Men and Women Longbow\, Men and Women Longbow-open arrow\, Men and Women Selfbow\, Men and Women Recurve\, Ole Timers (50 years plus)\, Boys/Girls Youth (ages 13-17\, at 16 they may choose to shoot adult)\, Cubs\, (ages 11-12)\, Junior Cubs (ages 9-10)\, and Peewees (ages 8 & under)\nAmenities: Club house\, concessions available\, inside toilets\, shower facilities\, lots of space for camping\, firewood available\, practice range.\nVendors: No charge for vendors. Vendors are encouraged to attend.\nFor more information Contact:President Dave Stehle: Phone – (937) 572-1733; email – dstehle1951@hotmail.com or Vice-Pres Glen Anderson: Phone – (740) 398-8848; email – GlennD.Anderson172@gmail.com
URL:https://visitchillicotheohio.com/event/traditional-competition-shoot-ross-county-bowhunters/2023-08-06/
LOCATION:Ross County Bowhunter's Club
CATEGORIES:Event,Featured Event
GEO:39.2552817;-82.9219477
END:VEVENT
BEGIN:VEVENT
DTSTART;TZID=America/New_York:20230805T100000
DTEND;TZID=America/New_York:20230805T170000
DTSTAMP:20260419T103245
CREATED:20230518T194011Z
LAST-MODIFIED:20230518T194011Z
UID:10043608-1691229600-1691254800@visitchillicotheohio.com
SUMMARY:Traditional Competition Shoot - Ross County Bowhunters
DESCRIPTION:Family Friendly Traditional Archery Shoot ● Traditional Fun Shoot Saturday ● Traditional Competition Shoot Sunday ● Camping Encouraged – Early Arrival Welcomed ● Kids Fun Course on Saturday ● Traditional Novelty Shoots Saturday hosted by Christian Bowhunters of America\nEvening Traditional Coon Shoots Both Friday & Saturday – Hosted by Lord of the Harvest Chapter (LOTHAC) of the Christian Bowhunters of America – $2 Donation\nVarious Novelties on Saturday hosted by the LOTHAC Chapter of the Christian Bowhunters\nRegistration:\nSaturday: 9am – 1pm\, Members – $10\, Non-Members – $13. Shoot additional rounds for $3 each\nSunday: 9am – 12pm\, Members – $10\, Non-Members – $13. Shoot additional rounds for $3 each\nChurch services hosted by LOTHAC CHapter of the Christian Bowhunters on Sunday at 8:30am\nClasses/Scoring: Standard OSTA 20/10/0 scoring applies. Competitive classes are: Men and Women Longbow\, Men and Women Longbow-open arrow\, Men and Women Selfbow\, Men and Women Recurve\, Ole Timers (50 years plus)\, Boys/Girls Youth (ages 13-17\, at 16 they may choose to shoot adult)\, Cubs\, (ages 11-12)\, Junior Cubs (ages 9-10)\, and Peewees (ages 8 & under)\nAmenities: Club house\, concessions available\, inside toilets\, shower facilities\, lots of space for camping\, firewood available\, practice range.\nVendors: No charge for vendors. Vendors are encouraged to attend.\nFor more information Contact:President Dave Stehle: Phone – (937) 572-1733; email – dstehle1951@hotmail.com or Vice-Pres Glen Anderson: Phone – (740) 398-8848; email – GlennD.Anderson172@gmail.com
URL:https://visitchillicotheohio.com/event/traditional-competition-shoot-ross-county-bowhunters/2023-08-05/
LOCATION:Ross County Bowhunter's Club
CATEGORIES:Event,Featured Event
GEO:39.2552817;-82.9219477
END:VEVENT
END:VCALENDAR