BEGIN:VCALENDAR
VERSION:2.0
PRODID:-//Ross-Chillicothe Convention &amp; Visitors Bureau - ECPv6.15.20//NONSGML v1.0//EN
CALSCALE:GREGORIAN
METHOD:PUBLISH
X-WR-CALNAME:Ross-Chillicothe Convention &amp; Visitors Bureau
X-ORIGINAL-URL:https://visitchillicotheohio.com
X-WR-CALDESC:Events for Ross-Chillicothe Convention &amp; Visitors Bureau
REFRESH-INTERVAL;VALUE=DURATION:PT1H
X-Robots-Tag:noindex
X-PUBLISHED-TTL:PT1H
BEGIN:VTIMEZONE
TZID:America/New_York
BEGIN:DAYLIGHT
TZOFFSETFROM:-0500
TZOFFSETTO:-0400
TZNAME:EDT
DTSTART:20230312T070000
END:DAYLIGHT
BEGIN:STANDARD
TZOFFSETFROM:-0400
TZOFFSETTO:-0500
TZNAME:EST
DTSTART:20231105T060000
END:STANDARD
BEGIN:DAYLIGHT
TZOFFSETFROM:-0500
TZOFFSETTO:-0400
TZNAME:EDT
DTSTART:20240310T070000
END:DAYLIGHT
BEGIN:STANDARD
TZOFFSETFROM:-0400
TZOFFSETTO:-0500
TZNAME:EST
DTSTART:20241103T060000
END:STANDARD
BEGIN:DAYLIGHT
TZOFFSETFROM:-0500
TZOFFSETTO:-0400
TZNAME:EDT
DTSTART:20250309T070000
END:DAYLIGHT
BEGIN:STANDARD
TZOFFSETFROM:-0400
TZOFFSETTO:-0500
TZNAME:EST
DTSTART:20251102T060000
END:STANDARD
END:VTIMEZONE
BEGIN:VEVENT
DTSTART;TZID=America/New_York:20240509T170000
DTEND;TZID=America/New_York:20240509T200000
DTSTAMP:20260424T102512
CREATED:20240425T121840Z
LAST-MODIFIED:20240425T121840Z
UID:10045095-1715274000-1715284800@visitchillicotheohio.com
SUMMARY:Postly Open Art Show
DESCRIPTION:This is a free experience for the community by the community. engage in our well stocked creation station\, creating for free tontake home. We will be offering a free space to all artist\, makers\, and creator’s to display and sell their creations. This show will be offering a best of show award\, which will be judged by the attendees. Join us for an evening of live music\, refreshing spirits\, and a demonstration held by local artists.
URL:https://visitchillicotheohio.com/event/postly-open-art-show/
LOCATION:Prohibition: Legendary Bourbon Bar\, 105 S. Paint Street\, Chillicothe\, OH\, 45601\, United States
CATEGORIES:Event,Featured Event
END:VEVENT
END:VCALENDAR