BEGIN:VCALENDAR
VERSION:2.0
PRODID:-//Ross-Chillicothe Convention &amp; Visitors Bureau - ECPv6.15.20//NONSGML v1.0//EN
CALSCALE:GREGORIAN
METHOD:PUBLISH
X-ORIGINAL-URL:https://visitchillicotheohio.com
X-WR-CALDESC:Events for Ross-Chillicothe Convention &amp; Visitors Bureau
REFRESH-INTERVAL;VALUE=DURATION:PT1H
X-Robots-Tag:noindex
X-PUBLISHED-TTL:PT1H
BEGIN:VTIMEZONE
TZID:America/New_York
BEGIN:DAYLIGHT
TZOFFSETFROM:-0500
TZOFFSETTO:-0400
TZNAME:EDT
DTSTART:20240310T070000
END:DAYLIGHT
BEGIN:STANDARD
TZOFFSETFROM:-0400
TZOFFSETTO:-0500
TZNAME:EST
DTSTART:20241103T060000
END:STANDARD
BEGIN:DAYLIGHT
TZOFFSETFROM:-0500
TZOFFSETTO:-0400
TZNAME:EDT
DTSTART:20250309T070000
END:DAYLIGHT
BEGIN:STANDARD
TZOFFSETFROM:-0400
TZOFFSETTO:-0500
TZNAME:EST
DTSTART:20251102T060000
END:STANDARD
BEGIN:DAYLIGHT
TZOFFSETFROM:-0500
TZOFFSETTO:-0400
TZNAME:EDT
DTSTART:20260308T070000
END:DAYLIGHT
BEGIN:STANDARD
TZOFFSETFROM:-0400
TZOFFSETTO:-0500
TZNAME:EST
DTSTART:20261101T060000
END:STANDARD
END:VTIMEZONE
BEGIN:VEVENT
DTSTART;TZID=America/New_York:20250927T090000
DTEND;TZID=America/New_York:20250927T150000
DTSTAMP:20260419T230914
CREATED:20250709T192659Z
LAST-MODIFIED:20250709T192659Z
UID:10046301-1758963600-1758985200@visitchillicotheohio.com
SUMMARY:Fall Vendor Craft Fair
DESCRIPTION:National Church Residences employees will host this event in the employee parking lot\, relocating indoors if weather conditions necessitate. Food by All Fired Up BBQ. Split the Pot tickets will be available at the Schaeffer Building at the front desk; drawing will be on September 27 at 2PM (you do not have to be present to win). If interested in a booth\, please contact Sharon Sams at 740-701-4099 for information. She is the only person approved to take payment and application.
URL:https://visitchillicotheohio.com/event/fall-vendor-craft-fair/
LOCATION:National Church Residences Chillicothe Campus\, 142 University Drive\, Chillicothe\, OH\, 45601\, United States
CATEGORIES:App Event,Event,Featured Event
ATTACH;FMTTYPE=image/jpeg:https://visitchillicotheohio.com/wp-content/uploads/2025/07/fallvendor.jpg
GEO:39.3360885;-83.0070572
X-APPLE-STRUCTURED-LOCATION;VALUE=URI;X-ADDRESS=National Church Residences Chillicothe Campus 142 University Drive Chillicothe OH 45601 United States;X-APPLE-RADIUS=500;X-TITLE=142 University Drive:geo:-83.0070572,39.3360885
END:VEVENT
BEGIN:VEVENT
DTSTART;TZID=America/New_York:20250503T100000
DTEND;TZID=America/New_York:20250503T150000
DTSTAMP:20260419T230914
CREATED:20250415T135112Z
LAST-MODIFIED:20250415T135112Z
UID:10045634-1746266400-1746284400@visitchillicotheohio.com
SUMMARY:1st Annual Spring Craft Vendor Fair
DESCRIPTION:Hosted by our employees at National Church Residences for our community and residents. This event will be held in the Employee Parking Lot. Vendors include Jewelry\, Candles\, T-shirts\, Crochets\, Plants\, 3d articulated prints\, Jams & Jelly\, Food Truck and many\, many more!! Event will be held inside if weather does not permit outside activities.
URL:https://visitchillicotheohio.com/event/1st-annual-spring-craft-vendor-fair/
LOCATION:National Church Residences Chillicothe Campus\, 142 University Drive\, Chillicothe\, OH\, 45601\, United States
CATEGORIES:App Event,Event,Featured Event
ATTACH;FMTTYPE=image/jpeg:https://visitchillicotheohio.com/wp-content/uploads/2025/04/ncr.jpg
GEO:39.3360885;-83.0070572
X-APPLE-STRUCTURED-LOCATION;VALUE=URI;X-ADDRESS=National Church Residences Chillicothe Campus 142 University Drive Chillicothe OH 45601 United States;X-APPLE-RADIUS=500;X-TITLE=142 University Drive:geo:-83.0070572,39.3360885
END:VEVENT
END:VCALENDAR