BEGIN:VCALENDAR
VERSION:2.0
PRODID:-//Ross-Chillicothe Convention &amp; Visitors Bureau - ECPv6.15.20//NONSGML v1.0//EN
CALSCALE:GREGORIAN
METHOD:PUBLISH
X-ORIGINAL-URL:https://visitchillicotheohio.com
X-WR-CALDESC:Events for Ross-Chillicothe Convention &amp; Visitors Bureau
REFRESH-INTERVAL;VALUE=DURATION:PT1H
X-Robots-Tag:noindex
X-PUBLISHED-TTL:PT1H
BEGIN:VTIMEZONE
TZID:America/New_York
BEGIN:DAYLIGHT
TZOFFSETFROM:-0500
TZOFFSETTO:-0400
TZNAME:EDT
DTSTART:20230312T070000
END:DAYLIGHT
BEGIN:STANDARD
TZOFFSETFROM:-0400
TZOFFSETTO:-0500
TZNAME:EST
DTSTART:20231105T060000
END:STANDARD
BEGIN:DAYLIGHT
TZOFFSETFROM:-0500
TZOFFSETTO:-0400
TZNAME:EDT
DTSTART:20240310T070000
END:DAYLIGHT
BEGIN:STANDARD
TZOFFSETFROM:-0400
TZOFFSETTO:-0500
TZNAME:EST
DTSTART:20241103T060000
END:STANDARD
BEGIN:DAYLIGHT
TZOFFSETFROM:-0500
TZOFFSETTO:-0400
TZNAME:EDT
DTSTART:20250309T070000
END:DAYLIGHT
BEGIN:STANDARD
TZOFFSETFROM:-0400
TZOFFSETTO:-0500
TZNAME:EST
DTSTART:20251102T060000
END:STANDARD
BEGIN:DAYLIGHT
TZOFFSETFROM:-0500
TZOFFSETTO:-0400
TZNAME:EDT
DTSTART:20260308T070000
END:DAYLIGHT
BEGIN:STANDARD
TZOFFSETFROM:-0400
TZOFFSETTO:-0500
TZNAME:EST
DTSTART:20261101T060000
END:STANDARD
END:VTIMEZONE
BEGIN:VEVENT
DTSTART;TZID=America/New_York:20250607T100000
DTEND;TZID=America/New_York:20250607T100000
DTSTAMP:20260423T184604
CREATED:20250509T133154Z
LAST-MODIFIED:20250509T133154Z
UID:10045649-1749290400-1749290400@visitchillicotheohio.com
SUMMARY:Metahqua 24
DESCRIPTION:RunFluent presents an all new trail race for Ross County!Metahqua 24 will be a beautiful 2 mile trail with race options of:2 mile (single loop race)24 hour solo race (as many laps as possible in 24 hours)24 hour 4 person relay (as many laps as possible in 24 hours).Course details:.7 mile up (200feet of gain).7 miles down (200 feet of loss).6 mile flat.Mix of single track and grass trails. All run-able\, all well groomed.Many more details to come!Thanks to Ross County Parks District for this beautiful park!\n*** We have had several inquiries\, so we have decided to allow 30 hours to earn a 100 mile buckle. The “Race” will remain a 24 hour event\, however\, those chasing after the 100 mile mark and our BA buckle will now have 30 hours to earn it!\n*****Refund policy: RunFluent LLC does not issue refunds on race registrations due to the fact that funds are utilized as they are received to prepare for our upcoming events. In the unfortunate event that you are unable to attend\, we will offer deferrals to any future RunFluent LLC event for the amount equal to your registration fee.\n\nRegistration
URL:https://visitchillicotheohio.com/event/metahqua-24-2/
LOCATION:Metahqua Nature Preserve\, 3663 Walnut Creek Road\, Chillicothe\, OH\, 45601\, United States
CATEGORIES:App Event,Event,Featured Event
ATTACH;FMTTYPE=image/jpeg:https://visitchillicotheohio.com/wp-content/uploads/2025/05/metahqua.jpg
GEO:39.3763509;-82.848751
X-APPLE-STRUCTURED-LOCATION;VALUE=URI;X-ADDRESS=Metahqua Nature Preserve 3663 Walnut Creek Road Chillicothe OH 45601 United States;X-APPLE-RADIUS=500;X-TITLE=3663 Walnut Creek Road:geo:-82.848751,39.3763509
END:VEVENT
BEGIN:VEVENT
DTSTART;TZID=America/New_York:20240601T090000
DTEND;TZID=America/New_York:20240601T090000
DTSTAMP:20260423T184604
CREATED:20240208T210310Z
LAST-MODIFIED:20240208T210310Z
UID:10044908-1717232400-1717232400@visitchillicotheohio.com
SUMMARY:Metahqua 24
DESCRIPTION:RunFluent presents an all new trail race for Ross County!\nMetahqua 24 will be a beautiful 2 mile trail with race options of:\n2 mile (single loop race)\n24 hour solo race (as many laps as possible in 24 hours)\n24 hour 4 person relay (as many laps as possible in 24 hours).\nCourse details:\n.7 mile up (200feet of gain)\n.7 miles down (200 feet of loss)\n.6 mile flat.\nMix of single track and grass trails. All run-able\, all well groomed.\nMany more details to come!\nThanks to Ross County Parks District for this beautiful park!
URL:https://visitchillicotheohio.com/event/metahqua-24/
LOCATION:Metahqua Nature Preserve\, 3663 Walnut Creek Road\, Chillicothe\, OH\, 45601\, United States
CATEGORIES:App Event,Event,Featured Event
ATTACH;FMTTYPE=image/jpeg:https://visitchillicotheohio.com/wp-content/uploads/2024/02/metahqua.jpg
GEO:39.3763509;-82.848751
X-APPLE-STRUCTURED-LOCATION;VALUE=URI;X-ADDRESS=Metahqua Nature Preserve 3663 Walnut Creek Road Chillicothe OH 45601 United States;X-APPLE-RADIUS=500;X-TITLE=3663 Walnut Creek Road:geo:-82.848751,39.3763509
END:VEVENT
END:VCALENDAR