BEGIN:VCALENDAR
VERSION:2.0
PRODID:-//Ross-Chillicothe Convention &amp; Visitors Bureau - ECPv6.15.20//NONSGML v1.0//EN
CALSCALE:GREGORIAN
METHOD:PUBLISH
X-WR-CALNAME:Ross-Chillicothe Convention &amp; Visitors Bureau
X-ORIGINAL-URL:https://visitchillicotheohio.com
X-WR-CALDESC:Events for Ross-Chillicothe Convention &amp; Visitors Bureau
REFRESH-INTERVAL;VALUE=DURATION:PT1H
X-Robots-Tag:noindex
X-PUBLISHED-TTL:PT1H
BEGIN:VTIMEZONE
TZID:America/New_York
BEGIN:DAYLIGHT
TZOFFSETFROM:-0500
TZOFFSETTO:-0400
TZNAME:EDT
DTSTART:20220313T070000
END:DAYLIGHT
BEGIN:STANDARD
TZOFFSETFROM:-0400
TZOFFSETTO:-0500
TZNAME:EST
DTSTART:20221106T060000
END:STANDARD
BEGIN:DAYLIGHT
TZOFFSETFROM:-0500
TZOFFSETTO:-0400
TZNAME:EDT
DTSTART:20230312T070000
END:DAYLIGHT
BEGIN:STANDARD
TZOFFSETFROM:-0400
TZOFFSETTO:-0500
TZNAME:EST
DTSTART:20231105T060000
END:STANDARD
BEGIN:DAYLIGHT
TZOFFSETFROM:-0500
TZOFFSETTO:-0400
TZNAME:EDT
DTSTART:20240310T070000
END:DAYLIGHT
BEGIN:STANDARD
TZOFFSETFROM:-0400
TZOFFSETTO:-0500
TZNAME:EST
DTSTART:20241103T060000
END:STANDARD
BEGIN:DAYLIGHT
TZOFFSETFROM:-0500
TZOFFSETTO:-0400
TZNAME:EDT
DTSTART:20250309T070000
END:DAYLIGHT
BEGIN:STANDARD
TZOFFSETFROM:-0400
TZOFFSETTO:-0500
TZNAME:EST
DTSTART:20251102T060000
END:STANDARD
END:VTIMEZONE
BEGIN:VEVENT
DTSTART;TZID=America/New_York:20240217T193000
DTEND;TZID=America/New_York:20240217T210000
DTSTAMP:20260419T195543
CREATED:20231130T204657Z
LAST-MODIFIED:20240214T134106Z
UID:10044770-1708198200-1708203600@visitchillicotheohio.com
SUMMARY:Aubrey Rey with Shane Runion
DESCRIPTION:Aubrey Rey is a singer/songwriter from Schwenksville\, Pennsylvania. She started singing at age 6 and wrote her first song when she was just 14 years old. When she was 17\, she appeared ON American Idol\, where she was formally introduced to the world as a powerhouse vocalist. After ‘Idol’\, she moved to Nashville\, where she paid her dues singing in the many famous clubs of Lower Broadway. Those long gigs and the people she met on those stages forged Aubrey into the unstoppable artist she is today. When she’s not writing and performing\, Aubrey splits her time between here hometown and Nashville\, with the people who inspire all of her music. Aubrey’s newest single\, “The Girl”\, along with the accompanying music video\, can be found on all streaming platforms. \nPurchase Tickets
URL:https://visitchillicotheohio.com/event/aubrey-rey/
LOCATION:Majestic Theatre\, 45 E. Second Street\, Chillicothe\, OH\, 45601\, United States
CATEGORIES:App Event,Event,Featured Event
ATTACH;FMTTYPE=image/jpeg:https://visitchillicotheohio.com/wp-content/uploads/2023/11/aubreyrey.jpg
GEO:39.3349771;-82.9810456
X-APPLE-STRUCTURED-LOCATION;VALUE=URI;X-ADDRESS=Majestic Theatre 45 E. Second Street Chillicothe OH 45601 United States;X-APPLE-RADIUS=500;X-TITLE=45 E. Second Street:geo:-82.9810456,39.3349771
END:VEVENT
BEGIN:VEVENT
DTSTART;TZID=America/New_York:20240203T193000
DTEND;TZID=America/New_York:20240203T210000
DTSTAMP:20260419T195543
CREATED:20231130T204536Z
LAST-MODIFIED:20231130T204536Z
UID:10044768-1706988600-1706994000@visitchillicotheohio.com
SUMMARY:Moose Miller
DESCRIPTION:Authenticity and vulnerability are the two qualities twenty three year old\, Moose Miller strives for in his music. The Ohio native has Appalachian roots that run as deep as the hills themselves\, and his music is infused with an honesty and sincerity that seem to flow straight from his soul directly into his songs. He holds a deep reverence for the blood\, sweat\, and tears shed by those who work to carve out a living for themselves among the backwoods and hills he calls home. He draws much of his inspiration from his rural roots and upbringing as well as some in his musical heroes – Tyler Childers\, Zach Bryan and The Isaacs. \nGrowing up in rural Pike County\, Miller developed an early love for music in church. His father is a pastor\, and he was raised on the soulful sounds of Southern gospel and bluegrass. Along with singing and playing guitar in church\, the biggest thing in his early life though\, was sports. Moose\, a talented athlete\, landed in Nashville on a basketball scholarship from 2019-2021. He discovered a creative outlet in songwriting during that time\, and fell in love with songwriting. After meeting Jennifer Rai\, Moose signed a music publishing/artist development deal with ginmarc entertainment in fall of 2022. He went into the studio early 2023\, recorded his first project with producer Mark Bright (Carrie Underwood\, Rascal Flatts) and has released four singles to all streaming services. “Where The Wild Things Are” “Time That Kills” “Lovin’Me” and his latest release\, “Happily Die” have gained over 130\,000 streams in less than 3 months. Miller is headed back into the studio with Bright to record additional music for an album release in 2024. \nPurchase Tickets
URL:https://visitchillicotheohio.com/event/moose-miller/
LOCATION:Majestic Theatre\, 45 E. Second Street\, Chillicothe\, OH\, 45601\, United States
CATEGORIES:App Event,Event,Featured Event
ATTACH;FMTTYPE=image/jpeg:https://visitchillicotheohio.com/wp-content/uploads/2023/11/Moose-Miller.jpg
GEO:39.3349771;-82.9810456
X-APPLE-STRUCTURED-LOCATION;VALUE=URI;X-ADDRESS=Majestic Theatre 45 E. Second Street Chillicothe OH 45601 United States;X-APPLE-RADIUS=500;X-TITLE=45 E. Second Street:geo:-82.9810456,39.3349771
END:VEVENT
BEGIN:VEVENT
DTSTART;TZID=America/New_York:20240202T193000
DTEND;TZID=America/New_York:20240202T213000
DTSTAMP:20260419T195543
CREATED:20231030T131555Z
LAST-MODIFIED:20231030T131555Z
UID:10044623-1706902200-1706909400@visitchillicotheohio.com
SUMMARY:Twitty & Lynn - A Salute to Conway & Loretta
DESCRIPTION:There’s a moment right at the very beginning of any Twitty & Lynn show that affords country music fans the chance to lookback in time. Just after the band has played the signature intro to “Louisiana Woman\, Mississippi Man\,” Tre Twitty and Tayla Lynn shoot each other a glance that summons the electrifying chemistry of their grandparents: Tre is the grandson of Conway Twitty\, Tayla is the granddaughter of Loretta Lynn. \nNow together as “Twitty & Lynn” for five years and poised to launch a huge summertime tour\, the duo has cultivated an audience and caught the attention of Nashville along the way. In 2022\, they made their debut on the world-famous Grand Ole Opry\, singing “Louisiana Woman\, Mississippi Man” on the very same circle of wood where Conway and Loretta once stood. \nThe duo credits their show’s popularity to the timeless songs of Conway and Loretta — duets like “After the Fire Is Gone” and “You’re the Reason Our Kids Are Ugly” are all in the set\, along with Conway and Loretta solo hits like “Hello\, Darlin’” and “Coal Miner’s Daughter.” But they’re also giving audiences a chance to relive a moment in time that ended far too soon. \nGet Tickets
URL:https://visitchillicotheohio.com/event/twitty-lynn-a-salute-to-conway-loretta/
LOCATION:Majestic Theatre\, 45 E. Second Street\, Chillicothe\, OH\, 45601\, United States
CATEGORIES:App Event,Event,Featured Event
ATTACH;FMTTYPE=image/jpeg:https://visitchillicotheohio.com/wp-content/uploads/2023/10/Ticket-image.jpg
GEO:39.3349771;-82.9810456
X-APPLE-STRUCTURED-LOCATION;VALUE=URI;X-ADDRESS=Majestic Theatre 45 E. Second Street Chillicothe OH 45601 United States;X-APPLE-RADIUS=500;X-TITLE=45 E. Second Street:geo:-82.9810456,39.3349771
END:VEVENT
BEGIN:VEVENT
DTSTART;TZID=America/New_York:20240127T193000
DTEND;TZID=America/New_York:20240127T210000
DTSTAMP:20260419T195543
CREATED:20231130T204340Z
LAST-MODIFIED:20231130T204340Z
UID:10044766-1706383800-1706389200@visitchillicotheohio.com
SUMMARY:The Lonely Ones
DESCRIPTION:Formed in the summer of 2019\, The Lonely Ones are a four piece vocal-oriented hard rock band with an ear for melody and a taste for success. No strangers to the hardships of the music industry\, The Lonely Ones know what they want and know how to get it. Their first singles “Eternal Sadness” and “The Lonely One” from their yet untitled album were released in March of 2020. \nThe Lonely Ones are: \nMarty McCoy – guitar / vocals \nTristan Woodruff – drums \nJymmy Tolland – guitar / vocals \nTru Payne Roberts – bass / vocals \nPurchase Tickets
URL:https://visitchillicotheohio.com/event/the-lonely-ones/
LOCATION:Majestic Theatre\, 45 E. Second Street\, Chillicothe\, OH\, 45601\, United States
CATEGORIES:App Event,Event,Featured Event
ATTACH;FMTTYPE=image/jpeg:https://visitchillicotheohio.com/wp-content/uploads/2023/11/lonely-ones.jpg
GEO:39.3349771;-82.9810456
X-APPLE-STRUCTURED-LOCATION;VALUE=URI;X-ADDRESS=Majestic Theatre 45 E. Second Street Chillicothe OH 45601 United States;X-APPLE-RADIUS=500;X-TITLE=45 E. Second Street:geo:-82.9810456,39.3349771
END:VEVENT
BEGIN:VEVENT
DTSTART;TZID=America/New_York:20231213T193000
DTEND;TZID=America/New_York:20231213T220000
DTSTAMP:20260419T195543
CREATED:20230713T141614Z
LAST-MODIFIED:20230713T141614Z
UID:10044475-1702495800-1702504800@visitchillicotheohio.com
SUMMARY:John Berry 27th Annual Christmas Tour
DESCRIPTION:John Berry\, GRAMMY® winning singer/songwriter has announced dates for his 27th Annual Christmas Tour 2023. The past couple of years have brought many new challenges to the touring industry\, but John Berry is determined to continue bringing the joy of live music and the much-needed Christmas spirit to fans in 2023. \nJohn Berry is well known for his seasonal fan-favorite holiday performances\, which are filled with traditional Christmas songs\, including his incredible version of “O Holy Night\,” many of his most requested hit songs\, and a few of his childhood stories sprinkled in. \nVIP Experience Package to include: \n\nEarly access for VIP holders (1) one hour before doors\nCasual Meet & Greet with John in the theatre or space mutually agreed upon\nQuestions and answer session with John and fans\n2-3 acoustic songs performed by John\nAutograph opportunity with John\nPhoto opportunity with John\n\nDoors Open: 6:30pm / Show at 7:30pm\nVIP Event: 5:30pm at the Majestic Theatre \nPurchase Tickets
URL:https://visitchillicotheohio.com/event/john-berry-27th-annual-christmas-tour/
LOCATION:Majestic Theatre\, 45 E. Second Street\, Chillicothe\, OH\, 45601\, United States
CATEGORIES:App Event,Event,Featured Event
ATTACH;FMTTYPE=image/jpeg:https://visitchillicotheohio.com/wp-content/uploads/2023/07/JB-Slider.jpg
GEO:39.3349771;-82.9810456
X-APPLE-STRUCTURED-LOCATION;VALUE=URI;X-ADDRESS=Majestic Theatre 45 E. Second Street Chillicothe OH 45601 United States;X-APPLE-RADIUS=500;X-TITLE=45 E. Second Street:geo:-82.9810456,39.3349771
END:VEVENT
BEGIN:VEVENT
DTSTART;TZID=America/New_York:20231210T150000
DTEND;TZID=America/New_York:20231210T170000
DTSTAMP:20260419T195543
CREATED:20231030T142248Z
LAST-MODIFIED:20231030T142248Z
UID:10044627-1702220400-1702227600@visitchillicotheohio.com
SUMMARY:Chillicothe Civic Theatre presents "The Sound of Music"
DESCRIPTION:Chillicothe Civic Theatre presents one of the most beloved musicals of all time\, “The Sound of Music.” The story takes place in Austria\, 1938\, where an exuberant young governess brings music and joy back to a broken family\, only to face danger and intrigue as the Nazis gain power. \nPurchase Tickets
URL:https://visitchillicotheohio.com/event/chillicothe-civic-theatre-presents-the-sound-of-music/2023-12-10/
LOCATION:Majestic Theatre\, 45 E. Second Street\, Chillicothe\, OH\, 45601\, United States
CATEGORIES:Event,Featured Event
ATTACH;FMTTYPE=image/jpeg:https://visitchillicotheohio.com/wp-content/uploads/2023/10/hero-sound-of-music.jpg
GEO:39.3349771;-82.9810456
X-APPLE-STRUCTURED-LOCATION;VALUE=URI;X-ADDRESS=Majestic Theatre 45 E. Second Street Chillicothe OH 45601 United States;X-APPLE-RADIUS=500;X-TITLE=45 E. Second Street:geo:-82.9810456,39.3349771
END:VEVENT
BEGIN:VEVENT
DTSTART;TZID=America/New_York:20231209T190000
DTEND;TZID=America/New_York:20231212T210000
DTSTAMP:20260419T195543
CREATED:20231030T142257Z
LAST-MODIFIED:20231030T142319Z
UID:10044630-1702148400-1702414800@visitchillicotheohio.com
SUMMARY:Chillicothe Civic Theatre presents "The Sound of Music"
DESCRIPTION:Chillicothe Civic Theatre presents one of the most beloved musicals of all time\, “The Sound of Music.” The story takes place in Austria\, 1938\, where an exuberant young governess brings music and joy back to a broken family\, only to face danger and intrigue as the Nazis gain power. \nPurchase Tickets
URL:https://visitchillicotheohio.com/event/chillicothe-civic-theatre-presents-the-sound-of-music-copy/2023-12-09/
LOCATION:Majestic Theatre\, 45 E. Second Street\, Chillicothe\, OH\, 45601\, United States
CATEGORIES:App Event
ATTACH;FMTTYPE=image/jpeg:https://visitchillicotheohio.com/wp-content/uploads/2023/10/hero-sound-of-music.jpg
GEO:39.3349771;-82.9810456
X-APPLE-STRUCTURED-LOCATION;VALUE=URI;X-ADDRESS=Majestic Theatre 45 E. Second Street Chillicothe OH 45601 United States;X-APPLE-RADIUS=500;X-TITLE=45 E. Second Street:geo:-82.9810456,39.3349771
END:VEVENT
BEGIN:VEVENT
DTSTART;TZID=America/New_York:20231209T190000
DTEND;TZID=America/New_York:20231209T210000
DTSTAMP:20260419T195543
CREATED:20231030T142248Z
LAST-MODIFIED:20231030T142248Z
UID:10044626-1702148400-1702155600@visitchillicotheohio.com
SUMMARY:Chillicothe Civic Theatre presents "The Sound of Music"
DESCRIPTION:Chillicothe Civic Theatre presents one of the most beloved musicals of all time\, “The Sound of Music.” The story takes place in Austria\, 1938\, where an exuberant young governess brings music and joy back to a broken family\, only to face danger and intrigue as the Nazis gain power. \nPurchase Tickets
URL:https://visitchillicotheohio.com/event/chillicothe-civic-theatre-presents-the-sound-of-music/2023-12-09/
LOCATION:Majestic Theatre\, 45 E. Second Street\, Chillicothe\, OH\, 45601\, United States
CATEGORIES:Event,Featured Event
ATTACH;FMTTYPE=image/jpeg:https://visitchillicotheohio.com/wp-content/uploads/2023/10/hero-sound-of-music.jpg
GEO:39.3349771;-82.9810456
X-APPLE-STRUCTURED-LOCATION;VALUE=URI;X-ADDRESS=Majestic Theatre 45 E. Second Street Chillicothe OH 45601 United States;X-APPLE-RADIUS=500;X-TITLE=45 E. Second Street:geo:-82.9810456,39.3349771
END:VEVENT
BEGIN:VEVENT
DTSTART;TZID=America/New_York:20231208T190000
DTEND;TZID=America/New_York:20231211T210000
DTSTAMP:20260419T195543
CREATED:20231030T142257Z
LAST-MODIFIED:20231030T142319Z
UID:10044629-1702062000-1702328400@visitchillicotheohio.com
SUMMARY:Chillicothe Civic Theatre presents "The Sound of Music"
DESCRIPTION:Chillicothe Civic Theatre presents one of the most beloved musicals of all time\, “The Sound of Music.” The story takes place in Austria\, 1938\, where an exuberant young governess brings music and joy back to a broken family\, only to face danger and intrigue as the Nazis gain power. \nPurchase Tickets
URL:https://visitchillicotheohio.com/event/chillicothe-civic-theatre-presents-the-sound-of-music-copy/2023-12-08/
LOCATION:Majestic Theatre\, 45 E. Second Street\, Chillicothe\, OH\, 45601\, United States
CATEGORIES:App Event
ATTACH;FMTTYPE=image/jpeg:https://visitchillicotheohio.com/wp-content/uploads/2023/10/hero-sound-of-music.jpg
GEO:39.3349771;-82.9810456
X-APPLE-STRUCTURED-LOCATION;VALUE=URI;X-ADDRESS=Majestic Theatre 45 E. Second Street Chillicothe OH 45601 United States;X-APPLE-RADIUS=500;X-TITLE=45 E. Second Street:geo:-82.9810456,39.3349771
END:VEVENT
BEGIN:VEVENT
DTSTART;TZID=America/New_York:20231208T190000
DTEND;TZID=America/New_York:20231208T210000
DTSTAMP:20260419T195543
CREATED:20231030T142248Z
LAST-MODIFIED:20231030T142248Z
UID:10044625-1702062000-1702069200@visitchillicotheohio.com
SUMMARY:Chillicothe Civic Theatre presents "The Sound of Music"
DESCRIPTION:Chillicothe Civic Theatre presents one of the most beloved musicals of all time\, “The Sound of Music.” The story takes place in Austria\, 1938\, where an exuberant young governess brings music and joy back to a broken family\, only to face danger and intrigue as the Nazis gain power. \nPurchase Tickets
URL:https://visitchillicotheohio.com/event/chillicothe-civic-theatre-presents-the-sound-of-music/2023-12-08/
LOCATION:Majestic Theatre\, 45 E. Second Street\, Chillicothe\, OH\, 45601\, United States
CATEGORIES:Event,Featured Event
ATTACH;FMTTYPE=image/jpeg:https://visitchillicotheohio.com/wp-content/uploads/2023/10/hero-sound-of-music.jpg
GEO:39.3349771;-82.9810456
X-APPLE-STRUCTURED-LOCATION;VALUE=URI;X-ADDRESS=Majestic Theatre 45 E. Second Street Chillicothe OH 45601 United States;X-APPLE-RADIUS=500;X-TITLE=45 E. Second Street:geo:-82.9810456,39.3349771
END:VEVENT
BEGIN:VEVENT
DTSTART;TZID=America/New_York:20231207T190000
DTEND;TZID=America/New_York:20231210T210000
DTSTAMP:20260419T195543
CREATED:20231030T142257Z
LAST-MODIFIED:20231030T142319Z
UID:10044628-1701975600-1702242000@visitchillicotheohio.com
SUMMARY:Chillicothe Civic Theatre presents "The Sound of Music"
DESCRIPTION:Chillicothe Civic Theatre presents one of the most beloved musicals of all time\, “The Sound of Music.” The story takes place in Austria\, 1938\, where an exuberant young governess brings music and joy back to a broken family\, only to face danger and intrigue as the Nazis gain power. \nPurchase Tickets
URL:https://visitchillicotheohio.com/event/chillicothe-civic-theatre-presents-the-sound-of-music-copy/2023-12-07/
LOCATION:Majestic Theatre\, 45 E. Second Street\, Chillicothe\, OH\, 45601\, United States
CATEGORIES:App Event
ATTACH;FMTTYPE=image/jpeg:https://visitchillicotheohio.com/wp-content/uploads/2023/10/hero-sound-of-music.jpg
GEO:39.3349771;-82.9810456
X-APPLE-STRUCTURED-LOCATION;VALUE=URI;X-ADDRESS=Majestic Theatre 45 E. Second Street Chillicothe OH 45601 United States;X-APPLE-RADIUS=500;X-TITLE=45 E. Second Street:geo:-82.9810456,39.3349771
END:VEVENT
BEGIN:VEVENT
DTSTART;TZID=America/New_York:20231207T190000
DTEND;TZID=America/New_York:20231207T210000
DTSTAMP:20260419T195543
CREATED:20231030T142248Z
LAST-MODIFIED:20231030T142248Z
UID:10044624-1701975600-1701982800@visitchillicotheohio.com
SUMMARY:Chillicothe Civic Theatre presents "The Sound of Music"
DESCRIPTION:Chillicothe Civic Theatre presents one of the most beloved musicals of all time\, “The Sound of Music.” The story takes place in Austria\, 1938\, where an exuberant young governess brings music and joy back to a broken family\, only to face danger and intrigue as the Nazis gain power. \nPurchase Tickets
URL:https://visitchillicotheohio.com/event/chillicothe-civic-theatre-presents-the-sound-of-music/2023-12-07/
LOCATION:Majestic Theatre\, 45 E. Second Street\, Chillicothe\, OH\, 45601\, United States
CATEGORIES:Event,Featured Event
ATTACH;FMTTYPE=image/jpeg:https://visitchillicotheohio.com/wp-content/uploads/2023/10/hero-sound-of-music.jpg
GEO:39.3349771;-82.9810456
X-APPLE-STRUCTURED-LOCATION;VALUE=URI;X-ADDRESS=Majestic Theatre 45 E. Second Street Chillicothe OH 45601 United States;X-APPLE-RADIUS=500;X-TITLE=45 E. Second Street:geo:-82.9810456,39.3349771
END:VEVENT
BEGIN:VEVENT
DTSTART;TZID=America/New_York:20231202T193000
DTEND;TZID=America/New_York:20231202T213000
DTSTAMP:20260419T195543
CREATED:20230728T155838Z
LAST-MODIFIED:20230728T155838Z
UID:10044485-1701545400-1701552600@visitchillicotheohio.com
SUMMARY:Phil Dirt and the Dozers
DESCRIPTION:Phil Dirt & The Dozers will hold their annual concert at the Majestic Theatre in Chillicothe. Fans of all ages can enjoy this family friendly stroll through the oldies but goodies along with some of the band’s Christmas favorites. Join Phil Dirt and the Dozers on the ultimate musical journey through the 50’s\, 60’s and 70’s rock and roll. \nGet Tickets
URL:https://visitchillicotheohio.com/event/phil-dirt-and-the-dozers-10/
LOCATION:Majestic Theatre\, 45 E. Second Street\, Chillicothe\, OH\, 45601\, United States
CATEGORIES:App Event,Event,Featured Event
ATTACH;FMTTYPE=image/jpeg:https://visitchillicotheohio.com/wp-content/uploads/2023/07/Fun_V2.jpg
GEO:39.3349771;-82.9810456
X-APPLE-STRUCTURED-LOCATION;VALUE=URI;X-ADDRESS=Majestic Theatre 45 E. Second Street Chillicothe OH 45601 United States;X-APPLE-RADIUS=500;X-TITLE=45 E. Second Street:geo:-82.9810456,39.3349771
END:VEVENT
BEGIN:VEVENT
DTSTART;TZID=America/New_York:20231021T193000
DTEND;TZID=America/New_York:20231021T230000
DTSTAMP:20260419T195543
CREATED:20230627T142427Z
LAST-MODIFIED:20230627T142427Z
UID:10044165-1697916600-1697929200@visitchillicotheohio.com
SUMMARY:Rocking to Raise the Roof: 3 Bands/1 Night
DESCRIPTION:One-night only! The Majestic Theatre is hosting 3 bands for its Rocking to Raise the Roof event. Audience will be able to cast votes to award one of the bands with a “People’s Choice Award.” Additionally\, there will be a 50/50 drawing\, snacks\, beer\, and great music all night! \nPerformances include:\n• Felony4\n• The Wegians\n• BBJ Project \nProceeds from this event will help the Majestic Theatre fund its next renovation project which is to replace the deteriorating roof. Come out for an amazing night of music where your dollars will make a lasting impact on the historic landmark in downtown Chillicothe.  \nGet Tickets
URL:https://visitchillicotheohio.com/event/rocking-to-raise-the-roof-3-bands-1-night/
LOCATION:Majestic Theatre\, 45 E. Second Street\, Chillicothe\, OH\, 45601\, United States
CATEGORIES:App Event,Event,Featured Event
ATTACH;FMTTYPE=image/jpeg:https://visitchillicotheohio.com/wp-content/uploads/2023/06/Raise-Roof-Facebooka.jpg
GEO:39.3349771;-82.9810456
X-APPLE-STRUCTURED-LOCATION;VALUE=URI;X-ADDRESS=Majestic Theatre 45 E. Second Street Chillicothe OH 45601 United States;X-APPLE-RADIUS=500;X-TITLE=45 E. Second Street:geo:-82.9810456,39.3349771
END:VEVENT
BEGIN:VEVENT
DTSTART;TZID=America/New_York:20231020T193000
DTEND;TZID=America/New_York:20231020T213000
DTSTAMP:20260419T195543
CREATED:20230427T173134Z
LAST-MODIFIED:20230427T173134Z
UID:10043599-1697830200-1697837400@visitchillicotheohio.com
SUMMARY:Fleetwood Gold - Fleetwood Mac Experience
DESCRIPTION:Fleetwood Gold\, The Fleetwood Mac Experience\, is the most followed Fleetwood Mac tribute band in the Midwest\, performing for more than 35\,000 fans in 2022. The band is led by two-time national blues guitar champion Chris Shutters (Lyndsey) and Columbus\, Ohio-based singers/songwriters Erika Prehm (Stevie) and Sara Reat (Christine).\nIt’s all about the music. No backing tracks or tricks. They will take you on a musical journey through the best of Fleetwood Mac\, from the early Peter Green years through Stevie Nicks’ solo career. In less than two years\, Fleetwood Gold\, has set itself apart from other tributes with their tightly fused vocal harmonies\, lead vocals and instrumental excellence. Experience the magic of Fleetwood Gold.\nSongs include Go Your Own Way\, Say You Love Me\, Stop Dragging My Heart Around\, The Chain\, Never Going Back Again\, Landslide\, Don’t Stop\, Everywhere\, Dreams\, Oh Well\, Little Lies\, Tusk\, Black Magic Woman\, Gold Dust Woman and more. (setlist subject to change)\n\nGet Your Tickets Now
URL:https://visitchillicotheohio.com/event/fleetwood-gold-fleetwood-mac-experience/
LOCATION:Majestic Theatre\, 45 E. Second Street\, Chillicothe\, OH\, 45601\, United States
CATEGORIES:App Event,Event,Featured Event
ATTACH;FMTTYPE=image/jpeg:https://visitchillicotheohio.com/wp-content/uploads/2023/04/Main-FG-Majestic.jpg
GEO:39.3349771;-82.9810456
X-APPLE-STRUCTURED-LOCATION;VALUE=URI;X-ADDRESS=Majestic Theatre 45 E. Second Street Chillicothe OH 45601 United States;X-APPLE-RADIUS=500;X-TITLE=45 E. Second Street:geo:-82.9810456,39.3349771
END:VEVENT
BEGIN:VEVENT
DTSTART;TZID=America/New_York:20230909T190000
DTEND;TZID=America/New_York:20230909T210000
DTSTAMP:20260419T195543
CREATED:20230501T201422Z
LAST-MODIFIED:20230501T201422Z
UID:10043980-1694286000-1694293200@visitchillicotheohio.com
SUMMARY:American Celebration featuring Music City Quartet
DESCRIPTION:Positive Country Records presents an “American Celebration” featuring the Music City Quartet from Nashville. The Music City Quartet along with recording artist Jeremy Abbott\, Lily Mae Border\, Bev McCann\, and other surprise guests. \nTickets are General Admission (no reserved seating). \n\n\n\n\n\n\n\nSaturday\, September 9\, 2023 at 7:00 PM EDT\n\n\n\n$20.00 – $25.00\n\n\n\nMajestic Theatre \n45 E 2nd St\, Chillicothe\, OH 45601
URL:https://visitchillicotheohio.com/event/american-celebration-featuring-music-city-quartet/
LOCATION:Majestic Theatre\, 45 E. Second Street\, Chillicothe\, OH\, 45601\, United States
CATEGORIES:Event
ATTACH;FMTTYPE=image/jpeg:https://visitchillicotheohio.com/wp-content/uploads/2023/05/American-Celebration.jpg
GEO:39.3349771;-82.9810456
X-APPLE-STRUCTURED-LOCATION;VALUE=URI;X-ADDRESS=Majestic Theatre 45 E. Second Street Chillicothe OH 45601 United States;X-APPLE-RADIUS=500;X-TITLE=45 E. Second Street:geo:-82.9810456,39.3349771
END:VEVENT
BEGIN:VEVENT
DTSTART;TZID=America/New_York:20230722T193000
DTEND;TZID=America/New_York:20230722T213000
DTSTAMP:20260419T195543
CREATED:20230615T204604Z
LAST-MODIFIED:20230615T204623Z
UID:10044135-1690054200-1690061400@visitchillicotheohio.com
SUMMARY:McGuffey Lane
DESCRIPTION:Celebrate the completion of the HVAC for the theatre in the now air conditioned building with a great night of music from McGuffey Lane! \nMcGuffey Lane is a country rock band from central Ohio. In 1972 founding members Steve George Reis (bass/ vocals) and Terry Efaw (steel guitar/ gut string guitar/ electric guitar) were a duo called “Scotch and Soda”. When they added Bobby Gene McNelley (vocalist/ guitarist) they renamed themselves McGuffey Lane after the street of Steve’s Athens Ohio home. As their popularity grew they added Dick Smith (drums/ vocals) and Stephen “Tebes” Douglass (keyboards/ harmonica/ vocals). In 1977 McGuffey Lane started playing at Zachariah’s Red Eye Saloon and soon became the house band. At that point they added John Schwab (vocalist/ guitarist) who was opening for them as the sixth and final member of the original McGuffey Lane. \nMcGuffey Lane’s history mirrors one of the songs from their 2002 “Wood” album. “I’ve been up and down and all around my head in the clouds and my feet on the ground. Don’t you worry baby don’t you worry about me. Cause I’ve survived everything that comes and goes. I still know which way that old north wind blows. After all these years I’m “Runnin’ Wild and Free”. McGuffey Lane is still going strong with the three original surviving members (Steve George Reis\, Terry Efaw and John Schwab) in the band. McGuffey Lane still performs 20+ concerts annually. The Journey Continues and “It’s A Good Day”. \nDoors Open at 6:30pm / Showtime 7:30pm \nGet Tickets
URL:https://visitchillicotheohio.com/event/mcguffey-lane-7/
LOCATION:Majestic Theatre\, 45 E. Second Street\, Chillicothe\, OH\, 45601\, United States
CATEGORIES:App Event,Event,Featured Event
ATTACH;FMTTYPE=image/jpeg:https://visitchillicotheohio.com/wp-content/uploads/2023/06/promodemo2color-scaled.jpg
GEO:39.3349771;-82.9810456
X-APPLE-STRUCTURED-LOCATION;VALUE=URI;X-ADDRESS=Majestic Theatre 45 E. Second Street Chillicothe OH 45601 United States;X-APPLE-RADIUS=500;X-TITLE=45 E. Second Street:geo:-82.9810456,39.3349771
END:VEVENT
END:VCALENDAR