BEGIN:VCALENDAR
VERSION:2.0
PRODID:-//Ross-Chillicothe Convention &amp; Visitors Bureau - ECPv6.15.20//NONSGML v1.0//EN
CALSCALE:GREGORIAN
METHOD:PUBLISH
X-WR-CALNAME:Ross-Chillicothe Convention &amp; Visitors Bureau
X-ORIGINAL-URL:https://visitchillicotheohio.com
X-WR-CALDESC:Events for Ross-Chillicothe Convention &amp; Visitors Bureau
REFRESH-INTERVAL;VALUE=DURATION:PT1H
X-Robots-Tag:noindex
X-PUBLISHED-TTL:PT1H
BEGIN:VTIMEZONE
TZID:America/New_York
BEGIN:DAYLIGHT
TZOFFSETFROM:-0500
TZOFFSETTO:-0400
TZNAME:EDT
DTSTART:20220313T070000
END:DAYLIGHT
BEGIN:STANDARD
TZOFFSETFROM:-0400
TZOFFSETTO:-0500
TZNAME:EST
DTSTART:20221106T060000
END:STANDARD
BEGIN:DAYLIGHT
TZOFFSETFROM:-0500
TZOFFSETTO:-0400
TZNAME:EDT
DTSTART:20230312T070000
END:DAYLIGHT
BEGIN:STANDARD
TZOFFSETFROM:-0400
TZOFFSETTO:-0500
TZNAME:EST
DTSTART:20231105T060000
END:STANDARD
BEGIN:DAYLIGHT
TZOFFSETFROM:-0500
TZOFFSETTO:-0400
TZNAME:EDT
DTSTART:20240310T070000
END:DAYLIGHT
BEGIN:STANDARD
TZOFFSETFROM:-0400
TZOFFSETTO:-0500
TZNAME:EST
DTSTART:20241103T060000
END:STANDARD
BEGIN:DAYLIGHT
TZOFFSETFROM:-0500
TZOFFSETTO:-0400
TZNAME:EDT
DTSTART:20250309T070000
END:DAYLIGHT
BEGIN:STANDARD
TZOFFSETFROM:-0400
TZOFFSETTO:-0500
TZNAME:EST
DTSTART:20251102T060000
END:STANDARD
END:VTIMEZONE
BEGIN:VEVENT
DTSTART;TZID=America/New_York:20240803T130000
DTEND;TZID=America/New_York:20240803T160000
DTSTAMP:20260419T183507
CREATED:20240417T185611Z
LAST-MODIFIED:20240417T185611Z
UID:10044228-1722690000-1722700800@visitchillicotheohio.com
SUMMARY:Kings Inn Car Show
DESCRIPTION:Kings Inn hosts their annual Car Show. Trophy & gas card awarded for Top 3. No entry fee\, donation for the Ross County Humane Society. Voting will be by public. \nSign up begins at 12:30pm
URL:https://visitchillicotheohio.com/event/kings-inn-car-show-5/
LOCATION:Kings Inn Tavern Giovanni’s Pizza\, 7 N. Main Street\, Kingston\, OH\, 45644\, United States
CATEGORIES:Event
GEO:39.4732074;-82.9110056
X-APPLE-STRUCTURED-LOCATION;VALUE=URI;X-ADDRESS=Kings Inn Tavern Giovanni’s Pizza 7 N. Main Street Kingston OH 45644 United States;X-APPLE-RADIUS=500;X-TITLE=7 N. Main Street:geo:-82.9110056,39.4732074
END:VEVENT
BEGIN:VEVENT
DTSTART;TZID=America/New_York:20230805T130000
DTEND;TZID=America/New_York:20230805T160000
DTSTAMP:20260419T183507
CREATED:20230616T132118Z
LAST-MODIFIED:20230616T132118Z
UID:10043667-1691240400-1691251200@visitchillicotheohio.com
SUMMARY:King's Inn Car Show
DESCRIPTION:Annual car show on Main St. in Kingston. Sign up begins at 12:30pm\, no entry fee\, winners will be voted on by the public.
URL:https://visitchillicotheohio.com/event/kings-inn-car-show-4/
LOCATION:Kings Inn Tavern Giovanni’s Pizza\, 7 N. Main Street\, Kingston\, OH\, 45644\, United States
CATEGORIES:Event,Featured Event
GEO:39.4732074;-82.9110056
X-APPLE-STRUCTURED-LOCATION;VALUE=URI;X-ADDRESS=Kings Inn Tavern Giovanni’s Pizza 7 N. Main Street Kingston OH 45644 United States;X-APPLE-RADIUS=500;X-TITLE=7 N. Main Street:geo:-82.9110056,39.4732074
END:VEVENT
END:VCALENDAR