BEGIN:VCALENDAR
VERSION:2.0
PRODID:-//Ross-Chillicothe Convention &amp; Visitors Bureau - ECPv6.15.20//NONSGML v1.0//EN
CALSCALE:GREGORIAN
METHOD:PUBLISH
X-WR-CALNAME:Ross-Chillicothe Convention &amp; Visitors Bureau
X-ORIGINAL-URL:https://visitchillicotheohio.com
X-WR-CALDESC:Events for Ross-Chillicothe Convention &amp; Visitors Bureau
REFRESH-INTERVAL;VALUE=DURATION:PT1H
X-Robots-Tag:noindex
X-PUBLISHED-TTL:PT1H
BEGIN:VTIMEZONE
TZID:America/New_York
BEGIN:DAYLIGHT
TZOFFSETFROM:-0500
TZOFFSETTO:-0400
TZNAME:EDT
DTSTART:20240310T070000
END:DAYLIGHT
BEGIN:STANDARD
TZOFFSETFROM:-0400
TZOFFSETTO:-0500
TZNAME:EST
DTSTART:20241103T060000
END:STANDARD
BEGIN:DAYLIGHT
TZOFFSETFROM:-0500
TZOFFSETTO:-0400
TZNAME:EDT
DTSTART:20250309T070000
END:DAYLIGHT
BEGIN:STANDARD
TZOFFSETFROM:-0400
TZOFFSETTO:-0500
TZNAME:EST
DTSTART:20251102T060000
END:STANDARD
BEGIN:DAYLIGHT
TZOFFSETFROM:-0500
TZOFFSETTO:-0400
TZNAME:EDT
DTSTART:20260308T070000
END:DAYLIGHT
BEGIN:STANDARD
TZOFFSETFROM:-0400
TZOFFSETTO:-0500
TZNAME:EST
DTSTART:20261101T060000
END:STANDARD
END:VTIMEZONE
BEGIN:VEVENT
DTSTART;TZID=America/New_York:20250614T200000
DTEND;TZID=America/New_York:20250614T233000
DTSTAMP:20260422T054751
CREATED:20250204T182432Z
LAST-MODIFIED:20250606T131557Z
UID:10045542-1749931200-1749943800@visitchillicotheohio.com
SUMMARY:Kenworth Truck Parade
DESCRIPTION:The Kenworth Assembly Plant in Chillicothe is hosting it’s 4th Annual Kenworth Truck Parade in downtown Chillicothe\, Ohio on June 14\, 2025 at 8:45 p.m.By invitation only\, 50 trucks have been selected from all across North America and will be taking over the streets of Chillicothe\, Ohio to showcase their beautiful rigs and the Kenworth brand……many of these trucks being built right in Chillicothe!Come early and enjoy the unique culture of downtown Chillicothe then settle into your favorite lawn chair and prepare to see the World’s Best Trucks on display!After the parade\, there will be a free concert downtown\, provided by the great folks of Kenworth!
URL:https://visitchillicotheohio.com/event/kenworth-truck-parade/
LOCATION:Historic Downtown Chillicothe
CATEGORIES:App Event,Event,Featured Event
ATTACH;FMTTYPE=image/jpeg:https://visitchillicotheohio.com/wp-content/uploads/2025/02/kenworth.jpg
END:VEVENT
END:VCALENDAR