BEGIN:VCALENDAR
VERSION:2.0
PRODID:-//Ross-Chillicothe Convention &amp; Visitors Bureau - ECPv6.15.20//NONSGML v1.0//EN
CALSCALE:GREGORIAN
METHOD:PUBLISH
X-ORIGINAL-URL:https://visitchillicotheohio.com
X-WR-CALDESC:Events for Ross-Chillicothe Convention &amp; Visitors Bureau
REFRESH-INTERVAL;VALUE=DURATION:PT1H
X-Robots-Tag:noindex
X-PUBLISHED-TTL:PT1H
BEGIN:VTIMEZONE
TZID:America/New_York
BEGIN:DAYLIGHT
TZOFFSETFROM:-0500
TZOFFSETTO:-0400
TZNAME:EDT
DTSTART:20220313T070000
END:DAYLIGHT
BEGIN:STANDARD
TZOFFSETFROM:-0400
TZOFFSETTO:-0500
TZNAME:EST
DTSTART:20221106T060000
END:STANDARD
BEGIN:DAYLIGHT
TZOFFSETFROM:-0500
TZOFFSETTO:-0400
TZNAME:EDT
DTSTART:20230312T070000
END:DAYLIGHT
BEGIN:STANDARD
TZOFFSETFROM:-0400
TZOFFSETTO:-0500
TZNAME:EST
DTSTART:20231105T060000
END:STANDARD
BEGIN:DAYLIGHT
TZOFFSETFROM:-0500
TZOFFSETTO:-0400
TZNAME:EDT
DTSTART:20240310T070000
END:DAYLIGHT
BEGIN:STANDARD
TZOFFSETFROM:-0400
TZOFFSETTO:-0500
TZNAME:EST
DTSTART:20241103T060000
END:STANDARD
BEGIN:DAYLIGHT
TZOFFSETFROM:-0500
TZOFFSETTO:-0400
TZNAME:EDT
DTSTART:20250309T070000
END:DAYLIGHT
BEGIN:STANDARD
TZOFFSETFROM:-0400
TZOFFSETTO:-0500
TZNAME:EST
DTSTART:20251102T060000
END:STANDARD
END:VTIMEZONE
BEGIN:VEVENT
DTSTART;TZID=America/New_York:20240316T110000
DTEND;TZID=America/New_York:20240316T210000
DTSTAMP:20260420T031307
CREATED:20240305T150953Z
LAST-MODIFIED:20240305T151000Z
UID:10044934-1710586800-1710622800@visitchillicotheohio.com
SUMMARY:St. Paddy and Pedal Weekend
DESCRIPTION:Enjoy a fun night out with First Capital Brews Cruze on our St. Paddy and Pedal tours. costume and karaoke contest per tour. Get your Green On and join us for a night of fun and maybe win some prizes $25 a seat. Call 740-600-4293 now to book your tour.
URL:https://visitchillicotheohio.com/event/st-paddy-and-pedal-weekend/2024-03-16/
LOCATION:Downtown Chillicothe
CATEGORIES:Event,Featured Event
ATTACH;FMTTYPE=image/jpeg:https://visitchillicotheohio.com/wp-content/uploads/2024/03/brewscruze.jpg
GEO:39.3385032;-82.9837557
END:VEVENT
BEGIN:VEVENT
DTSTART;TZID=America/New_York:20240315T120000
DTEND;TZID=America/New_York:20240317T170000
DTSTAMP:20260420T031307
CREATED:20240313T184741Z
LAST-MODIFIED:20240313T185037Z
UID:10044171-1710504000-1710694800@visitchillicotheohio.com
SUMMARY:Downtown Spring Open House
DESCRIPTION:Bring in Spring time by kicking it off in beautiful Downtown Chillicothe\, Ohio with the Annual Spring Open House!! Shop\, dine and enjoy all the Chillicothe has to offer.\nWatch for your favorite stores to offer deals through the weekend!
URL:https://visitchillicotheohio.com/event/downtown-spring-open-house-8-copy/
LOCATION:Downtown Chillicothe
CATEGORIES:App Event
GEO:39.3385032;-82.9837557
END:VEVENT
BEGIN:VEVENT
DTSTART;TZID=America/New_York:20240315T120000
DTEND;TZID=America/New_York:20240315T170000
DTSTAMP:20260420T031307
CREATED:20240313T184732Z
LAST-MODIFIED:20240313T184732Z
UID:10044166-1710504000-1710522000@visitchillicotheohio.com
SUMMARY:Downtown Spring Open House
DESCRIPTION:Bring in Spring time by kicking it off in beautiful Downtown Chillicothe\, Ohio with the Annual Spring Open House!! Shop\, dine and enjoy all the Chillicothe has to offer.\nWatch for your favorite stores to offer deals through the weekend!
URL:https://visitchillicotheohio.com/event/downtown-spring-open-house-8/2024-03-15/
LOCATION:Downtown Chillicothe
CATEGORIES:Event,Featured Event
GEO:39.3385032;-82.9837557
END:VEVENT
BEGIN:VEVENT
DTSTART;TZID=America/New_York:20240315T110000
DTEND;TZID=America/New_York:20240317T210000
DTSTAMP:20260420T031307
CREATED:20240305T151005Z
LAST-MODIFIED:20240305T151026Z
UID:10044936-1710500400-1710709200@visitchillicotheohio.com
SUMMARY:St. Paddy and Pedal Weekend
DESCRIPTION:Enjoy a fun night out with First Capital Brews Cruze on our St. Paddy and Pedal tours. costume and karaoke contest per tour. Get your Green On and join us for a night of fun and maybe win some prizes $25 a seat. Call 740-600-4293 now to book your tour.
URL:https://visitchillicotheohio.com/event/st-paddy-and-pedal-weekend-copy/
LOCATION:Downtown Chillicothe
CATEGORIES:App Event
ATTACH;FMTTYPE=image/jpeg:https://visitchillicotheohio.com/wp-content/uploads/2024/03/brewscruze.jpg
GEO:39.3385032;-82.9837557
END:VEVENT
BEGIN:VEVENT
DTSTART;TZID=America/New_York:20240315T110000
DTEND;TZID=America/New_York:20240315T210000
DTSTAMP:20260420T031307
CREATED:20240305T150953Z
LAST-MODIFIED:20240305T151000Z
UID:10044933-1710500400-1710536400@visitchillicotheohio.com
SUMMARY:St. Paddy and Pedal Weekend
DESCRIPTION:Enjoy a fun night out with First Capital Brews Cruze on our St. Paddy and Pedal tours. costume and karaoke contest per tour. Get your Green On and join us for a night of fun and maybe win some prizes $25 a seat. Call 740-600-4293 now to book your tour.
URL:https://visitchillicotheohio.com/event/st-paddy-and-pedal-weekend/2024-03-15/
LOCATION:Downtown Chillicothe
CATEGORIES:Event,Featured Event
ATTACH;FMTTYPE=image/jpeg:https://visitchillicotheohio.com/wp-content/uploads/2024/03/brewscruze.jpg
GEO:39.3385032;-82.9837557
END:VEVENT
BEGIN:VEVENT
DTSTART;TZID=America/New_York:20240115T080000
DTEND;TZID=America/New_York:20240128T170000
DTSTAMP:20260420T031307
CREATED:20240105T181904Z
LAST-MODIFIED:20240105T181904Z
UID:10044803-1705305600-1706461200@visitchillicotheohio.com
SUMMARY:Restaurant Week
DESCRIPTION:Downtown Chillicothe presents the 4rd annual Restaurant Week\, January 15-28\, 2024. Visit the 4 participating establishments for unique and only available at this time of the year specials. No tickets are required\, simply order the advertised special directly at the business of choice. Specials may be enjoyed in house or to-go. Proceeds benefit the downtown Christmas lights and the downtown flowers. Participating businesses are: The Dock at Water\, Pour House at Machinery Hall\, Hometown Hibachi\, and Bell Farms. Visit Downtown Chillicothe Ohio on Facebook to see all specials for this event.
URL:https://visitchillicotheohio.com/event/restaurant-week-3/
LOCATION:Downtown Chillicothe
CATEGORIES:Event,Featured Event
ATTACH;FMTTYPE=image/jpeg:https://visitchillicotheohio.com/wp-content/uploads/2024/01/Restaurant-Week-2024-graphic.jpg
ORGANIZER;CN="Downtown Chillicothe":MAILTO:info@downtownchillicothe.com
GEO:39.3385032;-82.9837557
END:VEVENT
BEGIN:VEVENT
DTSTART;TZID=America/New_York:20231119T120000
DTEND;TZID=America/New_York:20231119T170000
DTSTAMP:20260420T031307
CREATED:20230906T145505Z
LAST-MODIFIED:20231019T125648Z
UID:10043750-1700395200-1700413200@visitchillicotheohio.com
SUMMARY:Downtown Holiday Open House
DESCRIPTION:Ring in the holidays DOWNTOWN with the annual Tree Lighting\, Shine On Chillicothe lights\, carriage rides\, shopping\, caroling\, trolley rides and MORE!!
URL:https://visitchillicotheohio.com/event/downtown-holiday-open-house-2/2023-11-19/
LOCATION:Downtown Chillicothe
CATEGORIES:Event,Featured Event
GEO:39.3385032;-82.9837557
END:VEVENT
BEGIN:VEVENT
DTSTART;TZID=America/New_York:20231118T100000
DTEND;TZID=America/New_York:20231118T200000
DTSTAMP:20260420T031307
CREATED:20230906T145505Z
LAST-MODIFIED:20231019T125648Z
UID:10043749-1700301600-1700337600@visitchillicotheohio.com
SUMMARY:Downtown Holiday Open House
DESCRIPTION:Ring in the holidays DOWNTOWN with the annual Tree Lighting\, Shine On Chillicothe lights\, carriage rides\, shopping\, caroling\, trolley rides and MORE!!
URL:https://visitchillicotheohio.com/event/downtown-holiday-open-house-2/2023-11-18/
LOCATION:Downtown Chillicothe
CATEGORIES:Event,Featured Event
GEO:39.3385032;-82.9837557
END:VEVENT
BEGIN:VEVENT
DTSTART;TZID=America/New_York:20231117T100000
DTEND;TZID=America/New_York:20231117T200000
DTSTAMP:20260420T031307
CREATED:20230906T145505Z
LAST-MODIFIED:20231019T125648Z
UID:10043748-1700215200-1700251200@visitchillicotheohio.com
SUMMARY:Downtown Holiday Open House
DESCRIPTION:Ring in the holidays DOWNTOWN with the annual Tree Lighting\, Shine On Chillicothe lights\, carriage rides\, shopping\, caroling\, trolley rides and MORE!!
URL:https://visitchillicotheohio.com/event/downtown-holiday-open-house-2/2023-11-17/
LOCATION:Downtown Chillicothe
CATEGORIES:Event,Featured Event
GEO:39.3385032;-82.9837557
END:VEVENT
BEGIN:VEVENT
DTSTART;TZID=America/New_York:20231028T190000
DTEND;TZID=America/New_York:20231028T203000
DTSTAMP:20260420T031307
CREATED:20231002T193048Z
LAST-MODIFIED:20231002T193048Z
UID:10043775-1698519600-1698525000@visitchillicotheohio.com
SUMMARY:Halloween Parade
DESCRIPTION:The Chillicothe Jaycees present their annual Halloween Parade in downtown Chillicothe. \n 
URL:https://visitchillicotheohio.com/event/halloween-parade-6/
LOCATION:Downtown Chillicothe
CATEGORIES:App Event,Event,Featured Event
ATTACH;FMTTYPE=image/jpeg:https://visitchillicotheohio.com/wp-content/uploads/2023/10/halloweenparade.jpg
GEO:39.3385032;-82.9837557
END:VEVENT
BEGIN:VEVENT
DTSTART;TZID=America/New_York:20231028T160000
DTEND;TZID=America/New_York:20231028T180000
DTSTAMP:20260420T031307
CREATED:20231002T193904Z
LAST-MODIFIED:20231002T193904Z
UID:10043776-1698508800-1698516000@visitchillicotheohio.com
SUMMARY:Downtown Chillicothe Trick or Treat
DESCRIPTION:Each year hundreds of ghouls and goblins (and their parents of course) decend upon downtown Chillicothe in search of their favorite haunting treats. Businesses are encouraged to welcome these little ones to visit their shops and help them celebrate Halloween! The JayCee’s Halloween Parade is slated to begin at 7pm that evening.
URL:https://visitchillicotheohio.com/event/downtown-chillicothe-trick-or-treat-2/
LOCATION:Downtown Chillicothe
CATEGORIES:App Event,Event,Featured Event
ATTACH;FMTTYPE=image/jpeg:https://visitchillicotheohio.com/wp-content/uploads/2023/10/downtowntrickortreat.jpg
GEO:39.3385032;-82.9837557
END:VEVENT
BEGIN:VEVENT
DTSTART;TZID=America/New_York:20230924T100000
DTEND;TZID=America/New_York:20230924T170000
DTSTAMP:20260420T031307
CREATED:20230830T144032Z
LAST-MODIFIED:20230830T144032Z
UID:10044533-1695549600-1695574800@visitchillicotheohio.com
SUMMARY:Downtown Fall Open House
DESCRIPTION:‘FALL’ in love with downtown during the FALL Open House. Grab a beverage and walk about town\, visiting your favorite haunts. Featuring: Sidewalk Sale\, the Ghost Walk\, Special Fall-inspired treats\, and more!
URL:https://visitchillicotheohio.com/event/downtown-fall-open-house/2023-09-24/
LOCATION:Downtown Chillicothe
CATEGORIES:Event,Featured Event
ATTACH;FMTTYPE=image/jpeg:https://visitchillicotheohio.com/wp-content/uploads/2023/08/fall-open-house.jpg
GEO:39.3385032;-82.9837557
END:VEVENT
BEGIN:VEVENT
DTSTART;TZID=America/New_York:20230923T100000
DTEND;TZID=America/New_York:20230923T180000
DTSTAMP:20260420T031307
CREATED:20220223T135303Z
LAST-MODIFIED:20230427T173959Z
UID:10043431-1695463200-1695492000@visitchillicotheohio.com
SUMMARY:Ghost Walk
DESCRIPTION:During the annual Ghost Walk\, tour through several buildings in downtown Chillicothe and discover their haunted history. Participants can meet the paranormal investigators who investigated each location and provided their research. Find out more at: www.ChillicotheHalloweenFestival.com.
URL:https://visitchillicotheohio.com/event/ghost-walk-5/
LOCATION:Downtown Chillicothe
CATEGORIES:App Event,Event,Featured Event
ATTACH;FMTTYPE=image/jpeg:https://visitchillicotheohio.com/wp-content/uploads/2021/11/Majestic-2-edited-scaled.jpg
GEO:39.3385032;-82.9837557
END:VEVENT
BEGIN:VEVENT
DTSTART;TZID=America/New_York:20230923T100000
DTEND;TZID=America/New_York:20230923T170000
DTSTAMP:20260420T031307
CREATED:20230830T144032Z
LAST-MODIFIED:20230830T144032Z
UID:10044532-1695463200-1695488400@visitchillicotheohio.com
SUMMARY:Downtown Fall Open House
DESCRIPTION:‘FALL’ in love with downtown during the FALL Open House. Grab a beverage and walk about town\, visiting your favorite haunts. Featuring: Sidewalk Sale\, the Ghost Walk\, Special Fall-inspired treats\, and more!
URL:https://visitchillicotheohio.com/event/downtown-fall-open-house/2023-09-23/
LOCATION:Downtown Chillicothe
CATEGORIES:Event,Featured Event
ATTACH;FMTTYPE=image/jpeg:https://visitchillicotheohio.com/wp-content/uploads/2023/08/fall-open-house.jpg
GEO:39.3385032;-82.9837557
END:VEVENT
BEGIN:VEVENT
DTSTART;TZID=America/New_York:20230922T100000
DTEND;TZID=America/New_York:20230924T170000
DTSTAMP:20260420T031307
CREATED:20230830T144039Z
LAST-MODIFIED:20230830T144058Z
UID:10044535-1695376800-1695574800@visitchillicotheohio.com
SUMMARY:Downtown Fall Open House
DESCRIPTION:‘FALL’ in love with downtown during the FALL Open House. Grab a beverage and walk about town\, visiting your favorite haunts. Featuring: Sidewalk Sale\, the Ghost Walk\, Special Fall-inspired treats\, and more!
URL:https://visitchillicotheohio.com/event/downtown-fall-open-house-copy/
LOCATION:Downtown Chillicothe
CATEGORIES:App Event
ATTACH;FMTTYPE=image/jpeg:https://visitchillicotheohio.com/wp-content/uploads/2023/08/fall-open-house.jpg
GEO:39.3385032;-82.9837557
END:VEVENT
BEGIN:VEVENT
DTSTART;TZID=America/New_York:20230922T100000
DTEND;TZID=America/New_York:20230922T170000
DTSTAMP:20260420T031307
CREATED:20230830T144032Z
LAST-MODIFIED:20230830T144032Z
UID:10044531-1695376800-1695402000@visitchillicotheohio.com
SUMMARY:Downtown Fall Open House
DESCRIPTION:‘FALL’ in love with downtown during the FALL Open House. Grab a beverage and walk about town\, visiting your favorite haunts. Featuring: Sidewalk Sale\, the Ghost Walk\, Special Fall-inspired treats\, and more!
URL:https://visitchillicotheohio.com/event/downtown-fall-open-house/2023-09-22/
LOCATION:Downtown Chillicothe
CATEGORIES:Event,Featured Event
ATTACH;FMTTYPE=image/jpeg:https://visitchillicotheohio.com/wp-content/uploads/2023/08/fall-open-house.jpg
GEO:39.3385032;-82.9837557
END:VEVENT
BEGIN:VEVENT
DTSTART;TZID=America/New_York:20230904T100000
DTEND;TZID=America/New_York:20230904T120000
DTSTAMP:20260420T031307
CREATED:20230901T202054Z
LAST-MODIFIED:20230901T202054Z
UID:10043738-1693821600-1693828800@visitchillicotheohio.com
SUMMARY:"Laboring Downtown" Walking Tour of Historical Industries in Downtown Chillicothe
DESCRIPTION:For about an hour and a half\, join Kevin B. Coleman for two opportunities for his annual walking tour on Labor Day weekend – between 2 and 4pm Sunday\, September 3rd\, and 10 to 12 noon Monday\, September 4th\, 2023. \nChillicothe’s historic downtown was not just for white-collar jobs – the canal\, railroads\, utilities\, mills\, small factories\, warehouses of all kinds\, liveries\, restaurants\, printers\, a brewery\, a shoe factory\, and even a river wharf\, were some of the working-class employers in and near the business district – many of whose buildings still stand. \nTours begin where parking is welcome at 152 W. Water Street\, opposite Park Street\, and runs east to about 55 East Water Street in Chillicothe\, Ohio\, USA. \nFind some previews of what the tour covers in the “Discussion” tab on the Facebook event page. \nTours are $10 for adults\, $5 for students\, and $15 for families (three or more family members including children). Please pay with cash or check when you arrive. \nThe tour will be on sidewalks and pavement\, with some tree shade. And\, your health is your responsibility! \nContact Kevn at ihs@horizonview.net\, phone 740 / 775-4036\, text 740 / 771-8574\, or message from this Facebook page.
URL:https://visitchillicotheohio.com/event/laboring-downtown-walking-tour-of-historical-industries-in-downtown-chillicothe/2023-09-04/
LOCATION:Downtown Chillicothe
CATEGORIES:App Event,Event,Featured Event
ATTACH;FMTTYPE=image/jpeg:https://visitchillicotheohio.com/wp-content/uploads/2023/09/1970c_Panorama-19546_1214851700539_3015724_n.jpg
ORGANIZER;CN="Intrepid Heritage Services &bull%3B Kevin B. Coleman":MAILTO:ihs@horizonview.net
GEO:39.3385032;-82.9837557
END:VEVENT
BEGIN:VEVENT
DTSTART;TZID=America/New_York:20230903T140000
DTEND;TZID=America/New_York:20230903T160000
DTSTAMP:20260420T031307
CREATED:20230901T202054Z
LAST-MODIFIED:20230901T202054Z
UID:10043737-1693749600-1693756800@visitchillicotheohio.com
SUMMARY:"Laboring Downtown" Walking Tour of Historical Industries in Downtown Chillicothe
DESCRIPTION:For about an hour and a half\, join Kevin B. Coleman for two opportunities for his annual walking tour on Labor Day weekend – between 2 and 4pm Sunday\, September 3rd\, and 10 to 12 noon Monday\, September 4th\, 2023. \nChillicothe’s historic downtown was not just for white-collar jobs – the canal\, railroads\, utilities\, mills\, small factories\, warehouses of all kinds\, liveries\, restaurants\, printers\, a brewery\, a shoe factory\, and even a river wharf\, were some of the working-class employers in and near the business district – many of whose buildings still stand. \nTours begin where parking is welcome at 152 W. Water Street\, opposite Park Street\, and runs east to about 55 East Water Street in Chillicothe\, Ohio\, USA. \nFind some previews of what the tour covers in the “Discussion” tab on the Facebook event page. \nTours are $10 for adults\, $5 for students\, and $15 for families (three or more family members including children). Please pay with cash or check when you arrive. \nThe tour will be on sidewalks and pavement\, with some tree shade. And\, your health is your responsibility! \nContact Kevn at ihs@horizonview.net\, phone 740 / 775-4036\, text 740 / 771-8574\, or message from this Facebook page.
URL:https://visitchillicotheohio.com/event/laboring-downtown-walking-tour-of-historical-industries-in-downtown-chillicothe/2023-09-03/
LOCATION:Downtown Chillicothe
CATEGORIES:App Event,Event,Featured Event
ATTACH;FMTTYPE=image/jpeg:https://visitchillicotheohio.com/wp-content/uploads/2023/09/1970c_Panorama-19546_1214851700539_3015724_n.jpg
ORGANIZER;CN="Intrepid Heritage Services &bull%3B Kevin B. Coleman":MAILTO:ihs@horizonview.net
GEO:39.3385032;-82.9837557
END:VEVENT
BEGIN:VEVENT
DTSTART;TZID=America/New_York:20230721T080000
DTEND;TZID=America/New_York:20230723T170000
DTSTAMP:20260420T031307
CREATED:20230622T121509Z
LAST-MODIFIED:20230622T121509Z
UID:10043683-1689926400-1690131600@visitchillicotheohio.com
SUMMARY:Christmas in July Sip & Shop
DESCRIPTION:Join us for this 3-day Sip & Shop event\, July 21 – 23\, where you can participate anytime that you wish!  Don’t feel like going every place in one day?  Then break it up a little each day.  Each passport costs $30 and will include 1 drink voucher valued up to $10 that can be redeemed at one of the participating establishments.  Get your passport stamped at each alcohol location to be entered into a drawing for a gift basket.  This winner will be drawn by Downtown Chillicothe.  The passport also has entry tickets for each of the 12 participating retail shops that you will submit into their box for a chance to win a $50 item from their store.  Each retail shop will contact the winner of their drawing.  Remember\, each participating retail shop does allow DORA drinks\, so feel free to grab your favorite drink and go shopping!!
URL:https://visitchillicotheohio.com/event/christmas-in-july-sip-shop/
LOCATION:Downtown Chillicothe
CATEGORIES:App Event,Event,Featured Event
ATTACH;FMTTYPE=image/jpeg:https://visitchillicotheohio.com/wp-content/uploads/2023/06/christmas.jpeg
ORGANIZER;CN="Downtown Chillicothe":MAILTO:info@downtownchillicothe.com
GEO:39.3385032;-82.9837557
END:VEVENT
END:VCALENDAR