BEGIN:VCALENDAR
VERSION:2.0
PRODID:-//Ross-Chillicothe Convention &amp; Visitors Bureau - ECPv6.15.20//NONSGML v1.0//EN
CALSCALE:GREGORIAN
METHOD:PUBLISH
X-WR-CALNAME:Ross-Chillicothe Convention &amp; Visitors Bureau
X-ORIGINAL-URL:https://visitchillicotheohio.com
X-WR-CALDESC:Events for Ross-Chillicothe Convention &amp; Visitors Bureau
REFRESH-INTERVAL;VALUE=DURATION:PT1H
X-Robots-Tag:noindex
X-PUBLISHED-TTL:PT1H
BEGIN:VTIMEZONE
TZID:America/New_York
BEGIN:DAYLIGHT
TZOFFSETFROM:-0500
TZOFFSETTO:-0400
TZNAME:EDT
DTSTART:20240310T070000
END:DAYLIGHT
BEGIN:STANDARD
TZOFFSETFROM:-0400
TZOFFSETTO:-0500
TZNAME:EST
DTSTART:20241103T060000
END:STANDARD
BEGIN:DAYLIGHT
TZOFFSETFROM:-0500
TZOFFSETTO:-0400
TZNAME:EDT
DTSTART:20250309T070000
END:DAYLIGHT
BEGIN:STANDARD
TZOFFSETFROM:-0400
TZOFFSETTO:-0500
TZNAME:EST
DTSTART:20251102T060000
END:STANDARD
BEGIN:DAYLIGHT
TZOFFSETFROM:-0500
TZOFFSETTO:-0400
TZNAME:EDT
DTSTART:20260308T070000
END:DAYLIGHT
BEGIN:STANDARD
TZOFFSETFROM:-0400
TZOFFSETTO:-0500
TZNAME:EST
DTSTART:20261101T060000
END:STANDARD
END:VTIMEZONE
BEGIN:VEVENT
DTSTART;TZID=America/New_York:20250719T110000
DTEND;TZID=America/New_York:20250719T190000
DTSTAMP:20260422T013240
CREATED:20250509T144238Z
LAST-MODIFIED:20250509T144422Z
UID:10045707-1752922800-1752951600@visitchillicotheohio.com
SUMMARY:Mudd Fest
DESCRIPTION:Handmade• Homemade • Homegrown \nDay Lily Farm and festival showcasing local and regional artists and makers of all trades. \nbiersrunmuddfest@gmail.com
URL:https://visitchillicotheohio.com/event/mudd-fest/
LOCATION:Day Lily Farm\, 11084 County Road 550\, Chillicothe\, OH\, 45601\, United States
CATEGORIES:App Event,Event,Featured Event
ATTACH;FMTTYPE=image/jpeg:https://visitchillicotheohio.com/wp-content/uploads/2025/05/IMG_3998.jpeg
END:VEVENT
END:VCALENDAR