BEGIN:VCALENDAR
VERSION:2.0
PRODID:-//Ross-Chillicothe Convention &amp; Visitors Bureau - ECPv6.15.20//NONSGML v1.0//EN
CALSCALE:GREGORIAN
METHOD:PUBLISH
X-ORIGINAL-URL:https://visitchillicotheohio.com
X-WR-CALDESC:Events for Ross-Chillicothe Convention &amp; Visitors Bureau
REFRESH-INTERVAL;VALUE=DURATION:PT1H
X-Robots-Tag:noindex
X-PUBLISHED-TTL:PT1H
BEGIN:VTIMEZONE
TZID:America/New_York
BEGIN:DAYLIGHT
TZOFFSETFROM:-0500
TZOFFSETTO:-0400
TZNAME:EDT
DTSTART:20240310T070000
END:DAYLIGHT
BEGIN:STANDARD
TZOFFSETFROM:-0400
TZOFFSETTO:-0500
TZNAME:EST
DTSTART:20241103T060000
END:STANDARD
BEGIN:DAYLIGHT
TZOFFSETFROM:-0500
TZOFFSETTO:-0400
TZNAME:EDT
DTSTART:20250309T070000
END:DAYLIGHT
BEGIN:STANDARD
TZOFFSETFROM:-0400
TZOFFSETTO:-0500
TZNAME:EST
DTSTART:20251102T060000
END:STANDARD
BEGIN:DAYLIGHT
TZOFFSETFROM:-0500
TZOFFSETTO:-0400
TZNAME:EDT
DTSTART:20260308T070000
END:DAYLIGHT
BEGIN:STANDARD
TZOFFSETFROM:-0400
TZOFFSETTO:-0500
TZNAME:EST
DTSTART:20261101T060000
END:STANDARD
END:VTIMEZONE
BEGIN:VEVENT
DTSTART;TZID=America/New_York:20250713T140000
DTEND;TZID=America/New_York:20250713T170000
DTSTAMP:20260422T002404
CREATED:20250710T155145Z
LAST-MODIFIED:20250710T155208Z
UID:10046311-1752415200-1752426000@visitchillicotheohio.com
SUMMARY:Chillicothe Civic Theatre presents "Matilda - The Musical"
DESCRIPTION:“Matilda the Musical” tells the story of Matilda Wormwood\, a bright young girl who loves to read and uses her imagination to escape her neglectful  parents and the tyrannical headmistress\, Miss Trunchbull. With the help of her kind teacher\, Miss Honey\, Matilda discovers she has telekinetic powers and uses them to stand up for herself and others\, ultimately changing her own destiny and inspiring those around her. \nGet Tickets
URL:https://visitchillicotheohio.com/event/chillicothe-civic-theatre-presents-matilda-the-musical/2025-07-13/
LOCATION:Chillicothe High School Auditorium\, 425 Yoctangee Parkway\, Chillicothe\, OH\, 45601\, United States
CATEGORIES:Event,Featured Event
ATTACH;FMTTYPE=image/png:https://visitchillicotheohio.com/wp-content/uploads/2025/07/matilda.png
END:VEVENT
BEGIN:VEVENT
DTSTART;TZID=America/New_York:20250712T190000
DTEND;TZID=America/New_York:20250712T213000
DTSTAMP:20260422T002404
CREATED:20250710T155145Z
LAST-MODIFIED:20250710T155208Z
UID:10046309-1752346800-1752355800@visitchillicotheohio.com
SUMMARY:Chillicothe Civic Theatre presents "Matilda - The Musical"
DESCRIPTION:“Matilda the Musical” tells the story of Matilda Wormwood\, a bright young girl who loves to read and uses her imagination to escape her neglectful  parents and the tyrannical headmistress\, Miss Trunchbull. With the help of her kind teacher\, Miss Honey\, Matilda discovers she has telekinetic powers and uses them to stand up for herself and others\, ultimately changing her own destiny and inspiring those around her. \nGet Tickets
URL:https://visitchillicotheohio.com/event/chillicothe-civic-theatre-presents-matilda-the-musical/2025-07-12/
LOCATION:Chillicothe High School Auditorium\, 425 Yoctangee Parkway\, Chillicothe\, OH\, 45601\, United States
CATEGORIES:Event,Featured Event
ATTACH;FMTTYPE=image/png:https://visitchillicotheohio.com/wp-content/uploads/2025/07/matilda.png
END:VEVENT
BEGIN:VEVENT
DTSTART;TZID=America/New_York:20250711T190000
DTEND;TZID=America/New_York:20250711T213000
DTSTAMP:20260422T002404
CREATED:20250710T155145Z
LAST-MODIFIED:20250710T155208Z
UID:10046308-1752260400-1752269400@visitchillicotheohio.com
SUMMARY:Chillicothe Civic Theatre presents "Matilda - The Musical"
DESCRIPTION:“Matilda the Musical” tells the story of Matilda Wormwood\, a bright young girl who loves to read and uses her imagination to escape her neglectful  parents and the tyrannical headmistress\, Miss Trunchbull. With the help of her kind teacher\, Miss Honey\, Matilda discovers she has telekinetic powers and uses them to stand up for herself and others\, ultimately changing her own destiny and inspiring those around her. \nGet Tickets
URL:https://visitchillicotheohio.com/event/chillicothe-civic-theatre-presents-matilda-the-musical/2025-07-11/
LOCATION:Chillicothe High School Auditorium\, 425 Yoctangee Parkway\, Chillicothe\, OH\, 45601\, United States
CATEGORIES:Event,Featured Event
ATTACH;FMTTYPE=image/png:https://visitchillicotheohio.com/wp-content/uploads/2025/07/matilda.png
END:VEVENT
BEGIN:VEVENT
DTSTART;TZID=America/New_York:20250710T190000
DTEND;TZID=America/New_York:20250710T213000
DTSTAMP:20260422T002404
CREATED:20250710T155145Z
LAST-MODIFIED:20250710T155208Z
UID:10046307-1752174000-1752183000@visitchillicotheohio.com
SUMMARY:Chillicothe Civic Theatre presents "Matilda - The Musical"
DESCRIPTION:“Matilda the Musical” tells the story of Matilda Wormwood\, a bright young girl who loves to read and uses her imagination to escape her neglectful  parents and the tyrannical headmistress\, Miss Trunchbull. With the help of her kind teacher\, Miss Honey\, Matilda discovers she has telekinetic powers and uses them to stand up for herself and others\, ultimately changing her own destiny and inspiring those around her. \nGet Tickets
URL:https://visitchillicotheohio.com/event/chillicothe-civic-theatre-presents-matilda-the-musical/2025-07-10/
LOCATION:Chillicothe High School Auditorium\, 425 Yoctangee Parkway\, Chillicothe\, OH\, 45601\, United States
CATEGORIES:Event,Featured Event
ATTACH;FMTTYPE=image/png:https://visitchillicotheohio.com/wp-content/uploads/2025/07/matilda.png
END:VEVENT
END:VCALENDAR