BEGIN:VCALENDAR
VERSION:2.0
PRODID:-//Ross-Chillicothe Convention &amp; Visitors Bureau - ECPv6.15.20//NONSGML v1.0//EN
CALSCALE:GREGORIAN
METHOD:PUBLISH
X-ORIGINAL-URL:https://visitchillicotheohio.com
X-WR-CALDESC:Events for Ross-Chillicothe Convention &amp; Visitors Bureau
REFRESH-INTERVAL;VALUE=DURATION:PT1H
X-Robots-Tag:noindex
X-PUBLISHED-TTL:PT1H
BEGIN:VTIMEZONE
TZID:America/New_York
BEGIN:DAYLIGHT
TZOFFSETFROM:-0500
TZOFFSETTO:-0400
TZNAME:EDT
DTSTART:20250309T070000
END:DAYLIGHT
BEGIN:STANDARD
TZOFFSETFROM:-0400
TZOFFSETTO:-0500
TZNAME:EST
DTSTART:20251102T060000
END:STANDARD
BEGIN:DAYLIGHT
TZOFFSETFROM:-0500
TZOFFSETTO:-0400
TZNAME:EDT
DTSTART:20260308T070000
END:DAYLIGHT
BEGIN:STANDARD
TZOFFSETFROM:-0400
TZOFFSETTO:-0500
TZNAME:EST
DTSTART:20261101T060000
END:STANDARD
BEGIN:DAYLIGHT
TZOFFSETFROM:-0500
TZOFFSETTO:-0400
TZNAME:EDT
DTSTART:20270314T070000
END:DAYLIGHT
BEGIN:STANDARD
TZOFFSETFROM:-0400
TZOFFSETTO:-0500
TZNAME:EST
DTSTART:20271107T060000
END:STANDARD
END:VTIMEZONE
BEGIN:VEVENT
DTSTART;TZID=America/New_York:20260709T190000
DTEND;TZID=America/New_York:20260709T210000
DTSTAMP:20260421T082350
CREATED:20251002T184925Z
LAST-MODIFIED:20251002T184925Z
UID:10046769-1783623600-1783630800@visitchillicotheohio.com
SUMMARY:Chillicothe Civic Theatre's production of "The Spongebob Musical"
DESCRIPTION:Chillicothe Civic Theatre’s production of “The Spongebob Musical” July 9-12th 2026
URL:https://visitchillicotheohio.com/event/chillicothe-civic-theatres-production-of-the-spongebob-musical/2026-07-09/
LOCATION:Chillicothe Civic Theatre\, 83 S. Walnut Street\, Chillicothe\, OH\, 45601\, United States
CATEGORIES:App Event,Event
ATTACH;FMTTYPE=image/jpeg:https://visitchillicotheohio.com/wp-content/uploads/2025/10/cct-2026.jpg
END:VEVENT
BEGIN:VEVENT
DTSTART;TZID=America/New_York:20260710T190000
DTEND;TZID=America/New_York:20260710T210000
DTSTAMP:20260421T082350
CREATED:20251002T184925Z
LAST-MODIFIED:20251002T184925Z
UID:10046770-1783710000-1783717200@visitchillicotheohio.com
SUMMARY:Chillicothe Civic Theatre's production of "The Spongebob Musical"
DESCRIPTION:Chillicothe Civic Theatre’s production of “The Spongebob Musical” July 9-12th 2026
URL:https://visitchillicotheohio.com/event/chillicothe-civic-theatres-production-of-the-spongebob-musical/2026-07-10/
LOCATION:Chillicothe Civic Theatre\, 83 S. Walnut Street\, Chillicothe\, OH\, 45601\, United States
CATEGORIES:App Event,Event
ATTACH;FMTTYPE=image/jpeg:https://visitchillicotheohio.com/wp-content/uploads/2025/10/cct-2026.jpg
END:VEVENT
BEGIN:VEVENT
DTSTART;TZID=America/New_York:20260711T190000
DTEND;TZID=America/New_York:20260711T210000
DTSTAMP:20260421T082350
CREATED:20251002T184925Z
LAST-MODIFIED:20251002T184925Z
UID:10046771-1783796400-1783803600@visitchillicotheohio.com
SUMMARY:Chillicothe Civic Theatre's production of "The Spongebob Musical"
DESCRIPTION:Chillicothe Civic Theatre’s production of “The Spongebob Musical” July 9-12th 2026
URL:https://visitchillicotheohio.com/event/chillicothe-civic-theatres-production-of-the-spongebob-musical/2026-07-11/
LOCATION:Chillicothe Civic Theatre\, 83 S. Walnut Street\, Chillicothe\, OH\, 45601\, United States
CATEGORIES:App Event,Event
ATTACH;FMTTYPE=image/jpeg:https://visitchillicotheohio.com/wp-content/uploads/2025/10/cct-2026.jpg
END:VEVENT
BEGIN:VEVENT
DTSTART;TZID=America/New_York:20260712T190000
DTEND;TZID=America/New_York:20260712T210000
DTSTAMP:20260421T082350
CREATED:20251002T184925Z
LAST-MODIFIED:20251002T184925Z
UID:10046772-1783882800-1783890000@visitchillicotheohio.com
SUMMARY:Chillicothe Civic Theatre's production of "The Spongebob Musical"
DESCRIPTION:Chillicothe Civic Theatre’s production of “The Spongebob Musical” July 9-12th 2026
URL:https://visitchillicotheohio.com/event/chillicothe-civic-theatres-production-of-the-spongebob-musical/2026-07-12/
LOCATION:Chillicothe Civic Theatre\, 83 S. Walnut Street\, Chillicothe\, OH\, 45601\, United States
CATEGORIES:App Event,Event
ATTACH;FMTTYPE=image/jpeg:https://visitchillicotheohio.com/wp-content/uploads/2025/10/cct-2026.jpg
END:VEVENT
BEGIN:VEVENT
DTSTART;TZID=America/New_York:20260910T190000
DTEND;TZID=America/New_York:20260910T210000
DTSTAMP:20260421T082350
CREATED:20251002T185411Z
LAST-MODIFIED:20251002T185411Z
UID:10046777-1789066800-1789074000@visitchillicotheohio.com
SUMMARY:Chillicothe Civic Theatre's production of "Noises Off" Dinner Theatre
DESCRIPTION:Chillicothe Civic Theatre’s production of “Noises Off” Dinner Theatre. September 10-13th 2026
URL:https://visitchillicotheohio.com/event/chillicothe-civic-theatres-production-of-noises-off-dinner-theatre/2026-09-10/
LOCATION:Chillicothe Civic Theatre\, 83 S. Walnut Street\, Chillicothe\, OH\, 45601\, United States
CATEGORIES:App Event,Event
ATTACH;FMTTYPE=image/jpeg:https://visitchillicotheohio.com/wp-content/uploads/2025/10/cct-2026.jpg
END:VEVENT
BEGIN:VEVENT
DTSTART;TZID=America/New_York:20260911T190000
DTEND;TZID=America/New_York:20260911T210000
DTSTAMP:20260421T082350
CREATED:20251002T185411Z
LAST-MODIFIED:20251002T185411Z
UID:10046778-1789153200-1789160400@visitchillicotheohio.com
SUMMARY:Chillicothe Civic Theatre's production of "Noises Off" Dinner Theatre
DESCRIPTION:Chillicothe Civic Theatre’s production of “Noises Off” Dinner Theatre. September 10-13th 2026
URL:https://visitchillicotheohio.com/event/chillicothe-civic-theatres-production-of-noises-off-dinner-theatre/2026-09-11/
LOCATION:Chillicothe Civic Theatre\, 83 S. Walnut Street\, Chillicothe\, OH\, 45601\, United States
CATEGORIES:App Event,Event
ATTACH;FMTTYPE=image/jpeg:https://visitchillicotheohio.com/wp-content/uploads/2025/10/cct-2026.jpg
END:VEVENT
BEGIN:VEVENT
DTSTART;TZID=America/New_York:20260912T190000
DTEND;TZID=America/New_York:20260912T210000
DTSTAMP:20260421T082350
CREATED:20251002T185411Z
LAST-MODIFIED:20251002T185411Z
UID:10046779-1789239600-1789246800@visitchillicotheohio.com
SUMMARY:Chillicothe Civic Theatre's production of "Noises Off" Dinner Theatre
DESCRIPTION:Chillicothe Civic Theatre’s production of “Noises Off” Dinner Theatre. September 10-13th 2026
URL:https://visitchillicotheohio.com/event/chillicothe-civic-theatres-production-of-noises-off-dinner-theatre/2026-09-12/
LOCATION:Chillicothe Civic Theatre\, 83 S. Walnut Street\, Chillicothe\, OH\, 45601\, United States
CATEGORIES:App Event,Event
ATTACH;FMTTYPE=image/jpeg:https://visitchillicotheohio.com/wp-content/uploads/2025/10/cct-2026.jpg
END:VEVENT
BEGIN:VEVENT
DTSTART;TZID=America/New_York:20260913T190000
DTEND;TZID=America/New_York:20260913T210000
DTSTAMP:20260421T082350
CREATED:20251002T185411Z
LAST-MODIFIED:20251002T185411Z
UID:10046780-1789326000-1789333200@visitchillicotheohio.com
SUMMARY:Chillicothe Civic Theatre's production of "Noises Off" Dinner Theatre
DESCRIPTION:Chillicothe Civic Theatre’s production of “Noises Off” Dinner Theatre. September 10-13th 2026
URL:https://visitchillicotheohio.com/event/chillicothe-civic-theatres-production-of-noises-off-dinner-theatre/2026-09-13/
LOCATION:Chillicothe Civic Theatre\, 83 S. Walnut Street\, Chillicothe\, OH\, 45601\, United States
CATEGORIES:App Event,Event
ATTACH;FMTTYPE=image/jpeg:https://visitchillicotheohio.com/wp-content/uploads/2025/10/cct-2026.jpg
END:VEVENT
BEGIN:VEVENT
DTSTART;TZID=America/New_York:20261008T190000
DTEND;TZID=America/New_York:20261008T210000
DTSTAMP:20260421T082350
CREATED:20251002T184311Z
LAST-MODIFIED:20251002T184311Z
UID:10046761-1791486000-1791493200@visitchillicotheohio.com
SUMMARY:Chillicothe Civic Theatre's Youth production of "Beetlejuice Jr."
DESCRIPTION:Chillicothe Civic Theatre’s Youth production of “Beetlejuice Jr.” October 8-11th 2026
URL:https://visitchillicotheohio.com/event/chillicothe-civic-theatres-youth-production-of-beetlejuice-jr/2026-10-08/
LOCATION:Chillicothe Civic Theatre\, 83 S. Walnut Street\, Chillicothe\, OH\, 45601\, United States
CATEGORIES:App Event,Event
ATTACH;FMTTYPE=image/jpeg:https://visitchillicotheohio.com/wp-content/uploads/2025/10/cct-2026.jpg
END:VEVENT
BEGIN:VEVENT
DTSTART;TZID=America/New_York:20261009T190000
DTEND;TZID=America/New_York:20261009T210000
DTSTAMP:20260421T082350
CREATED:20251002T184311Z
LAST-MODIFIED:20251002T184311Z
UID:10046762-1791572400-1791579600@visitchillicotheohio.com
SUMMARY:Chillicothe Civic Theatre's Youth production of "Beetlejuice Jr."
DESCRIPTION:Chillicothe Civic Theatre’s Youth production of “Beetlejuice Jr.” October 8-11th 2026
URL:https://visitchillicotheohio.com/event/chillicothe-civic-theatres-youth-production-of-beetlejuice-jr/2026-10-09/
LOCATION:Chillicothe Civic Theatre\, 83 S. Walnut Street\, Chillicothe\, OH\, 45601\, United States
CATEGORIES:App Event,Event
ATTACH;FMTTYPE=image/jpeg:https://visitchillicotheohio.com/wp-content/uploads/2025/10/cct-2026.jpg
END:VEVENT
BEGIN:VEVENT
DTSTART;TZID=America/New_York:20261010T190000
DTEND;TZID=America/New_York:20261010T210000
DTSTAMP:20260421T082350
CREATED:20251002T184311Z
LAST-MODIFIED:20251002T184311Z
UID:10046763-1791658800-1791666000@visitchillicotheohio.com
SUMMARY:Chillicothe Civic Theatre's Youth production of "Beetlejuice Jr."
DESCRIPTION:Chillicothe Civic Theatre’s Youth production of “Beetlejuice Jr.” October 8-11th 2026
URL:https://visitchillicotheohio.com/event/chillicothe-civic-theatres-youth-production-of-beetlejuice-jr/2026-10-10/
LOCATION:Chillicothe Civic Theatre\, 83 S. Walnut Street\, Chillicothe\, OH\, 45601\, United States
CATEGORIES:App Event,Event
ATTACH;FMTTYPE=image/jpeg:https://visitchillicotheohio.com/wp-content/uploads/2025/10/cct-2026.jpg
END:VEVENT
BEGIN:VEVENT
DTSTART;TZID=America/New_York:20261011T190000
DTEND;TZID=America/New_York:20261011T210000
DTSTAMP:20260421T082350
CREATED:20251002T184311Z
LAST-MODIFIED:20251002T184311Z
UID:10046764-1791745200-1791752400@visitchillicotheohio.com
SUMMARY:Chillicothe Civic Theatre's Youth production of "Beetlejuice Jr."
DESCRIPTION:Chillicothe Civic Theatre’s Youth production of “Beetlejuice Jr.” October 8-11th 2026
URL:https://visitchillicotheohio.com/event/chillicothe-civic-theatres-youth-production-of-beetlejuice-jr/2026-10-11/
LOCATION:Chillicothe Civic Theatre\, 83 S. Walnut Street\, Chillicothe\, OH\, 45601\, United States
CATEGORIES:App Event,Event
ATTACH;FMTTYPE=image/jpeg:https://visitchillicotheohio.com/wp-content/uploads/2025/10/cct-2026.jpg
END:VEVENT
END:VCALENDAR