BEGIN:VCALENDAR
VERSION:2.0
PRODID:-//Ross-Chillicothe Convention &amp; Visitors Bureau - ECPv6.15.20//NONSGML v1.0//EN
CALSCALE:GREGORIAN
METHOD:PUBLISH
X-WR-CALNAME:Ross-Chillicothe Convention &amp; Visitors Bureau
X-ORIGINAL-URL:https://visitchillicotheohio.com
X-WR-CALDESC:Events for Ross-Chillicothe Convention &amp; Visitors Bureau
REFRESH-INTERVAL;VALUE=DURATION:PT1H
X-Robots-Tag:noindex
X-PUBLISHED-TTL:PT1H
BEGIN:VTIMEZONE
TZID:America/New_York
BEGIN:DAYLIGHT
TZOFFSETFROM:-0500
TZOFFSETTO:-0400
TZNAME:EDT
DTSTART:20230312T070000
END:DAYLIGHT
BEGIN:STANDARD
TZOFFSETFROM:-0400
TZOFFSETTO:-0500
TZNAME:EST
DTSTART:20231105T060000
END:STANDARD
BEGIN:DAYLIGHT
TZOFFSETFROM:-0500
TZOFFSETTO:-0400
TZNAME:EDT
DTSTART:20240310T070000
END:DAYLIGHT
BEGIN:STANDARD
TZOFFSETFROM:-0400
TZOFFSETTO:-0500
TZNAME:EST
DTSTART:20241103T060000
END:STANDARD
BEGIN:DAYLIGHT
TZOFFSETFROM:-0500
TZOFFSETTO:-0400
TZNAME:EDT
DTSTART:20250309T070000
END:DAYLIGHT
BEGIN:STANDARD
TZOFFSETFROM:-0400
TZOFFSETTO:-0500
TZNAME:EST
DTSTART:20251102T060000
END:STANDARD
END:VTIMEZONE
BEGIN:VEVENT
DTSTART;TZID=America/New_York:20240511T110000
DTEND;TZID=America/New_York:20240511T140000
DTSTAMP:20260424T054952
CREATED:20240423T190343Z
LAST-MODIFIED:20240423T190343Z
UID:10045086-1715425200-1715436000@visitchillicotheohio.com
SUMMARY:The Barnhart Farm Mother's Day Picnic
DESCRIPTION:MAY 11\, 2024\n\n\n\n\nOur beautiful handcrafted pavilion is the perfect place to celebrate Mother’s Day weekend. \nWhether you’re a mom yourself\, celebrating your own mom\, or honoring a mother figure\, everyone is welcome to join in the festivities! \nIndulge in delicious treats\, savor refreshing drinks\, and create beautiful memories. \nGo to https://www.thebarnhartfarm.com/ and click on Mother’s Day Picnic to register.
URL:https://visitchillicotheohio.com/event/the-barnhart-farm-mothers-day-picnic/
LOCATION:Barnhart Farm Event Venue\, 1483 Robinson Road\, Chillicothe\, Ohio\, 45601
CATEGORIES:Event
ATTACH;FMTTYPE=image/png:https://visitchillicotheohio.com/wp-content/uploads/2024/04/mothers-day-picnic.png
END:VEVENT
END:VCALENDAR