BEGIN:VCALENDAR
VERSION:2.0
PRODID:-//Ross-Chillicothe Convention &amp; Visitors Bureau - ECPv6.15.20//NONSGML v1.0//EN
CALSCALE:GREGORIAN
METHOD:PUBLISH
X-WR-CALNAME:Ross-Chillicothe Convention &amp; Visitors Bureau
X-ORIGINAL-URL:https://visitchillicotheohio.com
X-WR-CALDESC:Events for Ross-Chillicothe Convention &amp; Visitors Bureau
REFRESH-INTERVAL;VALUE=DURATION:PT1H
X-Robots-Tag:noindex
X-PUBLISHED-TTL:PT1H
BEGIN:VTIMEZONE
TZID:America/New_York
BEGIN:DAYLIGHT
TZOFFSETFROM:-0500
TZOFFSETTO:-0400
TZNAME:EDT
DTSTART:20250309T070000
END:DAYLIGHT
BEGIN:STANDARD
TZOFFSETFROM:-0400
TZOFFSETTO:-0500
TZNAME:EST
DTSTART:20251102T060000
END:STANDARD
BEGIN:DAYLIGHT
TZOFFSETFROM:-0500
TZOFFSETTO:-0400
TZNAME:EDT
DTSTART:20260308T070000
END:DAYLIGHT
BEGIN:STANDARD
TZOFFSETFROM:-0400
TZOFFSETTO:-0500
TZNAME:EST
DTSTART:20261101T060000
END:STANDARD
BEGIN:DAYLIGHT
TZOFFSETFROM:-0500
TZOFFSETTO:-0400
TZNAME:EDT
DTSTART:20270314T070000
END:DAYLIGHT
BEGIN:STANDARD
TZOFFSETFROM:-0400
TZOFFSETTO:-0500
TZNAME:EST
DTSTART:20271107T060000
END:STANDARD
END:VTIMEZONE
BEGIN:VEVENT
DTSTART;TZID=America/New_York:20260515T093000
DTEND;TZID=America/New_York:20260515T170000
DTSTAMP:20260419T100522
CREATED:20260209T191648Z
LAST-MODIFIED:20260209T191648Z
UID:10047380-1778837400-1778864400@visitchillicotheohio.com
SUMMARY:Spring Plant Sale
DESCRIPTION:Stop by the Adena Mansion Greenhouses to browse our selection of vegetables and flowers for sale. Speak with our Horticulturalist for advice and interesting information about the plants. Maybe you will find something to add to your flower beds and vegetable garden this year! The sale will begin May 2 and continue throughout the month\, ending May 24\, or until we have run out of plants.\nSale hours follow regular site hours. Pay for your selections at the Adena Museum and Visitors Center
URL:https://visitchillicotheohio.com/event/spring-plant-sale/2026-05-15/
LOCATION:Adena Mansion & Gardens\, 847 Adena Road\, Chillicothe\, OH\, 45601\, United States
CATEGORIES:Event,Featured Event
ATTACH;FMTTYPE=image/jpeg:https://visitchillicotheohio.com/wp-content/uploads/2026/02/adenamansion.jpg
GEO:39.3525285;-83.0075729
X-APPLE-STRUCTURED-LOCATION;VALUE=URI;X-ADDRESS=Adena Mansion & Gardens 847 Adena Road Chillicothe OH 45601 United States;X-APPLE-RADIUS=500;X-TITLE=847 Adena Road:geo:-83.0075729,39.3525285
END:VEVENT
BEGIN:VEVENT
DTSTART;TZID=America/New_York:20260516T093000
DTEND;TZID=America/New_York:20260516T170000
DTSTAMP:20260419T100522
CREATED:20260209T191648Z
LAST-MODIFIED:20260209T191648Z
UID:10047381-1778923800-1778950800@visitchillicotheohio.com
SUMMARY:Spring Plant Sale
DESCRIPTION:Stop by the Adena Mansion Greenhouses to browse our selection of vegetables and flowers for sale. Speak with our Horticulturalist for advice and interesting information about the plants. Maybe you will find something to add to your flower beds and vegetable garden this year! The sale will begin May 2 and continue throughout the month\, ending May 24\, or until we have run out of plants.\nSale hours follow regular site hours. Pay for your selections at the Adena Museum and Visitors Center
URL:https://visitchillicotheohio.com/event/spring-plant-sale/2026-05-16/
LOCATION:Adena Mansion & Gardens\, 847 Adena Road\, Chillicothe\, OH\, 45601\, United States
CATEGORIES:Event,Featured Event
ATTACH;FMTTYPE=image/jpeg:https://visitchillicotheohio.com/wp-content/uploads/2026/02/adenamansion.jpg
GEO:39.3525285;-83.0075729
X-APPLE-STRUCTURED-LOCATION;VALUE=URI;X-ADDRESS=Adena Mansion & Gardens 847 Adena Road Chillicothe OH 45601 United States;X-APPLE-RADIUS=500;X-TITLE=847 Adena Road:geo:-83.0075729,39.3525285
END:VEVENT
BEGIN:VEVENT
DTSTART;TZID=America/New_York:20260517T120000
DTEND;TZID=America/New_York:20260517T170000
DTSTAMP:20260419T100522
CREATED:20260209T191648Z
LAST-MODIFIED:20260209T191648Z
UID:10047382-1779019200-1779037200@visitchillicotheohio.com
SUMMARY:Spring Plant Sale
DESCRIPTION:Stop by the Adena Mansion Greenhouses to browse our selection of vegetables and flowers for sale. Speak with our Horticulturalist for advice and interesting information about the plants. Maybe you will find something to add to your flower beds and vegetable garden this year! The sale will begin May 2 and continue throughout the month\, ending May 24\, or until we have run out of plants.\nSale hours follow regular site hours. Pay for your selections at the Adena Museum and Visitors Center
URL:https://visitchillicotheohio.com/event/spring-plant-sale/2026-05-17/
LOCATION:Adena Mansion & Gardens\, 847 Adena Road\, Chillicothe\, OH\, 45601\, United States
CATEGORIES:Event,Featured Event
ATTACH;FMTTYPE=image/jpeg:https://visitchillicotheohio.com/wp-content/uploads/2026/02/adenamansion.jpg
GEO:39.3525285;-83.0075729
X-APPLE-STRUCTURED-LOCATION;VALUE=URI;X-ADDRESS=Adena Mansion & Gardens 847 Adena Road Chillicothe OH 45601 United States;X-APPLE-RADIUS=500;X-TITLE=847 Adena Road:geo:-83.0075729,39.3525285
END:VEVENT
BEGIN:VEVENT
DTSTART;TZID=America/New_York:20260520T093000
DTEND;TZID=America/New_York:20260520T170000
DTSTAMP:20260419T100522
CREATED:20260209T191648Z
LAST-MODIFIED:20260209T191648Z
UID:10047383-1779269400-1779296400@visitchillicotheohio.com
SUMMARY:Spring Plant Sale
DESCRIPTION:Stop by the Adena Mansion Greenhouses to browse our selection of vegetables and flowers for sale. Speak with our Horticulturalist for advice and interesting information about the plants. Maybe you will find something to add to your flower beds and vegetable garden this year! The sale will begin May 2 and continue throughout the month\, ending May 24\, or until we have run out of plants.\nSale hours follow regular site hours. Pay for your selections at the Adena Museum and Visitors Center
URL:https://visitchillicotheohio.com/event/spring-plant-sale/2026-05-20/
LOCATION:Adena Mansion & Gardens\, 847 Adena Road\, Chillicothe\, OH\, 45601\, United States
CATEGORIES:Event,Featured Event
ATTACH;FMTTYPE=image/jpeg:https://visitchillicotheohio.com/wp-content/uploads/2026/02/adenamansion.jpg
GEO:39.3525285;-83.0075729
X-APPLE-STRUCTURED-LOCATION;VALUE=URI;X-ADDRESS=Adena Mansion & Gardens 847 Adena Road Chillicothe OH 45601 United States;X-APPLE-RADIUS=500;X-TITLE=847 Adena Road:geo:-83.0075729,39.3525285
END:VEVENT
BEGIN:VEVENT
DTSTART;TZID=America/New_York:20260521T093000
DTEND;TZID=America/New_York:20260521T170000
DTSTAMP:20260419T100522
CREATED:20260209T191648Z
LAST-MODIFIED:20260209T191648Z
UID:10047384-1779355800-1779382800@visitchillicotheohio.com
SUMMARY:Spring Plant Sale
DESCRIPTION:Stop by the Adena Mansion Greenhouses to browse our selection of vegetables and flowers for sale. Speak with our Horticulturalist for advice and interesting information about the plants. Maybe you will find something to add to your flower beds and vegetable garden this year! The sale will begin May 2 and continue throughout the month\, ending May 24\, or until we have run out of plants.\nSale hours follow regular site hours. Pay for your selections at the Adena Museum and Visitors Center
URL:https://visitchillicotheohio.com/event/spring-plant-sale/2026-05-21/
LOCATION:Adena Mansion & Gardens\, 847 Adena Road\, Chillicothe\, OH\, 45601\, United States
CATEGORIES:Event,Featured Event
ATTACH;FMTTYPE=image/jpeg:https://visitchillicotheohio.com/wp-content/uploads/2026/02/adenamansion.jpg
GEO:39.3525285;-83.0075729
X-APPLE-STRUCTURED-LOCATION;VALUE=URI;X-ADDRESS=Adena Mansion & Gardens 847 Adena Road Chillicothe OH 45601 United States;X-APPLE-RADIUS=500;X-TITLE=847 Adena Road:geo:-83.0075729,39.3525285
END:VEVENT
BEGIN:VEVENT
DTSTART;TZID=America/New_York:20260522T093000
DTEND;TZID=America/New_York:20260522T170000
DTSTAMP:20260419T100522
CREATED:20260209T191648Z
LAST-MODIFIED:20260209T191648Z
UID:10047385-1779442200-1779469200@visitchillicotheohio.com
SUMMARY:Spring Plant Sale
DESCRIPTION:Stop by the Adena Mansion Greenhouses to browse our selection of vegetables and flowers for sale. Speak with our Horticulturalist for advice and interesting information about the plants. Maybe you will find something to add to your flower beds and vegetable garden this year! The sale will begin May 2 and continue throughout the month\, ending May 24\, or until we have run out of plants.\nSale hours follow regular site hours. Pay for your selections at the Adena Museum and Visitors Center
URL:https://visitchillicotheohio.com/event/spring-plant-sale/2026-05-22/
LOCATION:Adena Mansion & Gardens\, 847 Adena Road\, Chillicothe\, OH\, 45601\, United States
CATEGORIES:Event,Featured Event
ATTACH;FMTTYPE=image/jpeg:https://visitchillicotheohio.com/wp-content/uploads/2026/02/adenamansion.jpg
GEO:39.3525285;-83.0075729
X-APPLE-STRUCTURED-LOCATION;VALUE=URI;X-ADDRESS=Adena Mansion & Gardens 847 Adena Road Chillicothe OH 45601 United States;X-APPLE-RADIUS=500;X-TITLE=847 Adena Road:geo:-83.0075729,39.3525285
END:VEVENT
BEGIN:VEVENT
DTSTART;TZID=America/New_York:20260523T093000
DTEND;TZID=America/New_York:20260523T170000
DTSTAMP:20260419T100522
CREATED:20260209T191648Z
LAST-MODIFIED:20260209T191648Z
UID:10047386-1779528600-1779555600@visitchillicotheohio.com
SUMMARY:Spring Plant Sale
DESCRIPTION:Stop by the Adena Mansion Greenhouses to browse our selection of vegetables and flowers for sale. Speak with our Horticulturalist for advice and interesting information about the plants. Maybe you will find something to add to your flower beds and vegetable garden this year! The sale will begin May 2 and continue throughout the month\, ending May 24\, or until we have run out of plants.\nSale hours follow regular site hours. Pay for your selections at the Adena Museum and Visitors Center
URL:https://visitchillicotheohio.com/event/spring-plant-sale/2026-05-23/
LOCATION:Adena Mansion & Gardens\, 847 Adena Road\, Chillicothe\, OH\, 45601\, United States
CATEGORIES:Event,Featured Event
ATTACH;FMTTYPE=image/jpeg:https://visitchillicotheohio.com/wp-content/uploads/2026/02/adenamansion.jpg
GEO:39.3525285;-83.0075729
X-APPLE-STRUCTURED-LOCATION;VALUE=URI;X-ADDRESS=Adena Mansion & Gardens 847 Adena Road Chillicothe OH 45601 United States;X-APPLE-RADIUS=500;X-TITLE=847 Adena Road:geo:-83.0075729,39.3525285
END:VEVENT
BEGIN:VEVENT
DTSTART;TZID=America/New_York:20260524T120000
DTEND;TZID=America/New_York:20260524T170000
DTSTAMP:20260419T100522
CREATED:20260209T191648Z
LAST-MODIFIED:20260209T191648Z
UID:10047387-1779624000-1779642000@visitchillicotheohio.com
SUMMARY:Spring Plant Sale
DESCRIPTION:Stop by the Adena Mansion Greenhouses to browse our selection of vegetables and flowers for sale. Speak with our Horticulturalist for advice and interesting information about the plants. Maybe you will find something to add to your flower beds and vegetable garden this year! The sale will begin May 2 and continue throughout the month\, ending May 24\, or until we have run out of plants.\nSale hours follow regular site hours. Pay for your selections at the Adena Museum and Visitors Center
URL:https://visitchillicotheohio.com/event/spring-plant-sale/2026-05-24/
LOCATION:Adena Mansion & Gardens\, 847 Adena Road\, Chillicothe\, OH\, 45601\, United States
CATEGORIES:Event,Featured Event
ATTACH;FMTTYPE=image/jpeg:https://visitchillicotheohio.com/wp-content/uploads/2026/02/adenamansion.jpg
GEO:39.3525285;-83.0075729
X-APPLE-STRUCTURED-LOCATION;VALUE=URI;X-ADDRESS=Adena Mansion & Gardens 847 Adena Road Chillicothe OH 45601 United States;X-APPLE-RADIUS=500;X-TITLE=847 Adena Road:geo:-83.0075729,39.3525285
END:VEVENT
BEGIN:VEVENT
DTSTART;TZID=America/New_York:20260613T100000
DTEND;TZID=America/New_York:20260613T170000
DTSTAMP:20260419T100522
CREATED:20250821T203132Z
LAST-MODIFIED:20251029T125257Z
UID:10046342-1781344800-1781370000@visitchillicotheohio.com
SUMMARY:America 250 Celebration - Brigade of the American Revolution
DESCRIPTION:Step back in time at the Adena Mansion & Gardens on June 13–14\, 2026\, for the America 250 Celebration with the Brigade of the American Revolution\, Northwest Department. Experience the sights and sounds of the 18th century through artillery demonstrations\, musket and rifle drills\, soldier’s kit presentations\, and period military music. Visitors can explore hands-on exhibits\, children’s games\, cooking demonstrations\, and the role of women of the era. Don’t miss George Washington\, Ben Franklin\, a flag retirement ceremony\, beer making and other engaging activities that bring early American history vividly to life.
URL:https://visitchillicotheohio.com/event/america-250-celebration-brigade-of-the-american-revolution/2026-06-13/
LOCATION:Adena Mansion & Gardens\, 847 Adena Road\, Chillicothe\, OH\, 45601\, United States
CATEGORIES:America250,Event,Featured Event
ATTACH;FMTTYPE=image/jpeg:https://visitchillicotheohio.com/wp-content/uploads/2025/08/IMG_2794.jpg
GEO:39.3525285;-83.0075729
X-APPLE-STRUCTURED-LOCATION;VALUE=URI;X-ADDRESS=Adena Mansion & Gardens 847 Adena Road Chillicothe OH 45601 United States;X-APPLE-RADIUS=500;X-TITLE=847 Adena Road:geo:-83.0075729,39.3525285
END:VEVENT
BEGIN:VEVENT
DTSTART;TZID=America/New_York:20260613T100000
DTEND;TZID=America/New_York:20260614T170000
DTSTAMP:20260419T100522
CREATED:20250610T185620Z
LAST-MODIFIED:20250610T185643Z
UID:10046172-1781344800-1781456400@visitchillicotheohio.com
SUMMARY:America 250 Celebration
DESCRIPTION:The Nathaniel Massie Daughters of the American Revolution proudly hosts a celebration of the 250th Anniversary of the Signing of the Declaration of Independence with historical interpreters\, reenactors\, artifacts\, and hands-on children’s activities. \nThe Brigade of the American Revolution\, The Joseph Ogle Ohio Company of the Virginia Militia\, and others will be present to share first hand 18th century military and home life. Self guided visits to military encampment\, open fire cooking\, and 18th century medicine. \nFree parking\, no entrance fee\, discounted admission to Adena Mansion.
URL:https://visitchillicotheohio.com/event/america-250-celebration-copy/
LOCATION:Adena Mansion & Gardens\, 847 Adena Road\, Chillicothe\, OH\, 45601\, United States
CATEGORIES:App Event
ATTACH;FMTTYPE=image/jpeg:https://visitchillicotheohio.com/wp-content/uploads/2025/06/IMG_2794.jpg
GEO:39.3525285;-83.0075729
X-APPLE-STRUCTURED-LOCATION;VALUE=URI;X-ADDRESS=Adena Mansion & Gardens 847 Adena Road Chillicothe OH 45601 United States;X-APPLE-RADIUS=500;X-TITLE=847 Adena Road:geo:-83.0075729,39.3525285
END:VEVENT
BEGIN:VEVENT
DTSTART;TZID=America/New_York:20260613T100000
DTEND;TZID=America/New_York:20260614T170000
DTSTAMP:20260419T100522
CREATED:20250821T203141Z
LAST-MODIFIED:20251029T125335Z
UID:10046344-1781344800-1781456400@visitchillicotheohio.com
SUMMARY:America 250 Celebration - Brigade of the American Revolution
DESCRIPTION:Step back in time at the Adena Mansion & Gardens on June 13–14\, 2026\, for the America 250 Celebration with the Brigade of the American Revolution\, Northwest Department. Experience the sights and sounds of the 18th century through artillery demonstrations\, musket and rifle drills\, soldier’s kit presentations\, and period military music. Visitors can explore hands-on exhibits\, children’s games\, cooking demonstrations\, and the role of women of the era. Don’t miss George Washington\, Ben Franklin\, a flag retirement ceremony\, beer making and other engaging activities that bring early American history vividly to life.
URL:https://visitchillicotheohio.com/event/america-250-celebration-brigade-of-the-american-revolution-copy/
LOCATION:Adena Mansion & Gardens\, 847 Adena Road\, Chillicothe\, OH\, 45601\, United States
CATEGORIES:App Event
ATTACH;FMTTYPE=image/jpeg:https://visitchillicotheohio.com/wp-content/uploads/2025/08/IMG_2794.jpg
GEO:39.3525285;-83.0075729
X-APPLE-STRUCTURED-LOCATION;VALUE=URI;X-ADDRESS=Adena Mansion & Gardens 847 Adena Road Chillicothe OH 45601 United States;X-APPLE-RADIUS=500;X-TITLE=847 Adena Road:geo:-83.0075729,39.3525285
END:VEVENT
BEGIN:VEVENT
DTSTART;TZID=America/New_York:20260614T120000
DTEND;TZID=America/New_York:20260614T170000
DTSTAMP:20260419T100522
CREATED:20250821T203132Z
LAST-MODIFIED:20251029T125257Z
UID:10046343-1781438400-1781456400@visitchillicotheohio.com
SUMMARY:America 250 Celebration - Brigade of the American Revolution
DESCRIPTION:Step back in time at the Adena Mansion & Gardens on June 13–14\, 2026\, for the America 250 Celebration with the Brigade of the American Revolution\, Northwest Department. Experience the sights and sounds of the 18th century through artillery demonstrations\, musket and rifle drills\, soldier’s kit presentations\, and period military music. Visitors can explore hands-on exhibits\, children’s games\, cooking demonstrations\, and the role of women of the era. Don’t miss George Washington\, Ben Franklin\, a flag retirement ceremony\, beer making and other engaging activities that bring early American history vividly to life.
URL:https://visitchillicotheohio.com/event/america-250-celebration-brigade-of-the-american-revolution/2026-06-14/
LOCATION:Adena Mansion & Gardens\, 847 Adena Road\, Chillicothe\, OH\, 45601\, United States
CATEGORIES:America250,Event,Featured Event
ATTACH;FMTTYPE=image/jpeg:https://visitchillicotheohio.com/wp-content/uploads/2025/08/IMG_2794.jpg
GEO:39.3525285;-83.0075729
X-APPLE-STRUCTURED-LOCATION;VALUE=URI;X-ADDRESS=Adena Mansion & Gardens 847 Adena Road Chillicothe OH 45601 United States;X-APPLE-RADIUS=500;X-TITLE=847 Adena Road:geo:-83.0075729,39.3525285
END:VEVENT
BEGIN:VEVENT
DTSTART;TZID=America/New_York:20260718T120000
DTEND;TZID=America/New_York:20260718T170000
DTSTAMP:20260419T100522
CREATED:20260219T183037Z
LAST-MODIFIED:20260219T183037Z
UID:10047570-1784376000-1784394000@visitchillicotheohio.com
SUMMARY:Community Picnic Celebrating America 250
DESCRIPTION:The Muffins and Worthingtons Vintage Baseball Teams will square off at noon\, using the 1860 baseball rules. There will be lots of games and activities for all ages\, history trivia\, giveaways to guests and more. It’s going to be an old fashion American neighborhood picnic….fun for all. Hope to see you there. America 250 Ross County and Ohio History Connection are your hosts.
URL:https://visitchillicotheohio.com/event/community-picnic-celebrating-america-250/
LOCATION:Adena Mansion & Gardens\, 847 Adena Road\, Chillicothe\, OH\, 45601\, United States
CATEGORIES:America250,App Event,Event,Featured Event
ATTACH;FMTTYPE=image/jpeg:https://visitchillicotheohio.com/wp-content/uploads/2026/02/Community-Picnic.jpg
GEO:39.3525285;-83.0075729
X-APPLE-STRUCTURED-LOCATION;VALUE=URI;X-ADDRESS=Adena Mansion & Gardens 847 Adena Road Chillicothe OH 45601 United States;X-APPLE-RADIUS=500;X-TITLE=847 Adena Road:geo:-83.0075729,39.3525285
END:VEVENT
END:VCALENDAR