BEGIN:VCALENDAR
VERSION:2.0
PRODID:-//Ross-Chillicothe Convention &amp; Visitors Bureau - ECPv6.15.20//NONSGML v1.0//EN
CALSCALE:GREGORIAN
METHOD:PUBLISH
X-WR-CALNAME:Ross-Chillicothe Convention &amp; Visitors Bureau
X-ORIGINAL-URL:https://visitchillicotheohio.com
X-WR-CALDESC:Events for Ross-Chillicothe Convention &amp; Visitors Bureau
REFRESH-INTERVAL;VALUE=DURATION:PT1H
X-Robots-Tag:noindex
X-PUBLISHED-TTL:PT1H
BEGIN:VTIMEZONE
TZID:America/New_York
BEGIN:DAYLIGHT
TZOFFSETFROM:-0500
TZOFFSETTO:-0400
TZNAME:EDT
DTSTART:20240310T070000
END:DAYLIGHT
BEGIN:STANDARD
TZOFFSETFROM:-0400
TZOFFSETTO:-0500
TZNAME:EST
DTSTART:20241103T060000
END:STANDARD
BEGIN:DAYLIGHT
TZOFFSETFROM:-0500
TZOFFSETTO:-0400
TZNAME:EDT
DTSTART:20250309T070000
END:DAYLIGHT
BEGIN:STANDARD
TZOFFSETFROM:-0400
TZOFFSETTO:-0500
TZNAME:EST
DTSTART:20251102T060000
END:STANDARD
BEGIN:DAYLIGHT
TZOFFSETFROM:-0500
TZOFFSETTO:-0400
TZNAME:EDT
DTSTART:20260308T070000
END:DAYLIGHT
BEGIN:STANDARD
TZOFFSETFROM:-0400
TZOFFSETTO:-0500
TZNAME:EST
DTSTART:20261101T060000
END:STANDARD
END:VTIMEZONE
BEGIN:VEVENT
DTSTART;TZID=America/New_York:20250927T120000
DTEND;TZID=America/New_York:20250927T210000
DTSTAMP:20260419T212003
CREATED:20250805T153326Z
LAST-MODIFIED:20250805T153326Z
UID:10046329-1758974400-1759006800@visitchillicotheohio.com
SUMMARY:Chili-Fest 2025
DESCRIPTION:Get your teams together\, decide your recipe & get registered! Team Entry is FREE!\nHelp Make this another Great Event – as always\, proceeds go to Rock for Tot’s\, ice cold Adult Beverages and Pepsi products will be available for purchase as well!\nIn addition to samples of the teams chili this year we will have a few food vendors present for some additional food options! After the winners are announced\, we will stick around with the food vendors\, beer trailer & keep the music going on the stage into the evening!\nTeams will be cooking by 9:00 am – Opens to the Public at 12:00 pm – Event Entry for patrons is $5 each for all the chili you can eat from all the booths & kids under 12 are free.
URL:https://visitchillicotheohio.com/event/chili-fest-2025/
LOCATION:Second Street\, Mulberry - Paint Streets\, Chillicothe\, OH\, 45601\, United States
CATEGORIES:App Event,Event
ATTACH;FMTTYPE=image/jpeg:https://visitchillicotheohio.com/wp-content/uploads/2025/08/chili-fest-2025.jpg
GEO:39.3258326;-82.9802372
X-APPLE-STRUCTURED-LOCATION;VALUE=URI;X-ADDRESS=Second Street Mulberry - Paint Streets Chillicothe OH 45601 United States;X-APPLE-RADIUS=500;X-TITLE=Mulberry - Paint Streets:geo:-82.9802372,39.3258326
END:VEVENT
END:VCALENDAR