BEGIN:VCALENDAR
VERSION:2.0
PRODID:-//Ross-Chillicothe Convention &amp; Visitors Bureau - ECPv6.15.20//NONSGML v1.0//EN
CALSCALE:GREGORIAN
METHOD:PUBLISH
X-ORIGINAL-URL:https://visitchillicotheohio.com
X-WR-CALDESC:Events for Ross-Chillicothe Convention &amp; Visitors Bureau
REFRESH-INTERVAL;VALUE=DURATION:PT1H
X-Robots-Tag:noindex
X-PUBLISHED-TTL:PT1H
BEGIN:VTIMEZONE
TZID:America/New_York
BEGIN:DAYLIGHT
TZOFFSETFROM:-0500
TZOFFSETTO:-0400
TZNAME:EDT
DTSTART:20250309T070000
END:DAYLIGHT
BEGIN:STANDARD
TZOFFSETFROM:-0400
TZOFFSETTO:-0500
TZNAME:EST
DTSTART:20251102T060000
END:STANDARD
BEGIN:DAYLIGHT
TZOFFSETFROM:-0500
TZOFFSETTO:-0400
TZNAME:EDT
DTSTART:20260308T070000
END:DAYLIGHT
BEGIN:STANDARD
TZOFFSETFROM:-0400
TZOFFSETTO:-0500
TZNAME:EST
DTSTART:20261101T060000
END:STANDARD
BEGIN:DAYLIGHT
TZOFFSETFROM:-0500
TZOFFSETTO:-0400
TZNAME:EDT
DTSTART:20270314T070000
END:DAYLIGHT
BEGIN:STANDARD
TZOFFSETFROM:-0400
TZOFFSETTO:-0500
TZNAME:EST
DTSTART:20271107T060000
END:STANDARD
END:VTIMEZONE
BEGIN:VEVENT
DTSTART;TZID=America/New_York:20260208T120000
DTEND;TZID=America/New_York:20260208T150000
DTSTAMP:20260420T083316
CREATED:20260129T192248Z
LAST-MODIFIED:20260129T195946Z
UID:10047362-1770552000-1770562800@visitchillicotheohio.com
SUMMARY:30th Annual Chocolate Fantasy Fundraiser
DESCRIPTION:Scioto Valley Habitat for Humanity will be sponsoring the 30th Annual Chocolate Fantasy Fundraiser on Sunday\, February 8\, 2026 at the First Presbyterian Church located at 13 Mead Drive from noon unit 3pm.  Tickets are $10 each and available at the door.  They will also have a Chinese Auction and tickets for the auction are 6 for $5.00.
URL:https://visitchillicotheohio.com/event/30th-annual-chocolate-fantasy-fundraiser/
LOCATION:First Presbyterian Church\, 13 Mead Drive\, Chillicothe\, OH\, 45601\, United States
CATEGORIES:App Event,Event
ATTACH;FMTTYPE=image/png:https://visitchillicotheohio.com/wp-content/uploads/2026/01/Light-Brown-Modern-Hot-Cocoa-Fundraiser-Instagram-Post.png
GEO:39.3235923;-82.9906454
X-APPLE-STRUCTURED-LOCATION;VALUE=URI;X-ADDRESS=First Presbyterian Church 13 Mead Drive Chillicothe OH 45601 United States;X-APPLE-RADIUS=500;X-TITLE=13 Mead Drive:geo:-82.9906454,39.3235923
END:VEVENT
END:VCALENDAR