BEGIN:VCALENDAR
VERSION:2.0
PRODID:-//Ross-Chillicothe Convention &amp; Visitors Bureau - ECPv6.15.20//NONSGML v1.0//EN
CALSCALE:GREGORIAN
METHOD:PUBLISH
X-WR-CALNAME:Ross-Chillicothe Convention &amp; Visitors Bureau
X-ORIGINAL-URL:https://visitchillicotheohio.com
X-WR-CALDESC:Events for Ross-Chillicothe Convention &amp; Visitors Bureau
REFRESH-INTERVAL;VALUE=DURATION:PT1H
X-Robots-Tag:noindex
X-PUBLISHED-TTL:PT1H
BEGIN:VTIMEZONE
TZID:America/New_York
BEGIN:DAYLIGHT
TZOFFSETFROM:-0500
TZOFFSETTO:-0400
TZNAME:EDT
DTSTART:20220313T070000
END:DAYLIGHT
BEGIN:STANDARD
TZOFFSETFROM:-0400
TZOFFSETTO:-0500
TZNAME:EST
DTSTART:20221106T060000
END:STANDARD
BEGIN:DAYLIGHT
TZOFFSETFROM:-0500
TZOFFSETTO:-0400
TZNAME:EDT
DTSTART:20230312T070000
END:DAYLIGHT
BEGIN:STANDARD
TZOFFSETFROM:-0400
TZOFFSETTO:-0500
TZNAME:EST
DTSTART:20231105T060000
END:STANDARD
BEGIN:DAYLIGHT
TZOFFSETFROM:-0500
TZOFFSETTO:-0400
TZNAME:EDT
DTSTART:20240310T070000
END:DAYLIGHT
BEGIN:STANDARD
TZOFFSETFROM:-0400
TZOFFSETTO:-0500
TZNAME:EST
DTSTART:20241103T060000
END:STANDARD
END:VTIMEZONE
BEGIN:VEVENT
DTSTART;TZID=America/New_York:20230709T120000
DTEND;TZID=America/New_York:20230709T220000
DTSTAMP:20260422T145938
CREATED:20221108T194544Z
LAST-MODIFIED:20230418T170832Z
UID:10043434-1688904000-1688940000@visitchillicotheohio.com
SUMMARY:6th Annual Ohio Jeep Fest
DESCRIPTION:Mark your calendar for July 7th\, 8th\, & 9th 2023 . The Ross County Agricultural Society in conjunction with Mid Ohio Jeepers Organization presents the 6th annual Ohio Jeep Fest. \n\nEvent Details\n• Mud pits\n• Modified Obstacle Course\n• Stock Obstacle Course\n• Trail Rides\n• Merchandise Vendors\n• Live Entertainment
URL:https://visitchillicotheohio.com/event/6th-annual-ohio-jeep-fest/2023-07-09/
LOCATION:Ross County Fairgrounds\, 344 Fairgrounds Road\, Chillicothe\, OH\, 45601\, United States
CATEGORIES:Event,Featured Event
ATTACH;FMTTYPE=image/png:https://visitchillicotheohio.com/wp-content/uploads/2022/11/2023-ojf.png
ORGANIZER;CN="Mid Ohio Jeepers":MAILTO:barryhaubeil@yahoo.com
GEO:39.4080469;-83.0094932
X-APPLE-STRUCTURED-LOCATION;VALUE=URI;X-ADDRESS=Ross County Fairgrounds 344 Fairgrounds Road Chillicothe OH 45601 United States;X-APPLE-RADIUS=500;X-TITLE=344 Fairgrounds Road:geo:-83.0094932,39.4080469
END:VEVENT
BEGIN:VEVENT
DTSTART;TZID=America/New_York:20230708T120000
DTEND;TZID=America/New_York:20230708T220000
DTSTAMP:20260422T145938
CREATED:20221108T194544Z
LAST-MODIFIED:20230418T170832Z
UID:10043433-1688817600-1688853600@visitchillicotheohio.com
SUMMARY:6th Annual Ohio Jeep Fest
DESCRIPTION:Mark your calendar for July 7th\, 8th\, & 9th 2023 . The Ross County Agricultural Society in conjunction with Mid Ohio Jeepers Organization presents the 6th annual Ohio Jeep Fest. \n\nEvent Details\n• Mud pits\n• Modified Obstacle Course\n• Stock Obstacle Course\n• Trail Rides\n• Merchandise Vendors\n• Live Entertainment
URL:https://visitchillicotheohio.com/event/6th-annual-ohio-jeep-fest/2023-07-08/
LOCATION:Ross County Fairgrounds\, 344 Fairgrounds Road\, Chillicothe\, OH\, 45601\, United States
CATEGORIES:Event,Featured Event
ATTACH;FMTTYPE=image/png:https://visitchillicotheohio.com/wp-content/uploads/2022/11/2023-ojf.png
ORGANIZER;CN="Mid Ohio Jeepers":MAILTO:barryhaubeil@yahoo.com
GEO:39.4080469;-83.0094932
X-APPLE-STRUCTURED-LOCATION;VALUE=URI;X-ADDRESS=Ross County Fairgrounds 344 Fairgrounds Road Chillicothe OH 45601 United States;X-APPLE-RADIUS=500;X-TITLE=344 Fairgrounds Road:geo:-83.0094932,39.4080469
END:VEVENT
BEGIN:VEVENT
DTSTART;TZID=America/New_York:20230707T120000
DTEND;TZID=America/New_York:20230709T220000
DTSTAMP:20260422T145938
CREATED:20230418T170836Z
LAST-MODIFIED:20230418T170859Z
UID:10043767-1688731200-1688940000@visitchillicotheohio.com
SUMMARY:6th Annual Ohio Jeep Fest Copy
DESCRIPTION:Mark your calendar for July 7th\, 8th\, & 9th 2023 . The Ross County Agricultural Society in conjunction with Mid Ohio Jeepers Organization presents the 6th annual Ohio Jeep Fest. \n\nEvent Details\n• Mud pits\n• Modified Obstacle Course\n• Stock Obstacle Course\n• Trail Rides\n• Merchandise Vendors\n• Live Entertainment
URL:https://visitchillicotheohio.com/event/6th-annual-ohio-jeep-fest-copy/
LOCATION:Ross County Fairgrounds\, 344 Fairgrounds Road\, Chillicothe\, OH\, 45601\, United States
CATEGORIES:App Event
ATTACH;FMTTYPE=image/png:https://visitchillicotheohio.com/wp-content/uploads/2022/11/2023-ojf.png
ORGANIZER;CN="Mid Ohio Jeepers":MAILTO:barryhaubeil@yahoo.com
GEO:39.4080469;-83.0094932
X-APPLE-STRUCTURED-LOCATION;VALUE=URI;X-ADDRESS=Ross County Fairgrounds 344 Fairgrounds Road Chillicothe OH 45601 United States;X-APPLE-RADIUS=500;X-TITLE=344 Fairgrounds Road:geo:-83.0094932,39.4080469
END:VEVENT
BEGIN:VEVENT
DTSTART;TZID=America/New_York:20230707T120000
DTEND;TZID=America/New_York:20230707T220000
DTSTAMP:20260422T145938
CREATED:20221108T194544Z
LAST-MODIFIED:20230418T170832Z
UID:10043432-1688731200-1688767200@visitchillicotheohio.com
SUMMARY:6th Annual Ohio Jeep Fest
DESCRIPTION:Mark your calendar for July 7th\, 8th\, & 9th 2023 . The Ross County Agricultural Society in conjunction with Mid Ohio Jeepers Organization presents the 6th annual Ohio Jeep Fest. \n\nEvent Details\n• Mud pits\n• Modified Obstacle Course\n• Stock Obstacle Course\n• Trail Rides\n• Merchandise Vendors\n• Live Entertainment
URL:https://visitchillicotheohio.com/event/6th-annual-ohio-jeep-fest/2023-07-07/
LOCATION:Ross County Fairgrounds\, 344 Fairgrounds Road\, Chillicothe\, OH\, 45601\, United States
CATEGORIES:Event,Featured Event
ATTACH;FMTTYPE=image/png:https://visitchillicotheohio.com/wp-content/uploads/2022/11/2023-ojf.png
ORGANIZER;CN="Mid Ohio Jeepers":MAILTO:barryhaubeil@yahoo.com
GEO:39.4080469;-83.0094932
X-APPLE-STRUCTURED-LOCATION;VALUE=URI;X-ADDRESS=Ross County Fairgrounds 344 Fairgrounds Road Chillicothe OH 45601 United States;X-APPLE-RADIUS=500;X-TITLE=344 Fairgrounds Road:geo:-83.0094932,39.4080469
END:VEVENT
END:VCALENDAR