BEGIN:VCALENDAR
VERSION:2.0
PRODID:-//Ross-Chillicothe Convention &amp; Visitors Bureau - ECPv6.15.20//NONSGML v1.0//EN
CALSCALE:GREGORIAN
METHOD:PUBLISH
X-WR-CALNAME:Ross-Chillicothe Convention &amp; Visitors Bureau
X-ORIGINAL-URL:https://visitchillicotheohio.com
X-WR-CALDESC:Events for Ross-Chillicothe Convention &amp; Visitors Bureau
REFRESH-INTERVAL;VALUE=DURATION:PT1H
X-Robots-Tag:noindex
X-PUBLISHED-TTL:PT1H
BEGIN:VTIMEZONE
TZID:America/New_York
BEGIN:DAYLIGHT
TZOFFSETFROM:-0500
TZOFFSETTO:-0400
TZNAME:EDT
DTSTART:20220313T070000
END:DAYLIGHT
BEGIN:STANDARD
TZOFFSETFROM:-0400
TZOFFSETTO:-0500
TZNAME:EST
DTSTART:20221106T060000
END:STANDARD
BEGIN:DAYLIGHT
TZOFFSETFROM:-0500
TZOFFSETTO:-0400
TZNAME:EDT
DTSTART:20230312T070000
END:DAYLIGHT
BEGIN:STANDARD
TZOFFSETFROM:-0400
TZOFFSETTO:-0500
TZNAME:EST
DTSTART:20231105T060000
END:STANDARD
BEGIN:DAYLIGHT
TZOFFSETFROM:-0500
TZOFFSETTO:-0400
TZNAME:EDT
DTSTART:20240310T070000
END:DAYLIGHT
BEGIN:STANDARD
TZOFFSETFROM:-0400
TZOFFSETTO:-0500
TZNAME:EST
DTSTART:20241103T060000
END:STANDARD
END:VTIMEZONE
BEGIN:VEVENT
DTSTART;TZID=America/New_York:20230802T100000
DTEND;TZID=America/New_York:20230802T120000
DTSTAMP:20260422T153959
CREATED:20230720T170557Z
LAST-MODIFIED:20230802T174956Z
UID:10043698-1690970400-1690977600@visitchillicotheohio.com
SUMMARY:Dragonfly Nymph Mercury Sampling Event
DESCRIPTION:Join us August 2nd to learn about and help collect dragonfly nymphs for the Dragonfly Mercury Project! \nThe Dragonfly Mercury Project (DMP) aims to track mercury levels across the U.S. to determine where and why mercury levels are high. This provides valuable information to researchers in areas such as public health\, environmental policy\, and land management. This project also allows parks to see the diversity of dragonflies in their waterways and is a great opportunity for anyone to learn about dragonflies\, other aquatic macroinvertebrates\, and aquatic ecology. \nNets\, containers\, and other collection materials will be provided. Make sure to bring water\, sunscreen\, and possibly a snack\, as well as waterproof boots or sandals if you plan to get in the water. We expect it to be a hot day\, so be prepared! \n 
URL:https://visitchillicotheohio.com/event/dragonfly-nymph-mercury-sampling-event/2023-08-02/
LOCATION:Hopewell Mound Group\, 4731 Sulphur Lick Road\, Chillicothe\, OH\, 45601\, United States
CATEGORIES:App Event,Event,Featured Event
ATTACH;FMTTYPE=image/png:https://visitchillicotheohio.com/wp-content/uploads/2023/07/DMP-Logo.png
ORGANIZER;CN="Hopewell Culture National Historical Park":MAILTO:susan_knisley@nps.gov
GEO:39.3601832;-83.0878537
X-APPLE-STRUCTURED-LOCATION;VALUE=URI;X-ADDRESS=Hopewell Mound Group 4731 Sulphur Lick Road Chillicothe OH 45601 United States;X-APPLE-RADIUS=500;X-TITLE=4731 Sulphur Lick Road:geo:-83.0878537,39.3601832
END:VEVENT
BEGIN:VEVENT
DTSTART;TZID=America/New_York:20230722T100000
DTEND;TZID=America/New_York:20230722T120000
DTSTAMP:20260422T153959
CREATED:20230620T193856Z
LAST-MODIFIED:20230620T193856Z
UID:10043678-1690020000-1690027200@visitchillicotheohio.com
SUMMARY:Ranger Guided Tour of Hopewell Mound Group
DESCRIPTION:Go beyond Mound City and learn about more of Hopewell Culture National Historical Park’s earthworks. Join our interpretive rangers Saturday’s in June\, July and August as we focus on the other three public earthworks preserved by your national park! \nRanger guided tours of Hopewell Mound Group\nDate: July 1\, July 22\, August 5\nTime: 10:00am\nLocation: 4731 Sulphur Lick Rd\nDuration: Approximately 2 hours \nThese tours are free and open to the public. Walking tours will cover 2-3 miles over unpaved\, uneven terrain. Bring your questions\, along with hats\, water\, snacks\, sunscreen\, bug spray\, and rain gear. \nFor more information about these or any events\, call the Visitor Center at (740) 774-1126.
URL:https://visitchillicotheohio.com/event/ranger-guided-tour-of-hopewell-mound-group/2023-07-22/
LOCATION:Hopewell Mound Group\, 4731 Sulphur Lick Road\, Chillicothe\, OH\, 45601\, United States
CATEGORIES:App Event,Event,Featured Event
ATTACH;FMTTYPE=image/jpeg:https://visitchillicotheohio.com/wp-content/uploads/2023/06/HMG-NPS-Tom-Engberg-scaled.jpg
ORGANIZER;CN="Hopewell Culture National Historical Park":MAILTO:susan_knisley@nps.gov
GEO:39.3601832;-83.0878537
X-APPLE-STRUCTURED-LOCATION;VALUE=URI;X-ADDRESS=Hopewell Mound Group 4731 Sulphur Lick Road Chillicothe OH 45601 United States;X-APPLE-RADIUS=500;X-TITLE=4731 Sulphur Lick Road:geo:-83.0878537,39.3601832
END:VEVENT
BEGIN:VEVENT
DTSTART;TZID=America/New_York:20230722T090000
DTEND;TZID=America/New_York:20230722T113000
DTSTAMP:20260422T153959
CREATED:20230717T130650Z
LAST-MODIFIED:20230717T130650Z
UID:10044483-1690016400-1690025400@visitchillicotheohio.com
SUMMARY:Managing Grassland Habitat
DESCRIPTION:Do you enjoy walking through the restored native prairies at our earthworks? Learn about these native ecosystems and how you can manage your own for the benefit of ground nesting birds. \nPheasants Forever and Quail Forever of Ohio\, the USDA Natural Resources Conservation Service will be sponsoring this event with park staff. This event will begin at the Mound City Group Visitor Center located at 16062 OH-104\, Chillicothe\, OH 45601. The event will include a trip to the Hopeton Earthworks unit of Hopewell Culture National Historical Park.
URL:https://visitchillicotheohio.com/event/managing-grassland-habitat/
CATEGORIES:App Event,Event,Featured Event
ATTACH;FMTTYPE=image/jpeg:https://visitchillicotheohio.com/wp-content/uploads/2023/07/pheseant-jusy-22.jpg
ORGANIZER;CN="Hopewell Culture National Historical Park":MAILTO:susan_knisley@nps.gov
END:VEVENT
BEGIN:VEVENT
DTSTART;TZID=America/New_York:20230708T090000
DTEND;TZID=America/New_York:20230708T120000
DTSTAMP:20260422T153959
CREATED:20230614T121626Z
LAST-MODIFIED:20230614T121626Z
UID:10044131-1688806800-1688817600@visitchillicotheohio.com
SUMMARY:2nd Saturday Archeology Walking Tours
DESCRIPTION:Join the Friends of Hopewell Culture NHP each 2nd Saturday in June\, July\, and August for walking tours led by Park Archeologists\, Dr. Bret Ruby and Dr. Tim Everhart. These expert guides will lead us on learning expeditions through the awe-inspiring American Indian ceremonial earthworks protected at Hopewell Culture National Historical Park.\nDate: Saturday\, July 8\, 2023\nTime: 9:00 A.M. to 12:00 P.M.\nJoin Dr. Tim Everhart at Seip Earthworks\n7058 US RT. 50\nBainbridge\, OH 45612\nThese tours are free and open to the public. Walking tours will last approximately 2-3 hours\, and will cover 2-3 miles over unpaved\, uneven terrain. Sturdy walking shoes are recommended.\nBring your questions\, along with hats\, water\, snacks\, sunscreen\, bug spray\, and rain gear.
URL:https://visitchillicotheohio.com/event/2nd-saturday-archeology-walking-tours-2/
LOCATION:Seip Earthworks\, 7058 US RT 50\, Bainbridge\, OH\, 45612\, United States
CATEGORIES:App Event,Event,Featured Event
ATTACH;FMTTYPE=image/jpeg:https://visitchillicotheohio.com/wp-content/uploads/2023/06/Seip-Earthworks-NPS-Tom-Engberg-1-scaled.jpg
ORGANIZER;CN="Hopewell Culture National Historical Park":MAILTO:susan_knisley@nps.gov
END:VEVENT
BEGIN:VEVENT
DTSTART;TZID=America/New_York:20230701T100000
DTEND;TZID=America/New_York:20230701T120000
DTSTAMP:20260422T153959
CREATED:20230620T193856Z
LAST-MODIFIED:20230620T193856Z
UID:10043677-1688205600-1688212800@visitchillicotheohio.com
SUMMARY:Ranger Guided Tour of Hopewell Mound Group
DESCRIPTION:Go beyond Mound City and learn about more of Hopewell Culture National Historical Park’s earthworks. Join our interpretive rangers Saturday’s in June\, July and August as we focus on the other three public earthworks preserved by your national park! \nRanger guided tours of Hopewell Mound Group\nDate: July 1\, July 22\, August 5\nTime: 10:00am\nLocation: 4731 Sulphur Lick Rd\nDuration: Approximately 2 hours \nThese tours are free and open to the public. Walking tours will cover 2-3 miles over unpaved\, uneven terrain. Bring your questions\, along with hats\, water\, snacks\, sunscreen\, bug spray\, and rain gear. \nFor more information about these or any events\, call the Visitor Center at (740) 774-1126.
URL:https://visitchillicotheohio.com/event/ranger-guided-tour-of-hopewell-mound-group/2023-07-01/
LOCATION:Hopewell Mound Group\, 4731 Sulphur Lick Road\, Chillicothe\, OH\, 45601\, United States
CATEGORIES:App Event,Event,Featured Event
ATTACH;FMTTYPE=image/jpeg:https://visitchillicotheohio.com/wp-content/uploads/2023/06/HMG-NPS-Tom-Engberg-scaled.jpg
ORGANIZER;CN="Hopewell Culture National Historical Park":MAILTO:susan_knisley@nps.gov
GEO:39.3601832;-83.0878537
X-APPLE-STRUCTURED-LOCATION;VALUE=URI;X-ADDRESS=Hopewell Mound Group 4731 Sulphur Lick Road Chillicothe OH 45601 United States;X-APPLE-RADIUS=500;X-TITLE=4731 Sulphur Lick Road:geo:-83.0878537,39.3601832
END:VEVENT
END:VCALENDAR