BEGIN:VCALENDAR
VERSION:2.0
PRODID:-//Ross-Chillicothe Convention &amp; Visitors Bureau - ECPv6.15.20//NONSGML v1.0//EN
CALSCALE:GREGORIAN
METHOD:PUBLISH
X-WR-CALNAME:Ross-Chillicothe Convention &amp; Visitors Bureau
X-ORIGINAL-URL:https://visitchillicotheohio.com
X-WR-CALDESC:Events for Ross-Chillicothe Convention &amp; Visitors Bureau
REFRESH-INTERVAL;VALUE=DURATION:PT1H
X-Robots-Tag:noindex
X-PUBLISHED-TTL:PT1H
BEGIN:VTIMEZONE
TZID:America/New_York
BEGIN:DAYLIGHT
TZOFFSETFROM:-0500
TZOFFSETTO:-0400
TZNAME:EDT
DTSTART:20220313T070000
END:DAYLIGHT
BEGIN:STANDARD
TZOFFSETFROM:-0400
TZOFFSETTO:-0500
TZNAME:EST
DTSTART:20221106T060000
END:STANDARD
BEGIN:DAYLIGHT
TZOFFSETFROM:-0500
TZOFFSETTO:-0400
TZNAME:EDT
DTSTART:20230312T070000
END:DAYLIGHT
BEGIN:STANDARD
TZOFFSETFROM:-0400
TZOFFSETTO:-0500
TZNAME:EST
DTSTART:20231105T060000
END:STANDARD
BEGIN:DAYLIGHT
TZOFFSETFROM:-0500
TZOFFSETTO:-0400
TZNAME:EDT
DTSTART:20240310T070000
END:DAYLIGHT
BEGIN:STANDARD
TZOFFSETFROM:-0400
TZOFFSETTO:-0500
TZNAME:EST
DTSTART:20241103T060000
END:STANDARD
END:VTIMEZONE
BEGIN:VEVENT
DTSTART;TZID=America/New_York:20230819T100000
DTEND;TZID=America/New_York:20230819T140000
DTSTAMP:20260419T171508
CREATED:20230207T194158Z
LAST-MODIFIED:20230207T205645Z
UID:10043644-1692439200-1692453600@visitchillicotheohio.com
SUMMARY:First Capital PRIDE 2023
DESCRIPTION:First Capital PRIDE 2023 on August 19th\, 2023 in Yoctangee Park\, Enderlin Circle\, from 10 am to 2pm. This is a family friendly event and all are welcome! Our annual walk to the courthouse and back will be around noon. Our PRIDE festival celebrates the historical achievements of LGBTQ+ individuals while highlighting the advocacy efforts of those currently working to increase awareness of LGBTQ+ community in Chillicothe\, OH. Ross County. We will feature vendors of local art\, fun activities and healthcare organizations promoting LGBTQ+ competent services. We will have a host of speakers throughout the day who will give us hope and encouragement for advocacy efforts in our community and beyond\, along with local musicians performing live. There will be food truck options available\, but we also urge festival attendees to check out the local shops in the downtown area. \nIf you are interested in learning about all the events we have planned for 2023\, please go to our website: www.firstcapitalpride.org \nIf you are a vendor who would like to participate in the festival please use this link: https://www.firstcapitalpride.org/team-1 \nIf you have interest in sponsoring our events\, please use this link: https://www.firstcapitalpride.org/become-a-sponsor
URL:https://visitchillicotheohio.com/event/first-capital-pride-2023/
LOCATION:Chillicothe City Park\, City Park\, Chillicothe\, OH\, 45601\, United States
CATEGORIES:App Event,Event,Featured Event
ATTACH;FMTTYPE=image/jpeg:https://visitchillicotheohio.com/wp-content/uploads/2023/02/FCPC-2022.jpg
END:VEVENT
END:VCALENDAR