BEGIN:VCALENDAR
VERSION:2.0
PRODID:-//Ross-Chillicothe Convention &amp; Visitors Bureau - ECPv6.15.20//NONSGML v1.0//EN
CALSCALE:GREGORIAN
METHOD:PUBLISH
X-ORIGINAL-URL:https://visitchillicotheohio.com
X-WR-CALDESC:Events for Ross-Chillicothe Convention &amp; Visitors Bureau
REFRESH-INTERVAL;VALUE=DURATION:PT1H
X-Robots-Tag:noindex
X-PUBLISHED-TTL:PT1H
BEGIN:VTIMEZONE
TZID:America/New_York
BEGIN:DAYLIGHT
TZOFFSETFROM:-0500
TZOFFSETTO:-0400
TZNAME:EDT
DTSTART:20220313T070000
END:DAYLIGHT
BEGIN:STANDARD
TZOFFSETFROM:-0400
TZOFFSETTO:-0500
TZNAME:EST
DTSTART:20221106T060000
END:STANDARD
BEGIN:DAYLIGHT
TZOFFSETFROM:-0500
TZOFFSETTO:-0400
TZNAME:EDT
DTSTART:20230312T070000
END:DAYLIGHT
BEGIN:STANDARD
TZOFFSETFROM:-0400
TZOFFSETTO:-0500
TZNAME:EST
DTSTART:20231105T060000
END:STANDARD
BEGIN:DAYLIGHT
TZOFFSETFROM:-0500
TZOFFSETTO:-0400
TZNAME:EDT
DTSTART:20240310T070000
END:DAYLIGHT
BEGIN:STANDARD
TZOFFSETFROM:-0400
TZOFFSETTO:-0500
TZNAME:EST
DTSTART:20241103T060000
END:STANDARD
END:VTIMEZONE
BEGIN:VEVENT
DTSTART;TZID=America/New_York:20230819T110000
DTEND;TZID=America/New_York:20230819T180000
DTSTAMP:20260419T104931
CREATED:20230811T125751Z
LAST-MODIFIED:20230811T125751Z
UID:10044512-1692442800-1692468000@visitchillicotheohio.com
SUMMARY:Wreaths Across America 40 et 8 Fish Stand Fundraiser
DESCRIPTION:The Nathaniel Massie Chapter of the Daughters of the American Revolution will be serving fish dinners and sandwiches on August 17\, 18\, 19 from 11:00 a.m. to 6:00 p.m. The 40 & 8 Fish Stand in Yoctangee Park will be donating the proceeds from their sales to Wreaths Across America\, with the DAR members working in the fish stand. Dinners are $8.00 and sandwiches are $5.00.\nThe Wreaths Across America is a national program that provides wreaths to decorate Veterans graves on December 16\, 2023. Nationally\, over three million wreaths are laid on graves\, with 1200 being placed on graves in Ross County cemeteries. The Nathaniel Massie chapter of the DAR encourages community members to participate in the wreath laying. Come to Greenlawn Cemetery at 10:00 a.m. on December 16th.
URL:https://visitchillicotheohio.com/event/wreaths-across-america-40-et-8-fish-stand-fundraiser/2023-08-19/
CATEGORIES:Event
ATTACH;FMTTYPE=image/png:https://visitchillicotheohio.com/wp-content/uploads/2023/08/wreaths-across-america-2.png
ORGANIZER;CN="Daughters of the American Revolution":MAILTO:ppcsmey2@gmail.com
END:VEVENT
BEGIN:VEVENT
DTSTART;TZID=America/New_York:20230818T110000
DTEND;TZID=America/New_York:20230818T180000
DTSTAMP:20260419T104931
CREATED:20230811T125751Z
LAST-MODIFIED:20230811T125751Z
UID:10044511-1692356400-1692381600@visitchillicotheohio.com
SUMMARY:Wreaths Across America 40 et 8 Fish Stand Fundraiser
DESCRIPTION:The Nathaniel Massie Chapter of the Daughters of the American Revolution will be serving fish dinners and sandwiches on August 17\, 18\, 19 from 11:00 a.m. to 6:00 p.m. The 40 & 8 Fish Stand in Yoctangee Park will be donating the proceeds from their sales to Wreaths Across America\, with the DAR members working in the fish stand. Dinners are $8.00 and sandwiches are $5.00.\nThe Wreaths Across America is a national program that provides wreaths to decorate Veterans graves on December 16\, 2023. Nationally\, over three million wreaths are laid on graves\, with 1200 being placed on graves in Ross County cemeteries. The Nathaniel Massie chapter of the DAR encourages community members to participate in the wreath laying. Come to Greenlawn Cemetery at 10:00 a.m. on December 16th.
URL:https://visitchillicotheohio.com/event/wreaths-across-america-40-et-8-fish-stand-fundraiser/2023-08-18/
CATEGORIES:Event
ATTACH;FMTTYPE=image/png:https://visitchillicotheohio.com/wp-content/uploads/2023/08/wreaths-across-america-2.png
ORGANIZER;CN="Daughters of the American Revolution":MAILTO:ppcsmey2@gmail.com
END:VEVENT
BEGIN:VEVENT
DTSTART;TZID=America/New_York:20230817T110000
DTEND;TZID=America/New_York:20230817T180000
DTSTAMP:20260419T104931
CREATED:20230811T125751Z
LAST-MODIFIED:20230811T125751Z
UID:10044510-1692270000-1692295200@visitchillicotheohio.com
SUMMARY:Wreaths Across America 40 et 8 Fish Stand Fundraiser
DESCRIPTION:The Nathaniel Massie Chapter of the Daughters of the American Revolution will be serving fish dinners and sandwiches on August 17\, 18\, 19 from 11:00 a.m. to 6:00 p.m. The 40 & 8 Fish Stand in Yoctangee Park will be donating the proceeds from their sales to Wreaths Across America\, with the DAR members working in the fish stand. Dinners are $8.00 and sandwiches are $5.00.\nThe Wreaths Across America is a national program that provides wreaths to decorate Veterans graves on December 16\, 2023. Nationally\, over three million wreaths are laid on graves\, with 1200 being placed on graves in Ross County cemeteries. The Nathaniel Massie chapter of the DAR encourages community members to participate in the wreath laying. Come to Greenlawn Cemetery at 10:00 a.m. on December 16th.
URL:https://visitchillicotheohio.com/event/wreaths-across-america-40-et-8-fish-stand-fundraiser/2023-08-17/
CATEGORIES:Event
ATTACH;FMTTYPE=image/png:https://visitchillicotheohio.com/wp-content/uploads/2023/08/wreaths-across-america-2.png
ORGANIZER;CN="Daughters of the American Revolution":MAILTO:ppcsmey2@gmail.com
END:VEVENT
END:VCALENDAR