BEGIN:VCALENDAR
VERSION:2.0
PRODID:-//Ross-Chillicothe Convention &amp; Visitors Bureau - ECPv6.15.20//NONSGML v1.0//EN
CALSCALE:GREGORIAN
METHOD:PUBLISH
X-WR-CALNAME:Ross-Chillicothe Convention &amp; Visitors Bureau
X-ORIGINAL-URL:https://visitchillicotheohio.com
X-WR-CALDESC:Events for Ross-Chillicothe Convention &amp; Visitors Bureau
REFRESH-INTERVAL;VALUE=DURATION:PT1H
X-Robots-Tag:noindex
X-PUBLISHED-TTL:PT1H
BEGIN:VTIMEZONE
TZID:America/New_York
BEGIN:DAYLIGHT
TZOFFSETFROM:-0500
TZOFFSETTO:-0400
TZNAME:EDT
DTSTART:20220313T070000
END:DAYLIGHT
BEGIN:STANDARD
TZOFFSETFROM:-0400
TZOFFSETTO:-0500
TZNAME:EST
DTSTART:20221106T060000
END:STANDARD
BEGIN:DAYLIGHT
TZOFFSETFROM:-0500
TZOFFSETTO:-0400
TZNAME:EDT
DTSTART:20230312T070000
END:DAYLIGHT
BEGIN:STANDARD
TZOFFSETFROM:-0400
TZOFFSETTO:-0500
TZNAME:EST
DTSTART:20231105T060000
END:STANDARD
BEGIN:DAYLIGHT
TZOFFSETFROM:-0500
TZOFFSETTO:-0400
TZNAME:EDT
DTSTART:20240310T070000
END:DAYLIGHT
BEGIN:STANDARD
TZOFFSETFROM:-0400
TZOFFSETTO:-0500
TZNAME:EST
DTSTART:20241103T060000
END:STANDARD
END:VTIMEZONE
BEGIN:VEVENT
DTSTART;VALUE=DATE:20230818
DTEND;VALUE=DATE:20230821
DTSTAMP:20260419T151441
CREATED:20230810T203728Z
LAST-MODIFIED:20230810T203728Z
UID:10044509-1692316800-1692575999@visitchillicotheohio.com
SUMMARY:Blade Aces knife and tomahawk throwing competition
DESCRIPTION:BLADE ACES PRECISION ACTION SPORTS HOSTS COMPETITION IN CHILLICOTHE \n[Chillicothe\, August 10] – Blade Aces\, a leading force in the world of knife throwing\, proudly announces the exciting Game of Throws knife and tomahawk throwing competition August 18-20 at White Oak Ridge event venue in Chillicothe\, Ohio. Open to the public\, see World Champion knife throwers compete live as well as try knife throwing yourself with a professional tutorial. \nMelody Joy Valerious Thomas Blade Aces co-CEO\, 12-time world champion and 6-time world record holder promises an event that will captivate fans and ignite their passion for knife throwing. “Our event in Chillicothe continues to grow each year with throwers from around the country and around the world joining us to compete.” \nRon Thomas\, co-CEO and former world champion added\, “We are pleased to continue to set the standard for competitive knife throwing.” \nKey Details:\nDates: August 18-20 8am daily start\nLocation: White Oak Ridge\, 6959 Mt. Tabor Road\, Chillicothe\, OH 45601\nEntry Fees for Competitors: $120 for Pros\, $80 for Amateurs\nFree Admission\, Free Parking for Spectators.\nFor more information\, please visit bladeaces.org. \nAbout Blade Aces:\nBlade Aces is an organization with one mission in mind: To design\, create and build the most professional\, standardized\, and fun precision projectile sports organization in the world. Designed by professional competitors for professional competitors\, the Blade Aces organization is a non-political\, non-profit entity that does not shy away from committing to competition from all over the world. \nFor media inquiries\, please contact:\nMelody Joy Valerious Thomas\, Blade Aces CEO\nPhone: 210-417-0907\nEmail: bladeaces@gmail.com\nWebsite: bladeaces.org
URL:https://visitchillicotheohio.com/event/blade-aces-knife-and-tomahawk-throwing-competition/
LOCATION:white oak ridge\, 6959 Mt. Tabor Rd\, Chillicothe\, OH\, 45601\, United States
CATEGORIES:Event
ATTACH;FMTTYPE=image/png:https://visitchillicotheohio.com/wp-content/uploads/2023/08/competitionpicture.png
ORGANIZER;CN="Blade Aces":MAILTO:bladeaces@gmail.com
END:VEVENT
END:VCALENDAR