BEGIN:VCALENDAR
VERSION:2.0
PRODID:-//Ross-Chillicothe Convention &amp; Visitors Bureau - ECPv6.15.20//NONSGML v1.0//EN
CALSCALE:GREGORIAN
METHOD:PUBLISH
X-WR-CALNAME:Ross-Chillicothe Convention &amp; Visitors Bureau
X-ORIGINAL-URL:https://visitchillicotheohio.com
X-WR-CALDESC:Events for Ross-Chillicothe Convention &amp; Visitors Bureau
REFRESH-INTERVAL;VALUE=DURATION:PT1H
X-Robots-Tag:noindex
X-PUBLISHED-TTL:PT1H
BEGIN:VTIMEZONE
TZID:America/New_York
BEGIN:DAYLIGHT
TZOFFSETFROM:-0500
TZOFFSETTO:-0400
TZNAME:EDT
DTSTART:20250309T070000
END:DAYLIGHT
BEGIN:STANDARD
TZOFFSETFROM:-0400
TZOFFSETTO:-0500
TZNAME:EST
DTSTART:20251102T060000
END:STANDARD
BEGIN:DAYLIGHT
TZOFFSETFROM:-0500
TZOFFSETTO:-0400
TZNAME:EDT
DTSTART:20260308T070000
END:DAYLIGHT
BEGIN:STANDARD
TZOFFSETFROM:-0400
TZOFFSETTO:-0500
TZNAME:EST
DTSTART:20261101T060000
END:STANDARD
BEGIN:DAYLIGHT
TZOFFSETFROM:-0500
TZOFFSETTO:-0400
TZNAME:EDT
DTSTART:20270314T070000
END:DAYLIGHT
BEGIN:STANDARD
TZOFFSETFROM:-0400
TZOFFSETTO:-0500
TZNAME:EST
DTSTART:20271107T060000
END:STANDARD
END:VTIMEZONE
BEGIN:VEVENT
DTSTART;TZID=America/New_York:20260515T170000
DTEND;TZID=America/New_York:20260517T140000
DTSTAMP:20260419T100330
CREATED:20260107T144450Z
LAST-MODIFIED:20260107T144450Z
UID:10047272-1778864400-1779026400@visitchillicotheohio.com
SUMMARY:24 Hours of Appalachia: Buckeye Blitz II
DESCRIPTION:24 Hours of Appalachia \nAn endurance overland adventure through the heart of the Appalachian Mountains \nThe 24 Hours of Appalachia is not a race. It is not a guided trail ride. It is a true test of preparation\, navigation\, teamwork\, and grit. \nCreated by overlanders and adventure riders who know these mountains intimately\, this event sends you deep into the backroads of Appalachia across West Virginia\, Kentucky\, and Ohio. Expect long gravel stretches\, remote forest roads\, technical terrain\, changing weather\, and very little sleep. You will rely on your skills\, your equipment\, and your ability to adapt. \nParticipants will navigate a continuous GPX route over a full 24-hour period\, choosing how to manage time\, fatigue\, fuel\, and recovery along the way. Whether you are in a fully built overland rig\, a side by side\, or on a dual sport or adventure bike\, the challenge is the same. Finish the route safely\, legally\, and under your own power. \nThis event is designed for those who crave real adventure. The kind that demands planning before the start\, smart decisions during the night\, and respect for the terrain and communities we travel through. \nYou will travel on public roads and legal trails\, pushing deep into areas where help is far away and self-reliance matters. Preparation is not optional. This is Appalachia\, raw and unfiltered. \nIf you are looking for something polished and easy\, this is not it.\nIf you want an unforgettable experience that will test you and your machine\, welcome. \nPrepare well. Respect the land. Trust your team.\nEarn every mile.\nEntry is Donations-Based = Supports The Rose House Domestic Violence Center \n24 Hours of Appalachia: Buckeye Blitz II
URL:https://visitchillicotheohio.com/event/24-hours-of-appalachia-buckeye-blitz-ii/
LOCATION:2nd Street – Downtown Chillicothe\, 2nd Street between Mulberry & Paint Streets.\, Chillicothe\, OH\, 45601\, United States
CATEGORIES:App Event,Event
ATTACH;FMTTYPE=image/png:https://visitchillicotheohio.com/wp-content/uploads/2026/01/BOA-2026.png
ORGANIZER;CN="Backroads of Appalachia":MAILTO:jeremiah@sofr.racing
GEO:39.3258326;-82.9802372
X-APPLE-STRUCTURED-LOCATION;VALUE=URI;X-ADDRESS=2nd Street – Downtown Chillicothe 2nd Street between Mulberry & Paint Streets. Chillicothe OH 45601 United States;X-APPLE-RADIUS=500;X-TITLE=2nd Street between Mulberry & Paint Streets.:geo:-82.9802372,39.3258326
END:VEVENT
END:VCALENDAR