BEGIN:VCALENDAR
VERSION:2.0
PRODID:-//Ross-Chillicothe Convention &amp; Visitors Bureau - ECPv6.15.20//NONSGML v1.0//EN
CALSCALE:GREGORIAN
METHOD:PUBLISH
X-WR-CALNAME:Ross-Chillicothe Convention &amp; Visitors Bureau
X-ORIGINAL-URL:https://visitchillicotheohio.com
X-WR-CALDESC:Events for Ross-Chillicothe Convention &amp; Visitors Bureau
REFRESH-INTERVAL;VALUE=DURATION:PT1H
X-Robots-Tag:noindex
X-PUBLISHED-TTL:PT1H
BEGIN:VTIMEZONE
TZID:America/New_York
BEGIN:DAYLIGHT
TZOFFSETFROM:-0500
TZOFFSETTO:-0400
TZNAME:EDT
DTSTART:20250309T070000
END:DAYLIGHT
BEGIN:STANDARD
TZOFFSETFROM:-0400
TZOFFSETTO:-0500
TZNAME:EST
DTSTART:20251102T060000
END:STANDARD
BEGIN:DAYLIGHT
TZOFFSETFROM:-0500
TZOFFSETTO:-0400
TZNAME:EDT
DTSTART:20260308T070000
END:DAYLIGHT
BEGIN:STANDARD
TZOFFSETFROM:-0400
TZOFFSETTO:-0500
TZNAME:EST
DTSTART:20261101T060000
END:STANDARD
BEGIN:DAYLIGHT
TZOFFSETFROM:-0500
TZOFFSETTO:-0400
TZNAME:EDT
DTSTART:20270314T070000
END:DAYLIGHT
BEGIN:STANDARD
TZOFFSETFROM:-0400
TZOFFSETTO:-0500
TZNAME:EST
DTSTART:20271107T060000
END:STANDARD
END:VTIMEZONE
BEGIN:VEVENT
DTSTART;TZID=America/New_York:20260423T180000
DTEND;TZID=America/New_York:20260423T190000
DTSTAMP:20260423T151839
CREATED:20260327T192313Z
LAST-MODIFIED:20260327T192313Z
UID:10048921-1776967200-1776970800@visitchillicotheohio.com
SUMMARY:Geology Club
DESCRIPTION:Rocks that are rounded and gems that are pointed. Stones and minerals that are metamorphic. Crystals that shine and make pretty rings. These are a few of my favorite things!\nFun for all\, Geology club dives deep into learning more about our planet and the minerals within it. We will ID rocks\, discuss geological current events\, and more! Not just for adults. Minors must be accompanied by an adult. See you there! \nGo to our website (link below) and check our events page for this month’s location!
URL:https://visitchillicotheohio.com/event/geology-club-2/2026-04-23/
CATEGORIES:Event
ATTACH;FMTTYPE=image/png:https://visitchillicotheohio.com/wp-content/uploads/2026/03/Geology-Club.png
ORGANIZER;CN="Ross County Park District":MAILTO:colleenmccord@rosscountyohio.gov
END:VEVENT
BEGIN:VEVENT
DTSTART;TZID=America/New_York:20260423T183000
DTEND;TZID=America/New_York:20260423T203000
DTSTAMP:20260423T151839
CREATED:20260413T202117Z
LAST-MODIFIED:20260413T202117Z
UID:10048992-1776969000-1776976200@visitchillicotheohio.com
SUMMARY:An Evening with President Grant\, Ft. Dr. Curtis Fields
DESCRIPTION:Join us for a fascinating presentation from renowned reenactor and Grant expert\, Dr. Curtis Fields. Discover the unique challenges and triumphs faced by Ulysses S. Grant as he stepped away from the military into the chaotic world of politics.  The event will be heat on April 23\, 2026 at 6:30-8:30pm
URL:https://visitchillicotheohio.com/event/an-evening-with-president-grant-ft-dr-curtis-fields/
LOCATION:The Ross County Historical Society\, 45 West Fifth St.\, Chillicothe\, OH\, 45601\, United States
CATEGORIES:App Event,Event,Featured Event
ATTACH;FMTTYPE=image/jpeg:https://visitchillicotheohio.com/wp-content/uploads/2022/04/Fields-Curtis-as-U.S.-Grant-002.jpg
GEO:39.3306687;-82.9828063
X-APPLE-STRUCTURED-LOCATION;VALUE=URI;X-ADDRESS=The Ross County Historical Society 45 West Fifth St. Chillicothe OH 45601 United States;X-APPLE-RADIUS=500;X-TITLE=45 West Fifth St.:geo:-82.9828063,39.3306687
END:VEVENT
BEGIN:VEVENT
DTSTART;TZID=America/New_York:20260424T170000
DTEND;TZID=America/New_York:20260426T110000
DTSTAMP:20260423T151839
CREATED:20260327T192405Z
LAST-MODIFIED:20260327T192405Z
UID:10048980-1777050000-1777201200@visitchillicotheohio.com
SUMMARY:Women’s Yoga and Nature Retreat
DESCRIPTION:Join us for a Women’s Getaway Weekend at Beechcliff Lodge\, nestled in the beautiful Arc of Appalachia nature preserve just outside Bainbridge\, Ohio. \nOur retreat name\, “Briefly\, We Bloom”\, is inspired by the spring ephemeral wildflowers that blanket the forest floor this time of year. These delicate blooms appear for only a short season before fading away. The word ephemeral comes from the Greek ephemeros\, meaning “lasting only a day” — a gentle reminder to savor the beauty of the present moment. \n(Saturday only and weekend options available!) During our weekend together\, we’ll hike woodland trails in search of these wildflowers\, practice yoga\, meditate\, journal\, and enjoy creative workshops featuring art and Ayurveda. You’re welcome to participate in everything or simply choose what feels good. This weekend is about honoring what you need. \nWe’ll close with “The Ephemeral Edit\,” a relaxed personal photo session to capture the spirit of your time here. Your edited images will be emailed to you after the retreat — a meaningful keepsake from a special weekend. \nThe charming 1912 lodge sits among towering beech trees beside Rocky Fork Creek\, offering the perfect space to unplug\, breathe deeply\, and reconnect. Come with a friend or arrive solo and make new ones. \n⸻ \nThe Details \nFull weekend retreat runs from 5:00 PM Friday – 11:00 AM Sunday.\nSaturday only option runs from 10 AM – 6 PM Saturday. \nEarly Bird Pricing: $300 per person for full weekend or $80 for Saturday only option\, through March 31\nIncludes:\n• Two nights of lodging (shared rooms\, two women per room\, single beds)\n• All vegetarian meals\n• All workshops and activities \nRegistration Deadline: April 13th \nMeals will be vegetarian. If you have special dietary needs\, please contact us before registering\, as we may not be able to accommodate all requests. \nCell service is limited at the lodge (Sprint is the only carrier with service on Cave Road). A short drive to Highway 50 connects to most providers — consider it a gentle invitation to unplug. \nCancellation Policy: We’re unable to offer refunds for cancellations after April 10. If you’re unable to attend\, you may transfer your spot to a female friend or family member.
URL:https://visitchillicotheohio.com/event/womens-yoga-and-nature-retreat/
LOCATION:Explorer Yoga\, 131 E Main St.\, Chillicothe\, OH\, 45601\, United States
CATEGORIES:Event
ATTACH;FMTTYPE=image/jpeg:https://visitchillicotheohio.com/wp-content/uploads/2026/03/IMG_8402-scaled.jpeg
ORGANIZER;CN="Explorer Yoga":MAILTO:discover@exploreryoga.com
GEO:39.3338;-82.9781868
X-APPLE-STRUCTURED-LOCATION;VALUE=URI;X-ADDRESS=Explorer Yoga 131 E Main St. Chillicothe OH 45601 United States;X-APPLE-RADIUS=500;X-TITLE=131 E Main St.:geo:-82.9781868,39.3338
END:VEVENT
BEGIN:VEVENT
DTSTART;TZID=America/New_York:20260424T180000
DTEND;TZID=America/New_York:20260424T200000
DTSTAMP:20260423T151839
CREATED:20260423T140656Z
LAST-MODIFIED:20260423T140656Z
UID:10049018-1777053600-1777060800@visitchillicotheohio.com
SUMMARY:Dendrology 101
DESCRIPTION:“Metahqua” is the Shawnee word for “tree” and what better place to learn about identifying trees? There are how many different oak trees!? And how many maples!? Don’t get discouraged\, we are here to help! Let’s learn how to identify our local woody giants. Join Naturalist Ted for an evening of fun and TREES! Wear good hiking boots and dress for inclement weather. We will hike about 2 miles of moderate up and downhill terrain. No dogs please.\nMeet at the kiosk.
URL:https://visitchillicotheohio.com/event/dendrology-101/
LOCATION:Metahqua Nature Preserve\, 3663 Walnut Creek Road\, Chillicothe\, OH\, 45601\, United States
CATEGORIES:App Event,Event,Featured Event
ATTACH;FMTTYPE=image/jpeg:https://visitchillicotheohio.com/wp-content/uploads/2026/04/dendrology.jpg
GEO:39.3763509;-82.848751
X-APPLE-STRUCTURED-LOCATION;VALUE=URI;X-ADDRESS=Metahqua Nature Preserve 3663 Walnut Creek Road Chillicothe OH 45601 United States;X-APPLE-RADIUS=500;X-TITLE=3663 Walnut Creek Road:geo:-82.848751,39.3763509
END:VEVENT
BEGIN:VEVENT
DTSTART;TZID=America/New_York:20260424T193000
DTEND;TZID=America/New_York:20260424T213000
DTSTAMP:20260423T151839
CREATED:20260310T155649Z
LAST-MODIFIED:20260310T155649Z
UID:10047606-1777059000-1777066200@visitchillicotheohio.com
SUMMARY:A Foreigner's Journey to Boston
DESCRIPTION:Experience the magic of three legendary bands—Foreigner\, Journey\, and Boston—brought to life by a powerhouse tribute group. Fronted by Brandon Miller Touring guitarist of the Artimus Pyle Band and Rock and Roll Hall of Fame drummer of Lynyrd Skynyrd\, A Foreigner’s Journey to Boston delivers the iconic hits that defined a generation. \nGet Tickets
URL:https://visitchillicotheohio.com/event/a-foreigners-journey-to-boston/
LOCATION:Majestic Theatre\, 45 E. Second Street\, Chillicothe\, OH\, 45601\, United States
CATEGORIES:App Event,Event,Featured Event
ATTACH;FMTTYPE=image/png:https://visitchillicotheohio.com/wp-content/uploads/2026/03/AFJTB_HORIZONTAL.png
GEO:39.3349771;-82.9810456
X-APPLE-STRUCTURED-LOCATION;VALUE=URI;X-ADDRESS=Majestic Theatre 45 E. Second Street Chillicothe OH 45601 United States;X-APPLE-RADIUS=500;X-TITLE=45 E. Second Street:geo:-82.9810456,39.3349771
END:VEVENT
BEGIN:VEVENT
DTSTART;TZID=America/New_York:20260425T100000
DTEND;TZID=America/New_York:20260425T120000
DTSTAMP:20260423T151839
CREATED:20251029T145330Z
LAST-MODIFIED:20251029T145330Z
UID:10046832-1777111200-1777118400@visitchillicotheohio.com
SUMMARY:Chillicothe Farmers Market
DESCRIPTION:Outdoor year-round farmers market offering homegrown fruits\, vegetables\, and flowers\, as well as artisanal breads\, maple syrup\, coffee\, hot sauce\, candles\, meat\, eggs\, and MORE!
URL:https://visitchillicotheohio.com/event/chillicothe-farmers-market/2026-04-25/
LOCATION:Ross County Service Center\, 475 Western Ave. Suite F\, Chillicothe\, OH\, 45601\, United States
CATEGORIES:Event,Featured Event
ATTACH;FMTTYPE=image/png:https://visitchillicotheohio.com/wp-content/uploads/2025/10/Saturdays-10-am-to-12-pm.png
ORGANIZER;CN="Chillicothe Farmers Market Association":MAILTO:chillicotheohfarmersmarket@gmail.com
GEO:39.3349929;-83.0031767
X-APPLE-STRUCTURED-LOCATION;VALUE=URI;X-ADDRESS=Ross County Service Center 475 Western Ave. Suite F Chillicothe OH 45601 United States;X-APPLE-RADIUS=500;X-TITLE=475 Western Ave. Suite F:geo:-83.0031767,39.3349929
END:VEVENT
BEGIN:VEVENT
DTSTART;TZID=America/New_York:20260425T193000
DTEND;TZID=America/New_York:20260425T213000
DTSTAMP:20260423T151839
CREATED:20260109T142353Z
LAST-MODIFIED:20260109T142353Z
UID:10047287-1777145400-1777152600@visitchillicotheohio.com
SUMMARY:Dirty Deeds: XTreme AC/DC Tribute Band
DESCRIPTION:The “DIRTY DEEDS” concert experience is truly extreme featuring “two” high energy shows complete with exciting stage props and non stop action! The first show is dedicated to the Bon Scott era and the second show is a tribute to the Brian Johnson era. \nAssembled by former members of several popular AC/DC tribute bands. This all-star cast is bringing the ultimate AC/DC tribute show to new heights with the most accurate recreation of the AC/DC music and stage show; second to none! \nThis tribute will literally leave you shell shocked and screaming for more! Dirty Deeds beats the competition hands down and constantly strives to set the gold standard for accuracy and professionalism on every level. \nGet Tickets
URL:https://visitchillicotheohio.com/event/dirty-deeds-xtreme-ac-dc-tribute-band/
LOCATION:Majestic Theatre\, 45 E. Second Street\, Chillicothe\, OH\, 45601\, United States
CATEGORIES:App Event,Event,Featured Event
ATTACH;FMTTYPE=image/jpeg:https://visitchillicotheohio.com/wp-content/uploads/2026/01/Dirty-Deeds-ACDC.jpg
GEO:39.3349771;-82.9810456
X-APPLE-STRUCTURED-LOCATION;VALUE=URI;X-ADDRESS=Majestic Theatre 45 E. Second Street Chillicothe OH 45601 United States;X-APPLE-RADIUS=500;X-TITLE=45 E. Second Street:geo:-82.9810456,39.3349771
END:VEVENT
BEGIN:VEVENT
DTSTART;TZID=America/New_York:20260426T140000
DTEND;TZID=America/New_York:20260426T160000
DTSTAMP:20260423T151839
CREATED:20260423T141017Z
LAST-MODIFIED:20260423T141017Z
UID:10049019-1777212000-1777219200@visitchillicotheohio.com
SUMMARY:Mushroom Hike
DESCRIPTION:Believe it or not\, one of the oldest living things on the planet is… MUSHROOMS! Mycelium has been around for over 1 BILLION years and performs some incredibly important roles within our ecosystem. Want to learn even more about mushrooms\, where to find them\, and how to ID them? Grab your boots and a bottle of water and join us for an afternoon with a few Fun-gi’s. Please\, no dogs.\nMeet at the kiosk.
URL:https://visitchillicotheohio.com/event/mushroom-hike/
LOCATION:Metahqua Nature Preserve\, 3663 Walnut Creek Road\, Chillicothe\, OH\, 45601\, United States
CATEGORIES:App Event,Event,Featured Event
ATTACH;FMTTYPE=image/jpeg:https://visitchillicotheohio.com/wp-content/uploads/2026/04/mushroomhike.jpg
GEO:39.3763509;-82.848751
X-APPLE-STRUCTURED-LOCATION;VALUE=URI;X-ADDRESS=Metahqua Nature Preserve 3663 Walnut Creek Road Chillicothe OH 45601 United States;X-APPLE-RADIUS=500;X-TITLE=3663 Walnut Creek Road:geo:-82.848751,39.3763509
END:VEVENT
BEGIN:VEVENT
DTSTART;TZID=America/New_York:20260428T090000
DTEND;TZID=America/New_York:20260428T100000
DTSTAMP:20260423T151839
CREATED:20260216T180816Z
LAST-MODIFIED:20260216T180816Z
UID:10047566-1777366800-1777370400@visitchillicotheohio.com
SUMMARY:Join the Fight Against Invasive Plants at Mound City Group
DESCRIPTION:Join us throughout the month of April to combat the invasive plant garlic mustard (Alliaria petiolata)! Volunteers are required to attend one training session to receive information on proper identification and safety techniques for the removal of garlic mustard from park grounds. \nSaturday\, March 14\n9 am\, 11 am\, or 1 pm\nCall 740-774-1126 to sign up for one of these 30-minute training sessions to become a Certified Volunteer! \nTraining Tuesdays in April at 9 am\nSimply show up for these training sessions to become a Certified Volunteer! \nOnce trained\, Certified Volunteers can stop by any day in April\, from 9 am to 3 pm\, to help with garlic mustard removal.  \nBags\, gloves\, insect repellant\, and sunscreen will be provided.
URL:https://visitchillicotheohio.com/event/join-the-fight-against-invasive-plants-at-mound-city-group/2026-04-28/
LOCATION:Mound City Group Visitor Center\, 16062 SR 104\, Chillicothe\, OH\, 45601\, United States
CATEGORIES:App Event,Event
ATTACH;FMTTYPE=image/jpeg:https://visitchillicotheohio.com/wp-content/uploads/2026/02/mustard-post.jpg
GEO:39.3736534;-83.0073148
X-APPLE-STRUCTURED-LOCATION;VALUE=URI;X-ADDRESS=Mound City Group Visitor Center 16062 SR 104 Chillicothe OH 45601 United States;X-APPLE-RADIUS=500;X-TITLE=16062 SR 104:geo:-83.0073148,39.3736534
END:VEVENT
BEGIN:VEVENT
DTSTART;TZID=America/New_York:20260429T170000
DTEND;TZID=America/New_York:20260429T210000
DTSTAMP:20260423T151839
CREATED:20251229T190058Z
LAST-MODIFIED:20251229T190127Z
UID:10047242-1777482000-1777496400@visitchillicotheohio.com
SUMMARY:"Music in the Park"
DESCRIPTION:Every Thursday (weather permitting) EXCEPT the 1st Thursday of each Month. Each week will be a different theme. \nChillicothe City Park (Lakeside) bring your lawn chairs\, use the shelters\, sit in the comfort of your cars. take a walk in the park\, & if you feel like dancing (help yourself)\n5:00-9:00 pm.\nOpen to the pubic (so grab a friend)\nfree events\n:Will post day of if cancelled for more information contact text or call 740-703-6367 fb: Hazel Tanner
URL:https://visitchillicotheohio.com/event/music-in-the-park-2-2/2026-04-29/
LOCATION:Chillicothe City Park\, City Park\, Chillicothe\, OH\, 45601\, United States
CATEGORIES:Event
ATTACH;FMTTYPE=image/jpeg:https://visitchillicotheohio.com/wp-content/uploads/2023/06/Music-In-Park.jpg
END:VEVENT
BEGIN:VEVENT
DTSTART;TZID=America/New_York:20260429T173000
DTEND;TZID=America/New_York:20260429T183000
DTSTAMP:20260423T151839
CREATED:20260413T201334Z
LAST-MODIFIED:20260413T201334Z
UID:10048991-1777483800-1777487400@visitchillicotheohio.com
SUMMARY:Non-Fiction Book Club
DESCRIPTION:Join us each month as we explore engaging nonfiction titles ranging from recent releases to timeless classics and biographies.\nWhere the love of history meets reading\, this is your place to be. We will also view artifacts from the Ross County Historical Society each month. Physical books will be available at Main Library and Northside Branch\, with digital copies available at CRCPL.org. \nApril: The Wingmen: the unlikely\, unusual\, unbreakable friendship between John Glenn and Ted Williams by Adam Lazarus
URL:https://visitchillicotheohio.com/event/non-fiction-book-club/
LOCATION:The Ross County Historical Society\, 45 West Fifth St.\, Chillicothe\, OH\, 45601\, United States
CATEGORIES:App Event,Event
ATTACH;FMTTYPE=image/jpeg:https://visitchillicotheohio.com/wp-content/uploads/2026/04/book-club-april.jpg
GEO:39.3306687;-82.9828063
X-APPLE-STRUCTURED-LOCATION;VALUE=URI;X-ADDRESS=The Ross County Historical Society 45 West Fifth St. Chillicothe OH 45601 United States;X-APPLE-RADIUS=500;X-TITLE=45 West Fifth St.:geo:-82.9828063,39.3306687
END:VEVENT
END:VCALENDAR